BEGIN:VCALENDAR
VERSION:2.0
PRODID:-//127.0.1.1//NONSGML kigkonsult.se iCalcreator 2.41.92//
CALSCALE:GREGORIAN
METHOD:PUBLISH
UID:37336333-3034-4534-b732-653861636533
X-WR-CALNAME:Foundations of Cybersecurity 1 Calendar
X-WR-CALDESC:Events of the lecture Foundations of Cybersecurity 1
X-WR-TIMEZONE:Europe/Berlin
BEGIN:VEVENT
UID:37373636-3839-4463-b236-623937626462
DTSTAMP:20260421T235446Z
DESCRIPTION:
DTSTART:20211018T100000Z
DTEND:20211018T120000Z
LOCATION:GHH (E2.2)
SUMMARY:Lecture
END:VEVENT
BEGIN:VEVENT
UID:37393665-3737-4839-b134-306132383431
DTSTAMP:20260421T235446Z
DESCRIPTION:
DTSTART:20211025T100000Z
DTEND:20211025T120000Z
LOCATION:GHH (E2.2)
SUMMARY:Lecture
END:VEVENT
BEGIN:VEVENT
UID:36636231-3139-4638-b937-353937623066
DTSTAMP:20260421T235446Z
DESCRIPTION:Basic of Crypography 2: Hashes and MACs\, Asymmetric Cryptograp
 hy (Diffie-Hellman\, Elgamal)
DTSTART:20211108T110000Z
DTEND:20211108T130000Z
LOCATION:GHH (E2.2)
SUMMARY:Lecture
END:VEVENT
BEGIN:VEVENT
UID:32363435-3765-4337-b361-613231336536
DTSTAMP:20260421T235446Z
DESCRIPTION:Basic of Crypography 3: Asymmetric Cryptography (RSA)\, Public 
 Key Infrastructure
DTSTART:20211115T110000Z
DTEND:20211115T130000Z
LOCATION:GHH (E2.2)
SUMMARY:Lecture
END:VEVENT
BEGIN:VEVENT
UID:66323765-3039-4861-b634-636364363363
DTSTAMP:20260421T235446Z
DESCRIPTION:Authentication
DTSTART:20211122T110000Z
DTEND:20211122T130000Z
LOCATION:GHH (E2.2)
SUMMARY:Lecture
END:VEVENT
BEGIN:VEVENT
UID:65366366-3266-4264-b837-613639663465
DTSTAMP:20260421T235446Z
DESCRIPTION:Network Security 1: LAN\, WLAN\, ARP\, and DHCP
DTSTART:20211129T110000Z
DTEND:20211129T130000Z
LOCATION:GHH (E2.2)
SUMMARY:Lecture
END:VEVENT
BEGIN:VEVENT
UID:32366231-6631-4136-b166-343730653336
DTSTAMP:20260421T235446Z
DESCRIPTION:Network Security 2: IPv4\, IPv6\, Routing
DTSTART:20211206T110000Z
DTEND:20211206T130000Z
LOCATION:GHH (E2.2)
SUMMARY:Lecture
END:VEVENT
BEGIN:VEVENT
UID:30666461-3733-4332-b831-333266376164
DTSTAMP:20260421T235446Z
DESCRIPTION:Network Security 3: UDP\, TCP\, and Firewalls
DTSTART:20211213T110000Z
DTEND:20211213T130000Z
LOCATION:GHH (E2.2)
SUMMARY:Lecture
END:VEVENT
BEGIN:VEVENT
UID:66626534-3161-4963-b832-646137393163
DTSTAMP:20260421T235446Z
DESCRIPTION:Network Security 4: DNS and DNSSEC
DTSTART:20220103T110000Z
DTEND:20220103T130000Z
LOCATION:GHH (E2.2)
SUMMARY:Lecture
END:VEVENT
BEGIN:VEVENT
UID:35363238-3839-4462-a662-316263383263
DTSTAMP:20260421T235446Z
DESCRIPTION:Network Security 5: TLS\, HTTPS\, and Certificate Management
DTSTART:20220110T110000Z
DTEND:20220110T130000Z
LOCATION:GHH (E2.2)
SUMMARY:Lecture
END:VEVENT
BEGIN:VEVENT
UID:38663266-3364-4363-b835-306639306532
DTSTAMP:20260421T235446Z
DESCRIPTION:Network Security 6: Denial of Service and Anonymous Communicati
 on\; Database Privacy
DTSTART:20220117T110000Z
DTEND:20220117T130000Z
LOCATION:GHH (E2.2)
SUMMARY:Lecture
END:VEVENT
BEGIN:VEVENT
UID:30616565-3431-4432-a461-353565613338
DTSTAMP:20260421T235446Z
DESCRIPTION:Web Security
DTSTART:20220131T110000Z
DTEND:20220131T130000Z
LOCATION:GHH (E2.2)
SUMMARY:Lecture
END:VEVENT
BEGIN:VEVENT
UID:32643666-3339-4164-b135-363266313666
DTSTAMP:20260421T235446Z
DESCRIPTION:Exam Preparation
DTSTART:20220207T110000Z
DTEND:20220207T130000Z
LOCATION:GHH (E2.2)
SUMMARY:Lecture
END:VEVENT
END:VCALENDAR
