BEGIN:VCALENDAR
VERSION:2.0
PRODID:-//127.0.1.1//NONSGML kigkonsult.se iCalcreator 2.41.92//
CALSCALE:GREGORIAN
METHOD:PUBLISH
UID:66306439-3037-4265-a261-636532643065
X-WR-CALNAME:Foundations of Cybersecurity 1 Calendar
X-WR-CALDESC:Events of the lecture Foundations of Cybersecurity 1
X-WR-TIMEZONE:Europe/Berlin
BEGIN:VEVENT
UID:63373465-3731-4162-a534-623038343831
DTSTAMP:20260421T235312Z
DESCRIPTION:Introduction into Python Programming for Beginners\nLink: https
 ://cispa-de.zoom.us/j/92835525369?pwd=RmZNRDFRdW1rOEE1dnMrWUZFSTZIZz09
DTSTART:20211022T120000Z
DTEND:20211022T140000Z
LOCATION:Online
SUMMARY:Cysec1: Python 101
END:VEVENT
END:VCALENDAR
