BEGIN:VCALENDAR
VERSION:2.0
PRODID:-//127.0.1.1//NONSGML kigkonsult.se iCalcreator 2.41.92//
CALSCALE:GREGORIAN
METHOD:PUBLISH
UID:66333361-6336-4862-b062-323734623461
X-WR-CALNAME:Foundations of Cybersecurity 1 Calendar
X-WR-CALDESC:Events of the lecture Foundations of Cybersecurity 1
X-WR-TIMEZONE:Europe/Berlin
BEGIN:VEVENT
UID:63363763-3461-4233-a237-336131616164
DTSTAMP:20260421T235828Z
DESCRIPTION:OH for questions on the exercise sheet which was handed out on 
 Monday.\nLink: https://cispa-de.zoom.us/j/94179009397?pwd=K2lJUHMvVGpKeXpr
 c0hWWWh4ZzZsdz09
DTSTART:20211109T080000Z
DTEND:20211109T100000Z
LOCATION:Zoom (Online)
SUMMARY:Cysec1: Office Hour
END:VEVENT
BEGIN:VEVENT
UID:33316638-6665-4237-b732-393731343665
DTSTAMP:20260421T235828Z
DESCRIPTION:OH for questions on the exercise sheet which was handed out on 
 Monday.\nLink: https://cispa-de.zoom.us/j/94179009397?pwd=K2lJUHMvVGpKeXpr
 c0hWWWh4ZzZsdz09
DTSTART:20211116T080000Z
DTEND:20211116T100000Z
LOCATION:Zoom (Online)
SUMMARY:Cysec1: Office Hour
END:VEVENT
BEGIN:VEVENT
UID:62336133-6465-4666-b633-363630316465
DTSTAMP:20260421T235828Z
DESCRIPTION:OH for questions on the exercise sheet which was handed out on 
 Monday.\nLink: https://cispa-de.zoom.us/j/94179009397?pwd=K2lJUHMvVGpKeXpr
 c0hWWWh4ZzZsdz09
DTSTART:20211123T080000Z
DTEND:20211123T100000Z
LOCATION:Zoom (Online)
SUMMARY:Cysec1: Office Hour
END:VEVENT
BEGIN:VEVENT
UID:66313363-3066-4635-a331-366632633663
DTSTAMP:20260421T235828Z
DESCRIPTION:OH for questions on the exercise sheet which was handed out on 
 Monday.\nLink: https://cispa-de.zoom.us/j/94179009397?pwd=K2lJUHMvVGpKeXpr
 c0hWWWh4ZzZsdz09
DTSTART:20211130T080000Z
DTEND:20211130T100000Z
LOCATION:Zoom (Online)
SUMMARY:Cysec1: Office Hour
END:VEVENT
BEGIN:VEVENT
UID:65336532-3963-4934-b761-303636383533
DTSTAMP:20260421T235828Z
DESCRIPTION:OH for questions on the exercise sheet which was handed out on 
 Monday.\nLink: https://cispa-de.zoom.us/j/94179009397?pwd=K2lJUHMvVGpKeXpr
 c0hWWWh4ZzZsdz09
DTSTART:20211207T080000Z
DTEND:20211207T100000Z
LOCATION:Zoom (Online)
SUMMARY:Cysec1: Office Hour
END:VEVENT
BEGIN:VEVENT
UID:66666364-3265-4566-a336-303733626163
DTSTAMP:20260421T235828Z
DESCRIPTION:OH for questions on the exercise sheet which was handed out on 
 Monday.\nLink: https://cispa-de.zoom.us/j/94179009397?pwd=K2lJUHMvVGpKeXpr
 c0hWWWh4ZzZsdz09
DTSTART:20211214T080000Z
DTEND:20211214T100000Z
LOCATION:Zoom (Online)
SUMMARY:Cysec1: Office Hour
END:VEVENT
BEGIN:VEVENT
UID:64623830-3030-4331-a238-366532343264
DTSTAMP:20260421T235828Z
DESCRIPTION:OH for questions on the exercise sheet which was handed out on 
 Monday.\nLink: https://cispa-de.zoom.us/j/94179009397?pwd=K2lJUHMvVGpKeXpr
 c0hWWWh4ZzZsdz09
DTSTART:20220104T080000Z
DTEND:20220104T100000Z
LOCATION:Zoom (Online)
SUMMARY:Cysec1: Office Hour
END:VEVENT
BEGIN:VEVENT
UID:38383862-3065-4236-b062-643232326163
DTSTAMP:20260421T235828Z
DESCRIPTION:OH for questions on the exercise sheet which was handed out on 
 Monday.\nLink: https://cispa-de.zoom.us/j/94179009397?pwd=K2lJUHMvVGpKeXpr
 c0hWWWh4ZzZsdz09
DTSTART:20220111T080000Z
DTEND:20220111T100000Z
LOCATION:Zoom (Online)
SUMMARY:Cysec1: Office Hour
END:VEVENT
BEGIN:VEVENT
UID:32346437-6530-4261-a661-366333326634
DTSTAMP:20260421T235828Z
DESCRIPTION:OH for questions on the exercise sheet which was handed out on 
 Monday.\nLink: https://cispa-de.zoom.us/j/94179009397?pwd=K2lJUHMvVGpKeXpr
 c0hWWWh4ZzZsdz09
DTSTART:20220118T080000Z
DTEND:20220118T100000Z
LOCATION:Zoom (Online)
SUMMARY:Cysec1: Office Hour
END:VEVENT
BEGIN:VEVENT
UID:36363137-6136-4135-a430-363562396463
DTSTAMP:20260421T235828Z
DESCRIPTION:OH for questions on the exercise sheet which was handed out on 
 Monday.\nLink: https://cispa-de.zoom.us/j/94179009397?pwd=K2lJUHMvVGpKeXpr
 c0hWWWh4ZzZsdz09
DTSTART:20220125T080000Z
DTEND:20220125T100000Z
LOCATION:Zoom (Online)
SUMMARY:Cysec1: Office Hour
END:VEVENT
BEGIN:VEVENT
UID:30313534-3835-4939-b035-353637333065
DTSTAMP:20260421T235828Z
DESCRIPTION:OH for questions on the exercise sheet which was handed out on 
 Monday.\nLink: https://cispa-de.zoom.us/j/94179009397?pwd=K2lJUHMvVGpKeXpr
 c0hWWWh4ZzZsdz09
DTSTART:20220201T080000Z
DTEND:20220201T100000Z
LOCATION:Zoom (Online)
SUMMARY:Cysec1: Office Hour
END:VEVENT
BEGIN:VEVENT
UID:30396638-3830-4736-b462-366464343331
DTSTAMP:20260421T235828Z
DESCRIPTION:OH for questions on the exercise sheet which was handed out on 
 Monday.\nLink: https://cispa-de.zoom.us/j/94179009397?pwd=K2lJUHMvVGpKeXpr
 c0hWWWh4ZzZsdz09
DTSTART:20220208T080000Z
DTEND:20220208T100000Z
LOCATION:Zoom (Online)
SUMMARY:Cysec1: Office Hour
END:VEVENT
END:VCALENDAR
