BEGIN:VCALENDAR
VERSION:2.0
PRODID:-//127.0.1.1//NONSGML kigkonsult.se iCalcreator 2.41.92//
CALSCALE:GREGORIAN
METHOD:PUBLISH
UID:66643531-3366-4566-a663-643631666366
X-WR-CALNAME:Foundations of Cybersecurity 1 Calendar
X-WR-CALDESC:Events of the lecture Foundations of Cybersecurity 1
X-WR-TIMEZONE:Europe/Berlin
BEGIN:VEVENT
UID:65653732-3931-4666-b961-386265336139
DTSTAMP:20260421T235628Z
DESCRIPTION:
DTSTART:20220331T080000Z
DTEND:20220331T100000Z
LOCATION:GHH
SUMMARY:Backup Exam
END:VEVENT
END:VCALENDAR
