BEGIN:VCALENDAR
VERSION:2.0
PRODID:-//127.0.1.1//NONSGML kigkonsult.se iCalcreator 2.41.92//
CALSCALE:GREGORIAN
METHOD:PUBLISH
UID:35656564-3933-4636-b235-646661366131
X-WR-CALNAME:Foundations of Cybersecurity 1 Calendar
X-WR-CALDESC:Events of the lecture Foundations of Cybersecurity 1
X-WR-TIMEZONE:Europe/Berlin
BEGIN:VEVENT
UID:38653438-3935-4463-b563-386337353233
DTSTAMP:20260421T235434Z
DESCRIPTION:
DTSTART:20220331T080000Z
DTEND:20220331T100000Z
LOCATION:GHH
SUMMARY:Cysec1: Backup Exam
END:VEVENT
END:VCALENDAR
