BEGIN:VCALENDAR
VERSION:2.0
PRODID:-//127.0.1.1//NONSGML kigkonsult.se iCalcreator 2.41.92//
CALSCALE:GREGORIAN
METHOD:PUBLISH
UID:34383838-6634-4262-a438-356237373739
X-WR-CALNAME:Foundations of Cybersecurity 2 Calendar
X-WR-CALDESC:Events of the lecture Foundations of Cybersecurity 2
X-WR-TIMEZONE:Europe/Berlin
BEGIN:VEVENT
UID:38656435-3439-4232-a265-393634636437
DTSTAMP:20260425T190825Z
DESCRIPTION:Tutor: Fabian Pütz
DTSTART:20250414T080000Z
DTEND:20250414T100000Z
LOCATION:SR014 (E 1 3)
SUMMARY:Tutorial #1
END:VEVENT
BEGIN:VEVENT
UID:33626163-3230-4136-b864-626230373165
DTSTAMP:20260425T190825Z
DESCRIPTION:Tutor: Simon Einzinger
DTSTART:20250415T100000Z
DTEND:20250415T120000Z
LOCATION:SR014 (E 1 3)
SUMMARY:Tutorial #2
END:VEVENT
BEGIN:VEVENT
UID:63663632-3461-4339-b632-396436613531
DTSTAMP:20260425T190825Z
DESCRIPTION:Tutor: Willy Steinhart
DTSTART:20250416T100000Z
DTEND:20250416T120000Z
LOCATION:HS003 (E 1 3)
SUMMARY:Tutorial #3
END:VEVENT
BEGIN:VEVENT
UID:30346633-3466-4963-b365-386265333138
DTSTAMP:20260425T190825Z
DESCRIPTION:Tutor: Simon Einzinger
DTSTART:20250422T100000Z
DTEND:20250422T120000Z
LOCATION:SR014 (E 1 3)
SUMMARY:Tutorial #2
END:VEVENT
BEGIN:VEVENT
UID:38633766-3264-4239-a338-396364333036
DTSTAMP:20260425T190825Z
DESCRIPTION:Tutor: Willy Steinhart
DTSTART:20250423T100000Z
DTEND:20250423T120000Z
LOCATION:HS003 (E 1 3)
SUMMARY:Tutorial #3
END:VEVENT
BEGIN:VEVENT
UID:37643934-3231-4861-b438-393034663864
DTSTAMP:20260425T190825Z
DESCRIPTION:Tutor: Fabian Pütz
DTSTART:20250428T080000Z
DTEND:20250428T100000Z
LOCATION:SR014 (E 1 3)
SUMMARY:Tutorial #1
END:VEVENT
BEGIN:VEVENT
UID:61376136-6232-4066-a566-663431613530
DTSTAMP:20260425T190825Z
DESCRIPTION:Tutor: Simon Einzinger
DTSTART:20250429T100000Z
DTEND:20250429T120000Z
LOCATION:SR014 (E 1 3)
SUMMARY:Tutorial #2
END:VEVENT
BEGIN:VEVENT
UID:30303435-3737-4431-b937-303937323837
DTSTAMP:20260425T190825Z
DESCRIPTION:Tutor: Willy Steinhart
DTSTART:20250430T100000Z
DTEND:20250430T120000Z
LOCATION:HS003 (E 1 3)
SUMMARY:Tutorial #3
END:VEVENT
BEGIN:VEVENT
UID:62393161-3736-4633-a563-316434363766
DTSTAMP:20260425T190825Z
DESCRIPTION:
DTSTART:20250506T100000Z
DTEND:20250506T120000Z
LOCATION:SR014 (E 1 3)
SUMMARY:Pwntools Tutorial #1
END:VEVENT
BEGIN:VEVENT
UID:39333661-3339-4863-b865-363936646236
DTSTAMP:20260425T190825Z
DESCRIPTION:
DTSTART:20250507T100000Z
DTEND:20250507T120000Z
LOCATION:HS003 (E 1 3)
SUMMARY:Pwntools Tutorial #2
END:VEVENT
BEGIN:VEVENT
UID:32383065-6236-4062-b032-333337383332
DTSTAMP:20260425T190825Z
DESCRIPTION:Tutor: Fabian Pütz
DTSTART:20250512T080000Z
DTEND:20250512T100000Z
LOCATION:SR014 (E 1 3)
SUMMARY:Tutorial #1
END:VEVENT
BEGIN:VEVENT
UID:62376234-3739-4039-b136-653931613936
DTSTAMP:20260425T190825Z
DESCRIPTION:Tutor: Simon Einzinger
DTSTART:20250513T100000Z
DTEND:20250513T120000Z
LOCATION:SR014 (E 1 3)
SUMMARY:Tutorial #2
END:VEVENT
BEGIN:VEVENT
UID:63333130-6235-4336-a264-663566346435
DTSTAMP:20260425T190825Z
DESCRIPTION:Tutor: Willy Steinhart
DTSTART:20250514T100000Z
DTEND:20250514T120000Z
LOCATION:HS003 (E 1 3)
SUMMARY:Tutorial #3
END:VEVENT
BEGIN:VEVENT
UID:39333039-3464-4565-b534-356333653066
DTSTAMP:20260425T190825Z
DESCRIPTION:Tutor: Fabian Pütz
DTSTART:20250519T080000Z
DTEND:20250519T100000Z
LOCATION:SR014 (E 1 3)
SUMMARY:Tutorial #1
END:VEVENT
BEGIN:VEVENT
UID:30323836-6235-4539-a438-323830383464
DTSTAMP:20260425T190825Z
DESCRIPTION:Tutor: Simon Einzinger
DTSTART:20250520T100000Z
DTEND:20250520T120000Z
LOCATION:SR014 (E 1 3)
SUMMARY:Tutorial #2
END:VEVENT
BEGIN:VEVENT
UID:34643066-6130-4333-b266-393336663437
DTSTAMP:20260425T190825Z
DESCRIPTION:Tutor: Willy Steinhart
DTSTART:20250521T100000Z
DTEND:20250521T120000Z
LOCATION:HS003 (E 1 3)
SUMMARY:Tutorial #3
END:VEVENT
BEGIN:VEVENT
UID:30383766-3337-4361-a335-643862613062
DTSTAMP:20260425T190825Z
DESCRIPTION:Tutor: Fabian Pütz
DTSTART:20250526T080000Z
DTEND:20250526T100000Z
LOCATION:SR014 (E 1 3)
SUMMARY:Tutorial #1
END:VEVENT
BEGIN:VEVENT
UID:65383663-6236-4262-b730-313331376137
DTSTAMP:20260425T190825Z
DESCRIPTION:Tutor: Simon Einzinger
DTSTART:20250527T100000Z
DTEND:20250527T120000Z
LOCATION:SR014 (E 1 3)
SUMMARY:Tutorial #2
END:VEVENT
BEGIN:VEVENT
UID:39373233-3663-4663-a634-326235346131
DTSTAMP:20260425T190825Z
DESCRIPTION:Tutor: Willy Steinhart
DTSTART:20250528T100000Z
DTEND:20250528T120000Z
LOCATION:HS003 (E 1 3)
SUMMARY:Tutorial #3
END:VEVENT
BEGIN:VEVENT
UID:38386439-3833-4439-b662-383837636338
DTSTAMP:20260425T190825Z
DESCRIPTION:
DTSTART:20250603T100000Z
DTEND:20250603T120000Z
LOCATION:SR014 (E 1 3)
SUMMARY:Pwntools Tutorial #1
END:VEVENT
BEGIN:VEVENT
UID:34306662-3634-4334-b933-333732363932
DTSTAMP:20260425T190825Z
DESCRIPTION:
DTSTART:20250604T100000Z
DTEND:20250604T120000Z
LOCATION:HS003 (E 1 3)
SUMMARY:Pwntools Tutorial #2
END:VEVENT
BEGIN:VEVENT
UID:36663164-3561-4465-a262-333861643061
DTSTAMP:20260425T190825Z
DESCRIPTION:Tutor: Simon Einzinger
DTSTART:20250610T100000Z
DTEND:20250610T120000Z
LOCATION:SR014 (E 1 3)
SUMMARY:Tutorial #2
END:VEVENT
BEGIN:VEVENT
UID:61646262-3365-4132-a636-383330633437
DTSTAMP:20260425T190825Z
DESCRIPTION:Tutor: Willy Steinhart
DTSTART:20250611T100000Z
DTEND:20250611T120000Z
LOCATION:HS003 (E 1 3)
SUMMARY:Tutorial #3
END:VEVENT
BEGIN:VEVENT
UID:62393039-6634-4132-b632-383939343162
DTSTAMP:20260425T190825Z
DESCRIPTION:Tutor: Fabian Pütz
DTSTART:20250616T080000Z
DTEND:20250616T100000Z
LOCATION:SR014 (E 1 3)
SUMMARY:Tutorial #1
END:VEVENT
BEGIN:VEVENT
UID:37336366-6165-4235-b336-326532363466
DTSTAMP:20260425T190825Z
DESCRIPTION:Tutor: Simon Einzinger
DTSTART:20250617T100000Z
DTEND:20250617T120000Z
LOCATION:SR014 (E 1 3)
SUMMARY:Tutorial #2
END:VEVENT
BEGIN:VEVENT
UID:30303766-6638-4064-a637-373136666165
DTSTAMP:20260425T190825Z
DESCRIPTION:Tutor: Willy Steinhart
DTSTART:20250618T100000Z
DTEND:20250618T120000Z
LOCATION:HS003 (E 1 3)
SUMMARY:Tutorial #3
END:VEVENT
BEGIN:VEVENT
UID:34613537-6263-4335-b165-396238373339
DTSTAMP:20260425T190825Z
DESCRIPTION:Tutor: Fabian Pütz
DTSTART:20250623T080000Z
DTEND:20250623T100000Z
LOCATION:SR014 (E 1 3)
SUMMARY:Tutorial #1
END:VEVENT
BEGIN:VEVENT
UID:37303232-3032-4861-a362-333939633939
DTSTAMP:20260425T190825Z
DESCRIPTION:Tutor: Simon Einzinger
DTSTART:20250624T100000Z
DTEND:20250624T120000Z
LOCATION:SR014 (E 1 3)
SUMMARY:Tutorial #2
END:VEVENT
BEGIN:VEVENT
UID:35396233-3261-4364-a463-643130393933
DTSTAMP:20260425T190825Z
DESCRIPTION:Tutor: Willy Steinhart
DTSTART:20250625T100000Z
DTEND:20250625T120000Z
LOCATION:HS003 (E 1 3)
SUMMARY:Tutorial #3
END:VEVENT
BEGIN:VEVENT
UID:63316663-3636-4130-a433-653762633362
DTSTAMP:20260425T190825Z
DESCRIPTION:Tutor: Fabian Pütz
DTSTART:20250630T080000Z
DTEND:20250630T100000Z
LOCATION:SR014 (E 1 3)
SUMMARY:Tutorial #1
END:VEVENT
BEGIN:VEVENT
UID:32303235-6539-4565-b664-616662353735
DTSTAMP:20260425T190825Z
DESCRIPTION:Tutor: Simon Einzinger
DTSTART:20250701T100000Z
DTEND:20250701T120000Z
LOCATION:SR014 (E 1 3)
SUMMARY:Tutorial #2
END:VEVENT
BEGIN:VEVENT
UID:65643434-6266-4035-a130-363834653136
DTSTAMP:20260425T190825Z
DESCRIPTION:Tutor: Willy Steinhart
DTSTART:20250702T100000Z
DTEND:20250702T120000Z
LOCATION:HS003 (E 1 3)
SUMMARY:Tutorial #3
END:VEVENT
BEGIN:VEVENT
UID:38343535-6330-4333-b738-393065633232
DTSTAMP:20260425T190825Z
DESCRIPTION:Tutor: Fabian Pütz
DTSTART:20250707T080000Z
DTEND:20250707T100000Z
LOCATION:SR014 (E 1 3)
SUMMARY:Tutorial #1
END:VEVENT
BEGIN:VEVENT
UID:32663464-3739-4133-b633-636566353931
DTSTAMP:20260425T190825Z
DESCRIPTION:Tutor: Simon Einzinger
DTSTART:20250708T100000Z
DTEND:20250708T120000Z
LOCATION:SR014 (E 1 3)
SUMMARY:Tutorial #2
END:VEVENT
BEGIN:VEVENT
UID:36666536-3730-4462-b234-613461653938
DTSTAMP:20260425T190825Z
DESCRIPTION:Tutor: Willy Steinhart
DTSTART:20250709T100000Z
DTEND:20250709T120000Z
LOCATION:HS003 (E 1 3)
SUMMARY:Tutorial #3
END:VEVENT
BEGIN:VEVENT
UID:64373430-6665-4535-b339-323935343765
DTSTAMP:20260425T190825Z
DESCRIPTION:Tutor: Fabian Pütz
DTSTART:20250714T080000Z
DTEND:20250714T100000Z
LOCATION:SR014 (E 1 3)
SUMMARY:Tutorial #1
END:VEVENT
BEGIN:VEVENT
UID:66353131-3462-4563-b030-353566323463
DTSTAMP:20260425T190825Z
DESCRIPTION:Tutor: Simon Einzinger
DTSTART:20250715T100000Z
DTEND:20250715T120000Z
LOCATION:SR014 (E 1 3)
SUMMARY:Tutorial #2
END:VEVENT
BEGIN:VEVENT
UID:65316164-3633-4335-b231-333939363935
DTSTAMP:20260425T190825Z
DESCRIPTION:Tutor: Willy Steinhart
DTSTART:20250716T100000Z
DTEND:20250716T120000Z
LOCATION:HS003 (E 1 3)
SUMMARY:Tutorial #3
END:VEVENT
END:VCALENDAR
