BEGIN:VCALENDAR
VERSION:2.0
PRODID:-//127.0.1.1//NONSGML kigkonsult.se iCalcreator 2.41.92//
CALSCALE:GREGORIAN
METHOD:PUBLISH
UID:64333539-6237-4131-b537-343763343338
X-WR-CALNAME:Foundations of Cybersecurity 2 Calendar
X-WR-CALDESC:Events of the lecture Foundations of Cybersecurity 2
X-WR-TIMEZONE:Europe/Berlin
BEGIN:VEVENT
UID:36653332-3737-4536-b036-353530383431
DTSTAMP:20260425T190850Z
DESCRIPTION:
DTSTART:20250731T120000Z
DTEND:20250731T140000Z
LOCATION:E2 2\, Günter-Hotz-Hörsaal
SUMMARY:Exam
END:VEVENT
BEGIN:VEVENT
UID:31333163-6261-4739-a663-653864663030
DTSTAMP:20260425T190850Z
DESCRIPTION:
DTSTART:20250911T120000Z
DTEND:20250911T140000Z
LOCATION:E2 2\, Günter-Hotz-Hörsaal
SUMMARY:Re-Exam
END:VEVENT
END:VCALENDAR
