BEGIN:VCALENDAR
VERSION:2.0
PRODID:-//127.0.1.1//NONSGML kigkonsult.se iCalcreator 2.41.92//
CALSCALE:GREGORIAN
METHOD:PUBLISH
UID:33363934-3530-4633-b530-666431323034
X-WR-CALNAME:Foundations of Cybersecurity 2 Calendar
X-WR-CALDESC:Events of the lecture Foundations of Cybersecurity 2
X-WR-TIMEZONE:Europe/Berlin
BEGIN:VEVENT
UID:36316565-3339-4139-a463-383639356438
DTSTAMP:20260425T190948Z
DESCRIPTION:
DTSTART:20250822T130000Z
DTEND:20250822T140000Z
LOCATION:Room 0.07\, Building E9.1
SUMMARY:Exam Inspection
END:VEVENT
BEGIN:VEVENT
UID:63383833-3130-4733-b362-303164626165
DTSTAMP:20260425T190948Z
DESCRIPTION:
DTSTART:20251006T130000Z
DTEND:20251006T140000Z
LOCATION:Room 0.07\, Building E9.1
SUMMARY:Re-Exam Inspection
END:VEVENT
END:VCALENDAR
