BEGIN:VCALENDAR
VERSION:2.0
PRODID:-//127.0.1.1//NONSGML kigkonsult.se iCalcreator 2.41.92//
CALSCALE:GREGORIAN
METHOD:PUBLISH
UID:38663363-3632-4433-a162-613837336430
X-WR-CALNAME:Foundations of Cybersecurity 2 Calendar
X-WR-CALDESC:Events of the lecture Foundations of Cybersecurity 2
X-WR-TIMEZONE:Europe/Berlin
BEGIN:VEVENT
UID:65383130-6635-4836-b835-363366396366
DTSTAMP:20260425T203455Z
DESCRIPTION:
DTSTART:20250410T120000Z
DTEND:20250410T140000Z
LOCATION:E2 2\, Günter-Hotz-Hörsaal
SUMMARY:Cysecii25: Introduction
END:VEVENT
BEGIN:VEVENT
UID:36626333-3331-4664-a238-366162633764
DTSTAMP:20260425T203455Z
DESCRIPTION:Tutor: Fabian Pütz
DTSTART:20250414T080000Z
DTEND:20250414T100000Z
LOCATION:SR014 (E 1 3)
SUMMARY:Cysecii25: Tutorial #1
END:VEVENT
BEGIN:VEVENT
UID:38353833-3038-4439-a433-653366616466
DTSTAMP:20260425T203455Z
DESCRIPTION:Tutor: Simon Einzinger
DTSTART:20250415T100000Z
DTEND:20250415T120000Z
LOCATION:SR014 (E 1 3)
SUMMARY:Cysecii25: Tutorial #2
END:VEVENT
BEGIN:VEVENT
UID:31373732-6431-4439-a662-306361633739
DTSTAMP:20260425T203455Z
DESCRIPTION:Tutor: Willy Steinhart
DTSTART:20250416T100000Z
DTEND:20250416T120000Z
LOCATION:HS003 (E 1 3)
SUMMARY:Cysecii25: Tutorial #3
END:VEVENT
BEGIN:VEVENT
UID:61376561-6266-4731-b730-613139343864
DTSTAMP:20260425T203455Z
DESCRIPTION:
DTSTART:20250417T120000Z
DTEND:20250417T140000Z
LOCATION:E2 2\, Günter-Hotz-Hörsaal
SUMMARY:Cysecii25: Operating Systems
END:VEVENT
BEGIN:VEVENT
UID:63663934-6265-4131-b630-343535396263
DTSTAMP:20260425T203455Z
DESCRIPTION:Tutor: Simon Einzinger
DTSTART:20250422T100000Z
DTEND:20250422T120000Z
LOCATION:SR014 (E 1 3)
SUMMARY:Cysecii25: Tutorial #2
END:VEVENT
BEGIN:VEVENT
UID:36333934-3231-4766-a138-666536373436
DTSTAMP:20260425T203455Z
DESCRIPTION:Tutor: Willy Steinhart
DTSTART:20250423T100000Z
DTEND:20250423T120000Z
LOCATION:HS003 (E 1 3)
SUMMARY:Cysecii25: Tutorial #3
END:VEVENT
BEGIN:VEVENT
UID:36333230-3937-4665-b265-653632343261
DTSTAMP:20260425T203455Z
DESCRIPTION:
DTSTART:20250424T120000Z
DTEND:20250424T140000Z
LOCATION:E2 2\, Günter-Hotz-Hörsaal
SUMMARY:Cysecii25: Low-level Basics
END:VEVENT
BEGIN:VEVENT
UID:34663336-3932-4963-a236-376663313632
DTSTAMP:20260425T203455Z
DESCRIPTION:Tutor: Fabian Pütz
DTSTART:20250428T080000Z
DTEND:20250428T100000Z
LOCATION:SR014 (E 1 3)
SUMMARY:Cysecii25: Tutorial #1
END:VEVENT
BEGIN:VEVENT
UID:32656233-6664-4634-b736-363133396238
DTSTAMP:20260425T203455Z
DESCRIPTION:Tutor: Simon Einzinger
DTSTART:20250429T100000Z
DTEND:20250429T120000Z
LOCATION:SR014 (E 1 3)
SUMMARY:Cysecii25: Tutorial #2
END:VEVENT
BEGIN:VEVENT
UID:39313435-3336-4632-a630-306335623336
DTSTAMP:20260425T203455Z
DESCRIPTION:Tutor: Willy Steinhart
DTSTART:20250430T100000Z
DTEND:20250430T120000Z
LOCATION:HS003 (E 1 3)
SUMMARY:Cysecii25: Tutorial #3
END:VEVENT
BEGIN:VEVENT
UID:62313663-3637-4130-b164-643362373130
DTSTAMP:20260425T203455Z
DESCRIPTION:
DTSTART:20250506T100000Z
DTEND:20250506T120000Z
LOCATION:SR014 (E 1 3)
SUMMARY:Cysecii25: Pwntools Tutorial #1
END:VEVENT
BEGIN:VEVENT
UID:35623362-3763-4231-b531-646432323432
DTSTAMP:20260425T203455Z
DESCRIPTION:
DTSTART:20250507T100000Z
DTEND:20250507T120000Z
LOCATION:HS003 (E 1 3)
SUMMARY:Cysecii25: Pwntools Tutorial #2
END:VEVENT
BEGIN:VEVENT
UID:32613166-3266-4935-b330-323165323439
DTSTAMP:20260425T203455Z
DESCRIPTION:
DTSTART:20250508T120000Z
DTEND:20250508T140000Z
LOCATION:E2 2\, Günter-Hotz-Hörsaal
SUMMARY:Cysecii25: Memory Corruption - Overflows
END:VEVENT
BEGIN:VEVENT
UID:36656431-3663-4433-a138-396236333731
DTSTAMP:20260425T203455Z
DESCRIPTION:Tutor: Fabian Pütz
DTSTART:20250512T080000Z
DTEND:20250512T100000Z
LOCATION:SR014 (E 1 3)
SUMMARY:Cysecii25: Tutorial #1
END:VEVENT
BEGIN:VEVENT
UID:38653830-6538-4333-a439-616133366332
DTSTAMP:20260425T203455Z
DESCRIPTION:Tutor: Simon Einzinger
DTSTART:20250513T100000Z
DTEND:20250513T120000Z
LOCATION:SR014 (E 1 3)
SUMMARY:Cysecii25: Tutorial #2
END:VEVENT
BEGIN:VEVENT
UID:35396539-3061-4538-b732-663562666161
DTSTAMP:20260425T203455Z
DESCRIPTION:Tutor: Willy Steinhart
DTSTART:20250514T100000Z
DTEND:20250514T120000Z
LOCATION:HS003 (E 1 3)
SUMMARY:Cysecii25: Tutorial #3
END:VEVENT
BEGIN:VEVENT
UID:34313732-3830-4739-b437-323238653161
DTSTAMP:20260425T203455Z
DESCRIPTION:
DTSTART:20250515T120000Z
DTEND:20250515T140000Z
LOCATION:E2 2\, Günter-Hotz-Hörsaal
SUMMARY:Cysecii25: Memory Corruption II & Environment
END:VEVENT
BEGIN:VEVENT
UID:38376366-6430-4961-b861-666432663366
DTSTAMP:20260425T203455Z
DESCRIPTION:Tutor: Fabian Pütz
DTSTART:20250519T080000Z
DTEND:20250519T100000Z
LOCATION:SR014 (E 1 3)
SUMMARY:Cysecii25: Tutorial #1
END:VEVENT
BEGIN:VEVENT
UID:32656365-6133-4163-a635-626530643762
DTSTAMP:20260425T203455Z
DESCRIPTION:Tutor: Simon Einzinger
DTSTART:20250520T100000Z
DTEND:20250520T120000Z
LOCATION:SR014 (E 1 3)
SUMMARY:Cysecii25: Tutorial #2
END:VEVENT
BEGIN:VEVENT
UID:31323034-3835-4335-a636-336461613838
DTSTAMP:20260425T203455Z
DESCRIPTION:Tutor: Willy Steinhart
DTSTART:20250521T100000Z
DTEND:20250521T120000Z
LOCATION:HS003 (E 1 3)
SUMMARY:Cysecii25: Tutorial #3
END:VEVENT
BEGIN:VEVENT
UID:37386465-6639-4262-b163-613966333033
DTSTAMP:20260425T203455Z
DESCRIPTION:
DTSTART:20250522T120000Z
DTEND:20250522T140000Z
LOCATION:E2 2\, Günter-Hotz-Hörsaal
SUMMARY:Cysecii25: Exploits
END:VEVENT
BEGIN:VEVENT
UID:65366239-6133-4666-b132-623262393238
DTSTAMP:20260425T203455Z
DESCRIPTION:Tutor: Fabian Pütz
DTSTART:20250526T080000Z
DTEND:20250526T100000Z
LOCATION:SR014 (E 1 3)
SUMMARY:Cysecii25: Tutorial #1
END:VEVENT
BEGIN:VEVENT
UID:66653163-6630-4332-b734-666266353463
DTSTAMP:20260425T203455Z
DESCRIPTION:Tutor: Simon Einzinger
DTSTART:20250527T100000Z
DTEND:20250527T120000Z
LOCATION:SR014 (E 1 3)
SUMMARY:Cysecii25: Tutorial #2
END:VEVENT
BEGIN:VEVENT
UID:38633538-3366-4839-a165-366364373939
DTSTAMP:20260425T203455Z
DESCRIPTION:Tutor: Willy Steinhart
DTSTART:20250528T100000Z
DTEND:20250528T120000Z
LOCATION:HS003 (E 1 3)
SUMMARY:Cysecii25: Tutorial #3
END:VEVENT
BEGIN:VEVENT
UID:66343931-3965-4332-b739-303336376663
DTSTAMP:20260425T203455Z
DESCRIPTION:
DTSTART:20250603T100000Z
DTEND:20250603T120000Z
LOCATION:SR014 (E 1 3)
SUMMARY:Cysecii25: Pwntools Tutorial #1
END:VEVENT
BEGIN:VEVENT
UID:31656638-6662-4664-b366-633632303836
DTSTAMP:20260425T203455Z
DESCRIPTION:
DTSTART:20250604T100000Z
DTEND:20250604T120000Z
LOCATION:HS003 (E 1 3)
SUMMARY:Cysecii25: Pwntools Tutorial #2
END:VEVENT
BEGIN:VEVENT
UID:63663761-6438-4964-b165-326465313864
DTSTAMP:20260425T203455Z
DESCRIPTION:
DTSTART:20250605T120000Z
DTEND:20250605T140000Z
LOCATION:E2 2\, Günter-Hotz-Hörsaal
SUMMARY:Cysecii25: Debugging
END:VEVENT
BEGIN:VEVENT
UID:61663832-3930-4330-a236-386230663130
DTSTAMP:20260425T203455Z
DESCRIPTION:Tutor: Simon Einzinger
DTSTART:20250610T100000Z
DTEND:20250610T120000Z
LOCATION:SR014 (E 1 3)
SUMMARY:Cysecii25: Tutorial #2
END:VEVENT
BEGIN:VEVENT
UID:37393236-3633-4463-b239-656662303464
DTSTAMP:20260425T203455Z
DESCRIPTION:Tutor: Willy Steinhart
DTSTART:20250611T100000Z
DTEND:20250611T120000Z
LOCATION:HS003 (E 1 3)
SUMMARY:Cysecii25: Tutorial #3
END:VEVENT
BEGIN:VEVENT
UID:61343235-3561-4437-b333-666337646232
DTSTAMP:20260425T203455Z
DESCRIPTION:
DTSTART:20250612T120000Z
DTEND:20250612T140000Z
LOCATION:E2 2\, Günter-Hotz-Hörsaal
SUMMARY:Cysecii25: Finding Bugs
END:VEVENT
BEGIN:VEVENT
UID:34333131-6530-4639-b933-373631646634
DTSTAMP:20260425T203455Z
DESCRIPTION:Tutor: Fabian Pütz
DTSTART:20250616T080000Z
DTEND:20250616T100000Z
LOCATION:SR014 (E 1 3)
SUMMARY:Cysecii25: Tutorial #1
END:VEVENT
BEGIN:VEVENT
UID:33303966-6662-4830-b435-303763613466
DTSTAMP:20260425T203455Z
DESCRIPTION:Tutor: Simon Einzinger
DTSTART:20250617T100000Z
DTEND:20250617T120000Z
LOCATION:SR014 (E 1 3)
SUMMARY:Cysecii25: Tutorial #2
END:VEVENT
BEGIN:VEVENT
UID:30313234-6432-4431-b264-343232633866
DTSTAMP:20260425T203455Z
DESCRIPTION:Tutor: Willy Steinhart
DTSTART:20250618T100000Z
DTEND:20250618T120000Z
LOCATION:HS003 (E 1 3)
SUMMARY:Cysecii25: Tutorial #3
END:VEVENT
BEGIN:VEVENT
UID:66386235-6431-4339-a433-666134666461
DTSTAMP:20260425T203455Z
DESCRIPTION:Tutor: Fabian Pütz
DTSTART:20250623T080000Z
DTEND:20250623T100000Z
LOCATION:SR014 (E 1 3)
SUMMARY:Cysecii25: Tutorial #1
END:VEVENT
BEGIN:VEVENT
UID:61626466-3432-4439-b338-313639626363
DTSTAMP:20260425T203455Z
DESCRIPTION:Tutor: Simon Einzinger
DTSTART:20250624T100000Z
DTEND:20250624T120000Z
LOCATION:SR014 (E 1 3)
SUMMARY:Cysecii25: Tutorial #2
END:VEVENT
BEGIN:VEVENT
UID:61653236-3866-4039-a265-633731393765
DTSTAMP:20260425T203455Z
DESCRIPTION:Tutor: Willy Steinhart
DTSTART:20250625T100000Z
DTEND:20250625T120000Z
LOCATION:HS003 (E 1 3)
SUMMARY:Cysecii25: Tutorial #3
END:VEVENT
BEGIN:VEVENT
UID:65616566-3263-4463-b632-653032313566
DTSTAMP:20260425T203455Z
DESCRIPTION:
DTSTART:20250626T120000Z
DTEND:20250626T140000Z
LOCATION:E2 2\, Günter-Hotz-Hörsaal
SUMMARY:Cysecii25: Mitigations
END:VEVENT
BEGIN:VEVENT
UID:62396566-3932-4763-a534-316634626435
DTSTAMP:20260425T203455Z
DESCRIPTION:Tutor: Fabian Pütz
DTSTART:20250630T080000Z
DTEND:20250630T100000Z
LOCATION:SR014 (E 1 3)
SUMMARY:Cysecii25: Tutorial #1
END:VEVENT
BEGIN:VEVENT
UID:35623234-3366-4563-b835-393736306635
DTSTAMP:20260425T203455Z
DESCRIPTION:Tutor: Simon Einzinger
DTSTART:20250701T100000Z
DTEND:20250701T120000Z
LOCATION:SR014 (E 1 3)
SUMMARY:Cysecii25: Tutorial #2
END:VEVENT
BEGIN:VEVENT
UID:30383935-3136-4232-a136-633738363839
DTSTAMP:20260425T203455Z
DESCRIPTION:Tutor: Willy Steinhart
DTSTART:20250702T100000Z
DTEND:20250702T120000Z
LOCATION:HS003 (E 1 3)
SUMMARY:Cysecii25: Tutorial #3
END:VEVENT
BEGIN:VEVENT
UID:38306136-3039-4533-a539-353033636531
DTSTAMP:20260425T203455Z
DESCRIPTION:
DTSTART:20250703T120000Z
DTEND:20250703T140000Z
LOCATION:E2 2\, Günter-Hotz-Hörsaal
SUMMARY:Cysecii25: Secure Programming
END:VEVENT
BEGIN:VEVENT
UID:32393132-3134-4732-a431-623733383763
DTSTAMP:20260425T203455Z
DESCRIPTION:Tutor: Fabian Pütz
DTSTART:20250707T080000Z
DTEND:20250707T100000Z
LOCATION:SR014 (E 1 3)
SUMMARY:Cysecii25: Tutorial #1
END:VEVENT
BEGIN:VEVENT
UID:36623831-6239-4964-b936-663439613334
DTSTAMP:20260425T203455Z
DESCRIPTION:Tutor: Simon Einzinger
DTSTART:20250708T100000Z
DTEND:20250708T120000Z
LOCATION:SR014 (E 1 3)
SUMMARY:Cysecii25: Tutorial #2
END:VEVENT
BEGIN:VEVENT
UID:38663130-6162-4630-b139-356430393136
DTSTAMP:20260425T203455Z
DESCRIPTION:Tutor: Willy Steinhart
DTSTART:20250709T100000Z
DTEND:20250709T120000Z
LOCATION:HS003 (E 1 3)
SUMMARY:Cysecii25: Tutorial #3
END:VEVENT
BEGIN:VEVENT
UID:31303365-6163-4134-b735-346463313666
DTSTAMP:20260425T203455Z
DESCRIPTION:
DTSTART:20250710T120000Z
DTEND:20250710T140000Z
LOCATION:E2 2\, Günter-Hotz-Hörsaal
SUMMARY:Cysecii25: Sandboxing & System Hardening
END:VEVENT
BEGIN:VEVENT
UID:38363231-3764-4039-a665-306138333561
DTSTAMP:20260425T203455Z
DESCRIPTION:Tutor: Fabian Pütz
DTSTART:20250714T080000Z
DTEND:20250714T100000Z
LOCATION:SR014 (E 1 3)
SUMMARY:Cysecii25: Tutorial #1
END:VEVENT
BEGIN:VEVENT
UID:63653432-3133-4264-b235-346535376232
DTSTAMP:20260425T203455Z
DESCRIPTION:Tutor: Simon Einzinger
DTSTART:20250715T100000Z
DTEND:20250715T120000Z
LOCATION:SR014 (E 1 3)
SUMMARY:Cysecii25: Tutorial #2
END:VEVENT
BEGIN:VEVENT
UID:66386666-3366-4335-b638-376530636135
DTSTAMP:20260425T203455Z
DESCRIPTION:Tutor: Willy Steinhart
DTSTART:20250716T100000Z
DTEND:20250716T120000Z
LOCATION:HS003 (E 1 3)
SUMMARY:Cysecii25: Tutorial #3
END:VEVENT
BEGIN:VEVENT
UID:35303838-3865-4833-b665-353534316363
DTSTAMP:20260425T203455Z
DESCRIPTION:
DTSTART:20250717T120000Z
DTEND:20250717T140000Z
LOCATION:E2 2\, Günter-Hotz-Hörsaal
SUMMARY:Cysecii25: Side Channels
END:VEVENT
BEGIN:VEVENT
UID:32333437-3233-4739-a662-303836663334
DTSTAMP:20260425T203455Z
DESCRIPTION:
DTSTART:20250731T120000Z
DTEND:20250731T140000Z
LOCATION:E2 2\, Günter-Hotz-Hörsaal
SUMMARY:Cysecii25: Exam
END:VEVENT
BEGIN:VEVENT
UID:66313962-3532-4538-b064-343865303134
DTSTAMP:20260425T203455Z
DESCRIPTION:
DTSTART:20250822T130000Z
DTEND:20250822T140000Z
LOCATION:Room 0.07\, Building E9.1
SUMMARY:Cysecii25: Exam Inspection
END:VEVENT
BEGIN:VEVENT
UID:37373130-6534-4638-b863-303633303231
DTSTAMP:20260425T203455Z
DESCRIPTION:
DTSTART:20250911T120000Z
DTEND:20250911T140000Z
LOCATION:E2 2\, Günter-Hotz-Hörsaal
SUMMARY:Cysecii25: Re-Exam
END:VEVENT
BEGIN:VEVENT
UID:35383939-6639-4037-b632-623233646262
DTSTAMP:20260425T203455Z
DESCRIPTION:
DTSTART:20251006T130000Z
DTEND:20251006T140000Z
LOCATION:Room 0.07\, Building E9.1
SUMMARY:Cysecii25: Re-Exam Inspection
END:VEVENT
END:VCALENDAR
