BEGIN:VCALENDAR
VERSION:2.0
PRODID:-//127.0.1.1//NONSGML kigkonsult.se iCalcreator 2.41.92//
CALSCALE:GREGORIAN
METHOD:PUBLISH
UID:31313436-3838-4664-a462-353239386635
X-WR-CALNAME:Elements of Machine Learning Calendar
X-WR-CALDESC:Events of the lecture Elements of Machine Learning
X-WR-TIMEZONE:Europe/Berlin
BEGIN:VEVENT
UID:63313839-6334-4764-b730-663733623863
DTSTAMP:20260423T173451Z
DESCRIPTION:
DTSTART:20221027T140000Z
DTEND:20221027T160000Z
LOCATION:GHH and Zoom and YouTube
SUMMARY:Eml22: Lecture 1 - Bias and Variance
END:VEVENT
BEGIN:VEVENT
UID:65316531-3439-4163-b231-656134613563
DTSTAMP:20260423T173451Z
DESCRIPTION:
DTSTART:20221103T150000Z
DTEND:20221103T170000Z
LOCATION:GHH and Zoom and YouTube
SUMMARY:Eml22: Lecture 2 - Linear Regression I
END:VEVENT
BEGIN:VEVENT
UID:61643934-6636-4334-b539-363836363233
DTSTAMP:20260423T173451Z
DESCRIPTION:
DTSTART:20221110T150000Z
DTEND:20221110T170000Z
LOCATION:GHH and Zoom and YouTube
SUMMARY:Eml22: Lecture 3 - Linear Regression II
END:VEVENT
BEGIN:VEVENT
UID:62636431-3331-4462-b263-343364633635
DTSTAMP:20260423T173451Z
DESCRIPTION:
DTSTART:20221117T150000Z
DTEND:20221117T170000Z
LOCATION:GHH and Zoom and YouTube
SUMMARY:Eml22: Lecture 4 - Classification I
END:VEVENT
BEGIN:VEVENT
UID:33633565-6266-4431-a434-323565366531
DTSTAMP:20260423T173451Z
DESCRIPTION:
DTSTART:20221124T150000Z
DTEND:20221124T170000Z
LOCATION:GHH and Zoom and YouTube
SUMMARY:Eml22: Lecture 5 - Classification II
END:VEVENT
BEGIN:VEVENT
UID:61336164-6137-4663-b263-626561666662
DTSTAMP:20260423T173451Z
DESCRIPTION:
DTSTART:20221201T150000Z
DTEND:20221201T170000Z
LOCATION:YouTube
SUMMARY:Eml22: Lecture 6 - Generalization (pre-recorded)
END:VEVENT
BEGIN:VEVENT
UID:33346437-3538-4665-b631-376133666131
DTSTAMP:20260423T173451Z
DESCRIPTION:
DTSTART:20221208T150000Z
DTEND:20221208T170000Z
LOCATION:GHH and Zoom and YouTube
SUMMARY:Eml22: Lecture 7 - Model Selection
END:VEVENT
BEGIN:VEVENT
UID:38316536-6463-4133-b531-636131356634
DTSTAMP:20260423T173451Z
DESCRIPTION:
DTSTART:20221215T150000Z
DTEND:20221215T170000Z
LOCATION:GHH and Zoom and YouTube
SUMMARY:Eml22: Lecture 8 - Beyond Linear
END:VEVENT
BEGIN:VEVENT
UID:39356438-3335-4338-b462-303362613035
DTSTAMP:20260423T173451Z
DESCRIPTION:
DTSTART:20230105T150000Z
DTEND:20230105T170000Z
LOCATION:Zoom and YouTube
SUMMARY:Eml22: Lecture 9 - Dimensionality Reduction (online)
END:VEVENT
BEGIN:VEVENT
UID:30386637-6437-4239-b563-356363386437
DTSTAMP:20260423T173451Z
DESCRIPTION:
DTSTART:20230112T150000Z
DTEND:20230112T170000Z
LOCATION:GHH and Zoom and YouTube
SUMMARY:Eml22: Lecture 10 - Clustering
END:VEVENT
BEGIN:VEVENT
UID:64366135-3836-4637-b464-613132353237
DTSTAMP:20260423T173451Z
DESCRIPTION:
DTSTART:20230119T150000Z
DTEND:20230119T150000Z
SUMMARY:Eml22: Hand-out of Assignment Sheet 6
END:VEVENT
BEGIN:VEVENT
UID:64343135-3066-4261-b866-383039656431
DTSTAMP:20260423T173451Z
DESCRIPTION:
DTSTART:20230119T150000Z
DTEND:20230119T170000Z
LOCATION:GHH and Zoom and YouTube
SUMMARY:Eml22: Lecture 11 - Trees and Forests
END:VEVENT
BEGIN:VEVENT
UID:36666431-6137-4465-b566-313139343037
DTSTAMP:20260423T173451Z
DESCRIPTION:
DTSTART:20230126T150000Z
DTEND:20230126T170000Z
LOCATION:GHH and Zoom and YouTube
SUMMARY:Eml22: Lecture 12 - Support Vector Machines
END:VEVENT
BEGIN:VEVENT
UID:63646633-6231-4665-b033-323434613930
DTSTAMP:20260423T173451Z
DESCRIPTION:
DTSTART:20230202T150000Z
DTEND:20230202T170000Z
LOCATION:GHH and Zoom and YouTube
SUMMARY:Eml22: Lecture 13 - Neural Networks
END:VEVENT
BEGIN:VEVENT
UID:39323538-6435-4732-a135-643063653037
DTSTAMP:20260423T173451Z
DESCRIPTION:
DTSTART:20230209T150000Z
DTEND:20230209T170000Z
LOCATION:GHH and Zoom and YouTube
SUMMARY:Eml22: Lecture 14 - ML and the Real World
END:VEVENT
END:VCALENDAR
