BEGIN:VCALENDAR
VERSION:2.0
PRODID:-//127.0.1.1//NONSGML kigkonsult.se iCalcreator 2.41.92//
CALSCALE:GREGORIAN
METHOD:PUBLISH
UID:31623362-6630-4566-a366-653130636664
X-WR-CALNAME:Elements of Machine Learning Calendar
X-WR-CALDESC:Events of the lecture Elements of Machine Learning
X-WR-TIMEZONE:Europe/Berlin
BEGIN:VEVENT
UID:63353537-3039-4762-b536-623765323064
DTSTAMP:20260423T184558Z
DESCRIPTION:1) Recap Lecture 1 - Bias and Variance\n2) Lecture on Data Visu
 alization\n3) General Questions
DTSTART:20221031T110000Z
DTEND:20221031T130000Z
LOCATION:HS 0.01 and Zoom
SUMMARY:Tutorial (Group 1)
END:VEVENT
BEGIN:VEVENT
UID:38363035-3235-4064-b961-366534626336
DTSTAMP:20260423T184558Z
DESCRIPTION:1) Recap Lecture 2 - Linear Regression\n2) General Questions
DTSTART:20221107T110000Z
DTEND:20221107T130000Z
LOCATION:HS 0.01 and Zoom
SUMMARY:Tutorial (Group 1)
END:VEVENT
BEGIN:VEVENT
UID:37313835-6331-4464-b363-663636316636
DTSTAMP:20260423T184558Z
DESCRIPTION:1) Recap Lecture 2 - Linear Regression\n2) Lecture on Data Visu
 alization\n3) General Questions
DTSTART:20221108T110000Z
DTEND:20221108T130000Z
LOCATION:HS 0.02 and Zoom
SUMMARY:Tutorial (Group 2)
END:VEVENT
BEGIN:VEVENT
UID:38313361-6630-4033-a566-346363643864
DTSTAMP:20260423T184558Z
DESCRIPTION:1) Recap Lecture 3 - Linear Regression\n2) General Questions
DTSTART:20221114T110000Z
DTEND:20221114T130000Z
LOCATION:HS 0.01 and Zoom
SUMMARY:Tutorial (Group 1)
END:VEVENT
BEGIN:VEVENT
UID:31306363-6239-4362-a136-326663356138
DTSTAMP:20260423T184558Z
DESCRIPTION:1) Recap Lecture 3 - Linear Regression\n2) General Questions
DTSTART:20221115T110000Z
DTEND:20221115T130000Z
LOCATION:HS 0.02 and Zoom
SUMMARY:Tutorial (Group 2)
END:VEVENT
BEGIN:VEVENT
UID:36623032-3431-4137-b837-633234656430
DTSTAMP:20260423T184558Z
DESCRIPTION:1) Recap Lecture 4 - Classification\n2) Common difficulties in 
 the Theory and Practical Problems of Assignment Sheet 1\n3) General Questi
 ons
DTSTART:20221121T110000Z
DTEND:20221121T130000Z
LOCATION:HS 0.01 and Zoom
SUMMARY:Tutorial (Group 1)
END:VEVENT
BEGIN:VEVENT
UID:33336235-3666-4437-b163-376466363938
DTSTAMP:20260423T184558Z
DESCRIPTION:1) Recap Lecture 4 - Classification\n2) Common difficulties in 
 the Theory and Practical Problems of Assignment Sheet 1\n3) General Questi
 ons
DTSTART:20221122T110000Z
DTEND:20221122T130000Z
LOCATION:HS 0.02 and Zoom
SUMMARY:Tutorial (Group 2)
END:VEVENT
BEGIN:VEVENT
UID:34626532-3239-4965-b334-623034356362
DTSTAMP:20260423T184558Z
DESCRIPTION:1) Recap Lecture 5 - Classification II\n2) Solution to the Bonu
 s Problems in Assignment Sheet 1\n3) General Questions
DTSTART:20221128T110000Z
DTEND:20221128T130000Z
LOCATION:HS 0.01 and Zoom
SUMMARY:Tutorial (Group 1)
END:VEVENT
BEGIN:VEVENT
UID:63353865-6530-4263-b638-616237346132
DTSTAMP:20260423T184558Z
DESCRIPTION:1) Recap Lecture 5 - Classification II\n2) Solution to the Bonu
 s Problems in Assignment Sheet 1\n3) General Questions
DTSTART:20221129T110000Z
DTEND:20221129T130000Z
LOCATION:HS 0.02 and Zoom
SUMMARY:Tutorial (Group 2)
END:VEVENT
BEGIN:VEVENT
UID:31393336-3265-4838-b461-303134326166
DTSTAMP:20260423T184558Z
DESCRIPTION:
DTSTART:20221205T110000Z
DTEND:20221205T130000Z
LOCATION:HS 0.01 and Zoom
SUMMARY:Tutorial (Group 1)
END:VEVENT
BEGIN:VEVENT
UID:61306635-6261-4938-b232-326566356133
DTSTAMP:20260423T184558Z
DESCRIPTION:
DTSTART:20221206T110000Z
DTEND:20221206T130000Z
LOCATION:HS 0.02 and Zoom
SUMMARY:Tutorial (Group 2)
END:VEVENT
BEGIN:VEVENT
UID:64373938-3263-4162-a238-616236666561
DTSTAMP:20260423T184558Z
DESCRIPTION:
DTSTART:20221212T110000Z
DTEND:20221212T130000Z
LOCATION:HS 0.01 and Zoom
SUMMARY:Tutorial (Group 1)
END:VEVENT
BEGIN:VEVENT
UID:35623238-3532-4535-b335-653561663539
DTSTAMP:20260423T184558Z
DESCRIPTION:
DTSTART:20221213T110000Z
DTEND:20221213T130000Z
LOCATION:HS 0.02 and Zoom
SUMMARY:Tutorial (Group 2)
END:VEVENT
BEGIN:VEVENT
UID:35623735-3162-4439-b936-643964633435
DTSTAMP:20260423T184558Z
DESCRIPTION:
DTSTART:20221219T110000Z
DTEND:20221219T130000Z
LOCATION:Zoom
SUMMARY:Tutorial (Group 1) (online only)
END:VEVENT
BEGIN:VEVENT
UID:66353365-3361-4530-b136-323934336364
DTSTAMP:20260423T184558Z
DESCRIPTION:
DTSTART:20221220T110000Z
DTEND:20221220T130000Z
LOCATION:Zoom
SUMMARY:Tutorial (Group 2) (online only)
END:VEVENT
BEGIN:VEVENT
UID:33326139-3031-4730-b265-653764376535
DTSTAMP:20260423T184558Z
DESCRIPTION:
DTSTART:20230109T110000Z
DTEND:20230109T130000Z
LOCATION:HS 0.01 and Zoom
SUMMARY:Tutorial (Group 1)
END:VEVENT
BEGIN:VEVENT
UID:36633137-3631-4331-b231-653137323430
DTSTAMP:20260423T184558Z
DESCRIPTION:
DTSTART:20230110T110000Z
DTEND:20230110T130000Z
LOCATION:HS 0.02 and Zoom
SUMMARY:Tutorial (Group 2)
END:VEVENT
BEGIN:VEVENT
UID:32646334-6264-4235-b966-333138643962
DTSTAMP:20260423T184558Z
DESCRIPTION:
DTSTART:20230116T110000Z
DTEND:20230116T130000Z
SUMMARY:Tutorial (Group 1)
END:VEVENT
BEGIN:VEVENT
UID:64626637-3861-4138-b739-643830393939
DTSTAMP:20260423T184558Z
DESCRIPTION:
DTSTART:20230117T110000Z
DTEND:20230117T130000Z
LOCATION:HS 0.02 and Zoom
SUMMARY:Tutorial (Group 2)
END:VEVENT
BEGIN:VEVENT
UID:36343836-6234-4138-a437-396639383462
DTSTAMP:20260423T184558Z
DESCRIPTION:
DTSTART:20230123T110000Z
DTEND:20230123T130000Z
LOCATION:HS 0.01 and Zoom
SUMMARY:Tutorial (Group 1)
END:VEVENT
BEGIN:VEVENT
UID:37306336-3336-4839-b463-383138653961
DTSTAMP:20260423T184558Z
DESCRIPTION:
DTSTART:20230124T110000Z
DTEND:20230124T130000Z
LOCATION:HS 0.02 and Zoom
SUMMARY:Tutorial (Group 2)
END:VEVENT
BEGIN:VEVENT
UID:62636238-6334-4330-a536-356132313137
DTSTAMP:20260423T184558Z
DESCRIPTION:
DTSTART:20230130T110000Z
DTEND:20230130T130000Z
LOCATION:HS 0.01 and Zoom
SUMMARY:Tutorial (Group 1)
END:VEVENT
BEGIN:VEVENT
UID:36333164-3363-4237-b564-616634336361
DTSTAMP:20260423T184558Z
DESCRIPTION:
DTSTART:20230131T110000Z
DTEND:20230131T130000Z
LOCATION:HS 0.02 and Zoom
SUMMARY:Tutorial (Group 2)
END:VEVENT
BEGIN:VEVENT
UID:39666164-6637-4764-b236-356666363330
DTSTAMP:20260423T184558Z
DESCRIPTION:
DTSTART:20230206T110000Z
DTEND:20230206T130000Z
LOCATION:HS 0.01 and Zoom
SUMMARY:Tutorial (Group 1)
END:VEVENT
BEGIN:VEVENT
UID:31336332-3062-4839-b163-393633336231
DTSTAMP:20260423T184558Z
DESCRIPTION:
DTSTART:20230207T110000Z
DTEND:20230207T130000Z
LOCATION:HS 0.02 and Zoom
SUMMARY:Tutorial (Group 2)
END:VEVENT
BEGIN:VEVENT
UID:35663261-3139-4836-b664-373161343061
DTSTAMP:20260423T184558Z
DESCRIPTION:
DTSTART:20230213T110000Z
DTEND:20230213T130000Z
LOCATION:HS 0.01 and Zoom
SUMMARY:Tutorial (Group 1)
END:VEVENT
BEGIN:VEVENT
UID:39356363-3630-4462-b538-356238636239
DTSTAMP:20260423T184558Z
DESCRIPTION:
DTSTART:20230214T110000Z
DTEND:20230214T130000Z
LOCATION:HS 0.02 and Zoom
SUMMARY:Tutorial (Group 2)
END:VEVENT
END:VCALENDAR
