BEGIN:VCALENDAR
VERSION:2.0
PRODID:-//127.0.1.1//NONSGML kigkonsult.se iCalcreator 2.41.92//
CALSCALE:GREGORIAN
METHOD:PUBLISH
UID:35666232-3462-4231-b435-373930623739
X-WR-CALNAME:Elements of Machine Learning Calendar
X-WR-CALDESC:Events of the lecture Elements of Machine Learning
X-WR-TIMEZONE:Europe/Berlin
BEGIN:VEVENT
UID:36306134-3239-4462-b235-653332306536
DTSTAMP:20260423T184656Z
DESCRIPTION:1) Recap Lecture 1 - Bias and Variance\n2) Lecture on Data Visu
 alization\n3) General Questions
DTSTART:20221031T110000Z
DTEND:20221031T130000Z
LOCATION:HS 0.01 and Zoom
SUMMARY:Eml22: Tutorial (Group 1)
END:VEVENT
BEGIN:VEVENT
UID:35653337-6233-4332-b433-373861303261
DTSTAMP:20260423T184656Z
DESCRIPTION:1) Recap Lecture 2 - Linear Regression\n2) General Questions
DTSTART:20221107T110000Z
DTEND:20221107T130000Z
LOCATION:HS 0.01 and Zoom
SUMMARY:Eml22: Tutorial (Group 1)
END:VEVENT
BEGIN:VEVENT
UID:65663038-6636-4563-b839-356663656465
DTSTAMP:20260423T184656Z
DESCRIPTION:1) Recap Lecture 2 - Linear Regression\n2) Lecture on Data Visu
 alization\n3) General Questions
DTSTART:20221108T110000Z
DTEND:20221108T130000Z
LOCATION:HS 0.02 and Zoom
SUMMARY:Eml22: Tutorial (Group 2)
END:VEVENT
BEGIN:VEVENT
UID:61623936-3838-4665-a162-346439356435
DTSTAMP:20260423T184656Z
DESCRIPTION:1) Recap Lecture 3 - Linear Regression\n2) General Questions
DTSTART:20221114T110000Z
DTEND:20221114T130000Z
LOCATION:HS 0.01 and Zoom
SUMMARY:Eml22: Tutorial (Group 1)
END:VEVENT
BEGIN:VEVENT
UID:38666631-6330-4030-b732-633462636536
DTSTAMP:20260423T184656Z
DESCRIPTION:1) Recap Lecture 3 - Linear Regression\n2) General Questions
DTSTART:20221115T110000Z
DTEND:20221115T130000Z
LOCATION:HS 0.02 and Zoom
SUMMARY:Eml22: Tutorial (Group 2)
END:VEVENT
BEGIN:VEVENT
UID:64323566-6163-4333-a435-633538376237
DTSTAMP:20260423T184656Z
DESCRIPTION:1) Recap Lecture 4 - Classification\n2) Common difficulties in 
 the Theory and Practical Problems of Assignment Sheet 1\n3) General Questi
 ons
DTSTART:20221121T110000Z
DTEND:20221121T130000Z
LOCATION:HS 0.01 and Zoom
SUMMARY:Eml22: Tutorial (Group 1)
END:VEVENT
BEGIN:VEVENT
UID:65353436-3732-4431-b334-616433383066
DTSTAMP:20260423T184656Z
DESCRIPTION:1) Recap Lecture 4 - Classification\n2) Common difficulties in 
 the Theory and Practical Problems of Assignment Sheet 1\n3) General Questi
 ons
DTSTART:20221122T110000Z
DTEND:20221122T130000Z
LOCATION:HS 0.02 and Zoom
SUMMARY:Eml22: Tutorial (Group 2)
END:VEVENT
BEGIN:VEVENT
UID:33316363-3536-4530-b334-363565303564
DTSTAMP:20260423T184656Z
DESCRIPTION:1) Recap Lecture 5 - Classification II\n2) Solution to the Bonu
 s Problems in Assignment Sheet 1\n3) General Questions
DTSTART:20221128T110000Z
DTEND:20221128T130000Z
LOCATION:HS 0.01 and Zoom
SUMMARY:Eml22: Tutorial (Group 1)
END:VEVENT
BEGIN:VEVENT
UID:32353566-3737-4530-b638-383966343339
DTSTAMP:20260423T184656Z
DESCRIPTION:1) Recap Lecture 5 - Classification II\n2) Solution to the Bonu
 s Problems in Assignment Sheet 1\n3) General Questions
DTSTART:20221129T110000Z
DTEND:20221129T130000Z
LOCATION:HS 0.02 and Zoom
SUMMARY:Eml22: Tutorial (Group 2)
END:VEVENT
BEGIN:VEVENT
UID:35623665-6235-4032-a464-353239363463
DTSTAMP:20260423T184656Z
DESCRIPTION:
DTSTART:20221205T110000Z
DTEND:20221205T130000Z
LOCATION:HS 0.01 and Zoom
SUMMARY:Eml22: Tutorial (Group 1)
END:VEVENT
BEGIN:VEVENT
UID:30336565-6338-4732-b534-643061376263
DTSTAMP:20260423T184656Z
DESCRIPTION:
DTSTART:20221206T110000Z
DTEND:20221206T130000Z
LOCATION:HS 0.02 and Zoom
SUMMARY:Eml22: Tutorial (Group 2)
END:VEVENT
BEGIN:VEVENT
UID:33356538-3437-4164-b934-373364366436
DTSTAMP:20260423T184656Z
DESCRIPTION:
DTSTART:20221212T110000Z
DTEND:20221212T130000Z
LOCATION:HS 0.01 and Zoom
SUMMARY:Eml22: Tutorial (Group 1)
END:VEVENT
BEGIN:VEVENT
UID:65306265-6165-4036-b239-633036396236
DTSTAMP:20260423T184656Z
DESCRIPTION:
DTSTART:20221213T110000Z
DTEND:20221213T130000Z
LOCATION:HS 0.02 and Zoom
SUMMARY:Eml22: Tutorial (Group 2)
END:VEVENT
BEGIN:VEVENT
UID:37333931-3633-4238-b936-393730636462
DTSTAMP:20260423T184656Z
DESCRIPTION:
DTSTART:20221219T110000Z
DTEND:20221219T130000Z
LOCATION:Zoom
SUMMARY:Eml22: Tutorial (Group 1) (online only)
END:VEVENT
BEGIN:VEVENT
UID:37373939-3335-4337-b464-353330643031
DTSTAMP:20260423T184656Z
DESCRIPTION:
DTSTART:20221220T110000Z
DTEND:20221220T130000Z
LOCATION:Zoom
SUMMARY:Eml22: Tutorial (Group 2) (online only)
END:VEVENT
BEGIN:VEVENT
UID:36346163-6465-4739-b363-616232303233
DTSTAMP:20260423T184656Z
DESCRIPTION:
DTSTART:20230109T110000Z
DTEND:20230109T130000Z
LOCATION:HS 0.01 and Zoom
SUMMARY:Eml22: Tutorial (Group 1)
END:VEVENT
BEGIN:VEVENT
UID:62336163-6565-4431-b832-613433393131
DTSTAMP:20260423T184656Z
DESCRIPTION:
DTSTART:20230110T110000Z
DTEND:20230110T130000Z
LOCATION:HS 0.02 and Zoom
SUMMARY:Eml22: Tutorial (Group 2)
END:VEVENT
BEGIN:VEVENT
UID:35633630-3861-4061-b861-303965333262
DTSTAMP:20260423T184656Z
DESCRIPTION:
DTSTART:20230116T110000Z
DTEND:20230116T130000Z
SUMMARY:Eml22: Tutorial (Group 1)
END:VEVENT
BEGIN:VEVENT
UID:35346565-3436-4664-b266-633363323165
DTSTAMP:20260423T184656Z
DESCRIPTION:
DTSTART:20230117T110000Z
DTEND:20230117T130000Z
LOCATION:HS 0.02 and Zoom
SUMMARY:Eml22: Tutorial (Group 2)
END:VEVENT
BEGIN:VEVENT
UID:34333430-3865-4963-b536-343332663132
DTSTAMP:20260423T184656Z
DESCRIPTION:
DTSTART:20230123T110000Z
DTEND:20230123T130000Z
LOCATION:HS 0.01 and Zoom
SUMMARY:Eml22: Tutorial (Group 1)
END:VEVENT
BEGIN:VEVENT
UID:64303335-3362-4635-b933-656461303736
DTSTAMP:20260423T184656Z
DESCRIPTION:
DTSTART:20230124T110000Z
DTEND:20230124T130000Z
LOCATION:HS 0.02 and Zoom
SUMMARY:Eml22: Tutorial (Group 2)
END:VEVENT
BEGIN:VEVENT
UID:36386536-3331-4732-a366-633437626266
DTSTAMP:20260423T184656Z
DESCRIPTION:
DTSTART:20230130T110000Z
DTEND:20230130T130000Z
LOCATION:HS 0.01 and Zoom
SUMMARY:Eml22: Tutorial (Group 1)
END:VEVENT
BEGIN:VEVENT
UID:30323263-6238-4935-b132-333437313239
DTSTAMP:20260423T184656Z
DESCRIPTION:
DTSTART:20230131T110000Z
DTEND:20230131T130000Z
LOCATION:HS 0.02 and Zoom
SUMMARY:Eml22: Tutorial (Group 2)
END:VEVENT
BEGIN:VEVENT
UID:39343534-6165-4534-b637-333962323964
DTSTAMP:20260423T184656Z
DESCRIPTION:
DTSTART:20230206T110000Z
DTEND:20230206T130000Z
LOCATION:HS 0.01 and Zoom
SUMMARY:Eml22: Tutorial (Group 1)
END:VEVENT
BEGIN:VEVENT
UID:38326435-3831-4539-a133-336265356437
DTSTAMP:20260423T184656Z
DESCRIPTION:
DTSTART:20230207T110000Z
DTEND:20230207T130000Z
LOCATION:HS 0.02 and Zoom
SUMMARY:Eml22: Tutorial (Group 2)
END:VEVENT
BEGIN:VEVENT
UID:31633262-3263-4163-b765-323662313362
DTSTAMP:20260423T184656Z
DESCRIPTION:
DTSTART:20230213T110000Z
DTEND:20230213T130000Z
LOCATION:HS 0.01 and Zoom
SUMMARY:Eml22: Tutorial (Group 1)
END:VEVENT
BEGIN:VEVENT
UID:35373839-3936-4239-a461-356331316539
DTSTAMP:20260423T184656Z
DESCRIPTION:
DTSTART:20230214T110000Z
DTEND:20230214T130000Z
LOCATION:HS 0.02 and Zoom
SUMMARY:Eml22: Tutorial (Group 2)
END:VEVENT
END:VCALENDAR
