BEGIN:VCALENDAR
VERSION:2.0
PRODID:-//127.0.1.1//NONSGML kigkonsult.se iCalcreator 2.41.92//
CALSCALE:GREGORIAN
METHOD:PUBLISH
UID:61363035-3137-4566-a233-616539666432
X-WR-CALNAME:Elements of Machine Learning Calendar
X-WR-CALDESC:Events of the lecture Elements of Machine Learning
X-WR-TIMEZONE:Europe/Berlin
BEGIN:VEVENT
UID:39326239-3063-4534-b263-316630343633
DTSTAMP:20260423T173229Z
DESCRIPTION:Main Exam\, Written\, In-Person.\n
DTSTART;VALUE=DATE:20230224
DTEND;VALUE=DATE:20230225
LOCATION:GHH
SUMMARY:Exam (Main)
END:VEVENT
BEGIN:VEVENT
UID:63636662-3239-4163-a131-303864356238
DTSTAMP:20260423T173229Z
DESCRIPTION:Re-Exam\, Written\, In-Person.\n
DTSTART;VALUE=DATE:20230322
DTEND;VALUE=DATE:20230323
LOCATION:GHH
SUMMARY:Exam (Re-Sit)
END:VEVENT
END:VCALENDAR
