BEGIN:VCALENDAR
VERSION:2.0
PRODID:-//127.0.1.1//NONSGML kigkonsult.se iCalcreator 2.41.92//
CALSCALE:GREGORIAN
METHOD:PUBLISH
UID:62663637-3565-4533-b966-663539386530
X-WR-CALNAME:Elements of Machine Learning Calendar
X-WR-CALDESC:Events of the lecture Elements of Machine Learning
X-WR-TIMEZONE:Europe/Berlin
BEGIN:VEVENT
UID:37666633-3063-4661-b866-633531636566
DTSTAMP:20260423T173351Z
DESCRIPTION:Main Exam\, Written\, In-Person.\n
DTSTART;VALUE=DATE:20230224
DTEND;VALUE=DATE:20230225
LOCATION:GHH
SUMMARY:Eml22: Exam (Main)
END:VEVENT
BEGIN:VEVENT
UID:32353663-6163-4531-a263-313361353937
DTSTAMP:20260423T173351Z
DESCRIPTION:Re-Exam\, Written\, In-Person.\n
DTSTART;VALUE=DATE:20230322
DTEND;VALUE=DATE:20230323
LOCATION:GHH
SUMMARY:Eml22: Exam (Re-Sit)
END:VEVENT
END:VCALENDAR
