BEGIN:VCALENDAR
VERSION:2.0
PRODID:-//127.0.1.1//NONSGML kigkonsult.se iCalcreator 2.41.92//
CALSCALE:GREGORIAN
METHOD:PUBLISH
UID:66653763-6663-4337-a338-613534306138
X-WR-CALNAME:Elements of Machine Learning Calendar
X-WR-CALDESC:Events of the lecture Elements of Machine Learning
X-WR-TIMEZONE:Europe/Berlin
BEGIN:VEVENT
UID:35383661-6431-4235-b737-346538353338
DTSTAMP:20260423T184716Z
DESCRIPTION:
DTSTART:20221029T215900Z
DTEND:20221029T215900Z
SUMMARY:Eml22: Tutorial Registration
END:VEVENT
BEGIN:VEVENT
UID:65396263-3836-4630-a230-363438356537
DTSTAMP:20260423T184716Z
DESCRIPTION:
DTSTART:20221117T150000Z
DTEND:20221117T150000Z
SUMMARY:Eml22: Deadline Assignment Sheet 1
END:VEVENT
BEGIN:VEVENT
UID:30636439-3730-4538-a431-333762323762
DTSTAMP:20260423T184716Z
DESCRIPTION:
DTSTART:20221201T150000Z
DTEND:20221201T150000Z
SUMMARY:Eml22: Deadline Assignment Sheet 2
END:VEVENT
BEGIN:VEVENT
UID:36376335-3137-4861-a233-336166656366
DTSTAMP:20260423T184716Z
DESCRIPTION:
DTSTART:20221215T150000Z
DTEND:20221215T150000Z
SUMMARY:Eml22: Deadline Assignment Sheet 3
END:VEVENT
BEGIN:VEVENT
UID:36333630-3434-4565-b639-306664353461
DTSTAMP:20260423T184716Z
DESCRIPTION:
DTSTART:20221222T150000Z
DTEND:20221222T150000Z
SUMMARY:Eml22: Deadline Assignment Sheet 4
END:VEVENT
BEGIN:VEVENT
UID:38636363-3465-4136-a135-396132336465
DTSTAMP:20260423T184716Z
DESCRIPTION:
DTSTART:20230119T150000Z
DTEND:20230119T150000Z
SUMMARY:Eml22: Deadline Assignment Sheet 5
END:VEVENT
BEGIN:VEVENT
UID:32316265-3838-4435-b138-333038363539
DTSTAMP:20260423T184716Z
DESCRIPTION:
DTSTART:20230202T150000Z
DTEND:20230202T150000Z
SUMMARY:Eml22: Deadline Assignment Sheet 6
END:VEVENT
BEGIN:VEVENT
UID:39653762-3738-4132-b864-353661373237
DTSTAMP:20260423T184716Z
DESCRIPTION:
DTSTART:20230215T225900Z
DTEND:20230215T225900Z
SUMMARY:Eml22: Exam Registration
END:VEVENT
BEGIN:VEVENT
UID:30376536-3437-4162-b836-363035386133
DTSTAMP:20260423T184716Z
DESCRIPTION:
DTSTART:20230315T225900Z
DTEND:20230315T225900Z
SUMMARY:Eml22: Exam Registration
END:VEVENT
END:VCALENDAR
