BEGIN:VCALENDAR
VERSION:2.0
PRODID:-//127.0.1.1//NONSGML kigkonsult.se iCalcreator 2.41.92//
CALSCALE:GREGORIAN
METHOD:PUBLISH
UID:65376635-6236-4833-a639-336238363438
X-WR-CALNAME:Elements of Machine Learning Calendar
X-WR-CALDESC:Events of the lecture Elements of Machine Learning
X-WR-TIMEZONE:Europe/Berlin
BEGIN:VEVENT
UID:66616539-3532-4633-b463-376539636364
DTSTAMP:20260423T184716Z
DESCRIPTION:
DTSTART:20221103T150000Z
DTEND:20221103T150000Z
SUMMARY:Eml22: Hand-out of Assignment Sheet 1
END:VEVENT
BEGIN:VEVENT
UID:64303037-6437-4433-a230-333764366264
DTSTAMP:20260423T184716Z
DESCRIPTION:
DTSTART:20221117T150000Z
DTEND:20221117T150000Z
SUMMARY:Eml22: Hand-out of Assignment Sheet 2
END:VEVENT
BEGIN:VEVENT
UID:39383564-3339-4437-b132-396632353161
DTSTAMP:20260423T184716Z
DESCRIPTION:
DTSTART:20221201T150000Z
DTEND:20221201T150000Z
SUMMARY:Eml22: Hand-out of Assignment Sheet 3
END:VEVENT
BEGIN:VEVENT
UID:66663034-6433-4232-a161-303036383431
DTSTAMP:20260423T184716Z
DESCRIPTION:
DTSTART:20221215T150000Z
DTEND:20221215T150000Z
SUMMARY:Eml22: Hand-out of Assignment Sheet 4
END:VEVENT
BEGIN:VEVENT
UID:32366538-3264-4461-a362-636564303763
DTSTAMP:20260423T184716Z
DESCRIPTION:
DTSTART:20230105T150000Z
DTEND:20230105T150000Z
SUMMARY:Eml22: Hand-out of Assignment Sheet 5
END:VEVENT
END:VCALENDAR
