BEGIN:VCALENDAR
VERSION:2.0
PRODID:-//127.0.1.1//NONSGML kigkonsult.se iCalcreator 2.41.92//
CALSCALE:GREGORIAN
METHOD:PUBLISH
UID:33306264-6437-4831-b864-666231623834
X-WR-CALNAME:Elements of Machine Learning Calendar
X-WR-CALDESC:Events of the lecture Elements of Machine Learning
X-WR-TIMEZONE:Europe/Berlin
BEGIN:VEVENT
UID:39633961-6432-4166-a135-336461393339
DTSTAMP:20260423T173325Z
DESCRIPTION:
DTSTART;VALUE=DATE:20221101
DTEND;VALUE=DATE:20221102
SUMMARY:Public Holiday
END:VEVENT
END:VCALENDAR
