BEGIN:VCALENDAR
VERSION:2.0
PRODID:-//127.0.1.1//NONSGML kigkonsult.se iCalcreator 2.41.92//
CALSCALE:GREGORIAN
METHOD:PUBLISH
UID:64353837-3339-4433-b663-323439326363
X-WR-CALNAME:Elements of Machine Learning Calendar
X-WR-CALDESC:Events of the lecture Elements of Machine Learning
X-WR-TIMEZONE:Europe/Berlin
BEGIN:VEVENT
UID:64393635-6362-4263-a437-393666386563
DTSTAMP:20260423T150113Z
DESCRIPTION:
DTSTART:20231026T140000Z
DTEND:20231026T160000Z
SUMMARY:Lecture 1 - Bias and Variance
END:VEVENT
BEGIN:VEVENT
UID:33383637-3166-4839-b438-346636386636
DTSTAMP:20260423T150113Z
DESCRIPTION:
DTSTART:20231102T150000Z
DTEND:20231102T170000Z
SUMMARY:Lecture 2 - Linear Regression 1
END:VEVENT
BEGIN:VEVENT
UID:66313537-6261-4137-b261-313934646165
DTSTAMP:20260423T150113Z
DESCRIPTION:
DTSTART:20231109T150000Z
DTEND:20231109T170000Z
SUMMARY:Lecture 3 - Linear Regression II
END:VEVENT
BEGIN:VEVENT
UID:64336231-6165-4034-b364-643534613363
DTSTAMP:20260423T150113Z
DESCRIPTION:
DTSTART:20231116T130000Z
DTEND:20231116T130000Z
SUMMARY:Deadline Assignment Sheet 1
END:VEVENT
BEGIN:VEVENT
UID:37373434-6331-4935-a531-383034363836
DTSTAMP:20260423T150113Z
DESCRIPTION:
DTSTART:20231116T150000Z
DTEND:20231116T170000Z
SUMMARY:Lecture 4 - Classification I
END:VEVENT
BEGIN:VEVENT
UID:36373931-6434-4832-a636-356565623231
DTSTAMP:20260423T150113Z
DESCRIPTION:
DTSTART:20231123T150000Z
DTEND:20231123T170000Z
SUMMARY:Lecture 5 - Classification II
END:VEVENT
BEGIN:VEVENT
UID:65323565-3065-4461-b333-303836653431
DTSTAMP:20260423T150113Z
DESCRIPTION:
DTSTART:20231130T130000Z
DTEND:20231130T130000Z
SUMMARY:Deadline Assignment Sheet 2
END:VEVENT
BEGIN:VEVENT
UID:61633432-6661-4932-b735-396138373030
DTSTAMP:20260423T150113Z
DESCRIPTION:
DTSTART:20231130T150000Z
DTEND:20231130T170000Z
SUMMARY:Lecture 6 - Generalization
END:VEVENT
BEGIN:VEVENT
UID:32663436-3661-4963-a661-643535646564
DTSTAMP:20260423T150113Z
DESCRIPTION:
DTSTART:20231207T150000Z
DTEND:20231207T170000Z
SUMMARY:Lecture 7 - Model Selection
END:VEVENT
BEGIN:VEVENT
UID:35313237-6530-4862-b238-353262663834
DTSTAMP:20260423T150113Z
DESCRIPTION:
DTSTART:20231214T130000Z
DTEND:20231214T130000Z
SUMMARY:Deadline Assignment Sheet 3
END:VEVENT
BEGIN:VEVENT
UID:33306536-6633-4433-a566-623238356531
DTSTAMP:20260423T150113Z
DESCRIPTION:
DTSTART:20231214T150000Z
DTEND:20231214T170000Z
SUMMARY:Lecture 8 - Beyond Linear
END:VEVENT
BEGIN:VEVENT
UID:65386232-3331-4034-b662-623437663666
DTSTAMP:20260423T150113Z
DESCRIPTION:
DTSTART:20240104T130000Z
DTEND:20240104T130000Z
SUMMARY:Deadline Assignment Sheet 4
END:VEVENT
BEGIN:VEVENT
UID:62323862-3830-4532-a130-386532366231
DTSTAMP:20260423T150113Z
DESCRIPTION:
DTSTART:20240104T150000Z
DTEND:20240104T170000Z
SUMMARY:Lecture 9 - Dimensionality Reduction
END:VEVENT
BEGIN:VEVENT
UID:30363964-3961-4031-b536-386266653662
DTSTAMP:20260423T150113Z
DESCRIPTION:
DTSTART:20240111T150000Z
DTEND:20240111T170000Z
SUMMARY:Lecture 10 - Clustering
END:VEVENT
BEGIN:VEVENT
UID:35623631-6534-4861-a230-376666346530
DTSTAMP:20260423T150113Z
DESCRIPTION:
DTSTART:20240118T130000Z
DTEND:20240118T130000Z
SUMMARY:Deadline Assignment Sheet 5
END:VEVENT
BEGIN:VEVENT
UID:35346163-6533-4366-b361-316663343636
DTSTAMP:20260423T150113Z
DESCRIPTION:
DTSTART:20240118T150000Z
DTEND:20240118T170000Z
SUMMARY:Lecture 11 - Trees and Forests
END:VEVENT
BEGIN:VEVENT
UID:34613038-3239-4238-b836-333737643434
DTSTAMP:20260423T150113Z
DESCRIPTION:
DTSTART:20240125T150000Z
DTEND:20240125T170000Z
SUMMARY:Lecture 12 - Support Vector Machines
END:VEVENT
BEGIN:VEVENT
UID:63306338-3064-4739-b731-636363363861
DTSTAMP:20260423T150113Z
DESCRIPTION:
DTSTART:20240201T130000Z
DTEND:20240201T130000Z
SUMMARY:Deadline Assignment Sheet 6
END:VEVENT
BEGIN:VEVENT
UID:66636330-6532-4764-a431-376539626434
DTSTAMP:20260423T150113Z
DESCRIPTION:
DTSTART:20240201T150000Z
DTEND:20240201T170000Z
SUMMARY:Lecture 13 - Neural Networks
END:VEVENT
BEGIN:VEVENT
UID:64343937-3633-4135-b561-663031346261
DTSTAMP:20260423T150113Z
DESCRIPTION:
DTSTART:20240208T150000Z
DTEND:20240208T170000Z
SUMMARY:Lecture 14 - ML and the Real World
END:VEVENT
BEGIN:VEVENT
UID:30333232-6630-4533-a534-653462643265
DTSTAMP:20260423T150113Z
DESCRIPTION:
DTSTART:20240216T225900Z
DTEND:20240216T225900Z
SUMMARY:Deadline Registration Exam
END:VEVENT
BEGIN:VEVENT
UID:39616336-3436-4639-a630-326239623666
DTSTAMP:20260423T150113Z
DESCRIPTION:
DTSTART:20240223T130000Z
DTEND:20240223T160000Z
SUMMARY:Exam
END:VEVENT
BEGIN:VEVENT
UID:65613739-3837-4332-b564-366266626661
DTSTAMP:20260423T150113Z
DESCRIPTION:
DTSTART:20240314T225900Z
DTEND:20240314T225900Z
SUMMARY:Deadline Registration Re-Exam
END:VEVENT
BEGIN:VEVENT
UID:31333031-3164-4638-b832-396135623539
DTSTAMP:20260423T150113Z
DESCRIPTION:
DTSTART:20240321T130000Z
DTEND:20240321T160000Z
SUMMARY:Re-Exam
END:VEVENT
END:VCALENDAR
