BEGIN:VCALENDAR
VERSION:2.0
PRODID:-//127.0.1.1//NONSGML kigkonsult.se iCalcreator 2.41.92//
CALSCALE:GREGORIAN
METHOD:PUBLISH
UID:31376663-3031-4539-a231-333833356161
X-WR-CALNAME:Elements of Machine Learning Calendar
X-WR-CALDESC:Events of the lecture Elements of Machine Learning
X-WR-TIMEZONE:Europe/Berlin
BEGIN:VEVENT
UID:61393565-6235-4531-a266-343338353831
DTSTAMP:20260423T150501Z
DESCRIPTION:
DTSTART:20231026T140000Z
DTEND:20231026T160000Z
SUMMARY:Eml23: Lecture 1 - Bias and Variance
END:VEVENT
BEGIN:VEVENT
UID:37653361-3034-4965-a562-363232666531
DTSTAMP:20260423T150501Z
DESCRIPTION:
DTSTART:20231102T150000Z
DTEND:20231102T170000Z
SUMMARY:Eml23: Lecture 2 - Linear Regression 1
END:VEVENT
BEGIN:VEVENT
UID:66623764-3062-4262-b065-626436646363
DTSTAMP:20260423T150501Z
DESCRIPTION:
DTSTART:20231109T150000Z
DTEND:20231109T170000Z
SUMMARY:Eml23: Lecture 3 - Linear Regression II
END:VEVENT
BEGIN:VEVENT
UID:30336466-6131-4364-b964-306532323331
DTSTAMP:20260423T150501Z
DESCRIPTION:
DTSTART:20231116T150000Z
DTEND:20231116T170000Z
SUMMARY:Eml23: Lecture 4 - Classification I
END:VEVENT
BEGIN:VEVENT
UID:63653337-3166-4432-a230-346461633030
DTSTAMP:20260423T150501Z
DESCRIPTION:
DTSTART:20231123T150000Z
DTEND:20231123T170000Z
SUMMARY:Eml23: Lecture 5 - Classification II
END:VEVENT
BEGIN:VEVENT
UID:37313065-3035-4632-b134-316362326234
DTSTAMP:20260423T150501Z
DESCRIPTION:
DTSTART:20231130T150000Z
DTEND:20231130T170000Z
SUMMARY:Eml23: Lecture 6 - Generalization
END:VEVENT
BEGIN:VEVENT
UID:34353936-6262-4263-a335-386336623762
DTSTAMP:20260423T150501Z
DESCRIPTION:
DTSTART:20231207T150000Z
DTEND:20231207T170000Z
SUMMARY:Eml23: Lecture 7 - Model Selection
END:VEVENT
BEGIN:VEVENT
UID:62333162-3466-4865-b233-343739303162
DTSTAMP:20260423T150501Z
DESCRIPTION:
DTSTART:20231214T150000Z
DTEND:20231214T170000Z
SUMMARY:Eml23: Lecture 8 - Beyond Linear
END:VEVENT
BEGIN:VEVENT
UID:62393662-3038-4836-b230-333130383330
DTSTAMP:20260423T150501Z
DESCRIPTION:
DTSTART:20240104T150000Z
DTEND:20240104T170000Z
SUMMARY:Eml23: Lecture 9 - Dimensionality Reduction
END:VEVENT
BEGIN:VEVENT
UID:37636337-3861-4131-b764-316230613139
DTSTAMP:20260423T150501Z
DESCRIPTION:
DTSTART:20240111T150000Z
DTEND:20240111T170000Z
SUMMARY:Eml23: Lecture 10 - Clustering
END:VEVENT
BEGIN:VEVENT
UID:32343635-6130-4330-b239-613638656538
DTSTAMP:20260423T150501Z
DESCRIPTION:
DTSTART:20240118T150000Z
DTEND:20240118T170000Z
SUMMARY:Eml23: Lecture 11 - Trees and Forests
END:VEVENT
BEGIN:VEVENT
UID:64613634-3361-4234-b330-613630393661
DTSTAMP:20260423T150501Z
DESCRIPTION:
DTSTART:20240125T150000Z
DTEND:20240125T170000Z
SUMMARY:Eml23: Lecture 12 - Support Vector Machines
END:VEVENT
BEGIN:VEVENT
UID:62326565-6363-4561-b437-393331353263
DTSTAMP:20260423T150501Z
DESCRIPTION:
DTSTART:20240201T150000Z
DTEND:20240201T170000Z
SUMMARY:Eml23: Lecture 13 - Neural Networks
END:VEVENT
BEGIN:VEVENT
UID:66643761-3230-4932-a439-306536373939
DTSTAMP:20260423T150501Z
DESCRIPTION:
DTSTART:20240208T150000Z
DTEND:20240208T170000Z
SUMMARY:Eml23: Lecture 14 - ML and the Real World
END:VEVENT
END:VCALENDAR
