BEGIN:VCALENDAR
VERSION:2.0
PRODID:-//127.0.1.1//NONSGML kigkonsult.se iCalcreator 2.41.92//
CALSCALE:GREGORIAN
METHOD:PUBLISH
UID:61623736-3535-4162-b334-666662666632
X-WR-CALNAME:Elements of Machine Learning Calendar
X-WR-CALDESC:Events of the lecture Elements of Machine Learning
X-WR-TIMEZONE:Europe/Berlin
BEGIN:VEVENT
UID:39353430-3431-4635-a433-373038383362
DTSTAMP:20260423T160302Z
DESCRIPTION:
DTSTART:20231116T130000Z
DTEND:20231116T130000Z
SUMMARY:Eml23: Deadline Assignment Sheet 1
END:VEVENT
BEGIN:VEVENT
UID:36383633-3362-4339-b434-333732626664
DTSTAMP:20260423T160302Z
DESCRIPTION:
DTSTART:20231130T130000Z
DTEND:20231130T130000Z
SUMMARY:Eml23: Deadline Assignment Sheet 2
END:VEVENT
BEGIN:VEVENT
UID:33323766-3964-4134-b263-333636376230
DTSTAMP:20260423T160302Z
DESCRIPTION:
DTSTART:20231214T130000Z
DTEND:20231214T130000Z
SUMMARY:Eml23: Deadline Assignment Sheet 3
END:VEVENT
BEGIN:VEVENT
UID:65643239-6138-4365-b861-626465333433
DTSTAMP:20260423T160302Z
DESCRIPTION:
DTSTART:20240104T130000Z
DTEND:20240104T130000Z
SUMMARY:Eml23: Deadline Assignment Sheet 4
END:VEVENT
BEGIN:VEVENT
UID:36643065-3630-4537-a238-613165383035
DTSTAMP:20260423T160302Z
DESCRIPTION:
DTSTART:20240118T130000Z
DTEND:20240118T130000Z
SUMMARY:Eml23: Deadline Assignment Sheet 5
END:VEVENT
BEGIN:VEVENT
UID:62383237-6134-4264-b966-353361303261
DTSTAMP:20260423T160302Z
DESCRIPTION:
DTSTART:20240201T130000Z
DTEND:20240201T130000Z
SUMMARY:Eml23: Deadline Assignment Sheet 6
END:VEVENT
BEGIN:VEVENT
UID:39333331-3938-4330-b239-386164356334
DTSTAMP:20260423T160302Z
DESCRIPTION:
DTSTART:20240216T225900Z
DTEND:20240216T225900Z
SUMMARY:Eml23: Deadline Registration Exam
END:VEVENT
BEGIN:VEVENT
UID:30363162-3830-4265-a464-646437313635
DTSTAMP:20260423T160302Z
DESCRIPTION:
DTSTART:20240314T225900Z
DTEND:20240314T225900Z
SUMMARY:Eml23: Deadline Registration Re-Exam
END:VEVENT
END:VCALENDAR
