BEGIN:VCALENDAR
VERSION:2.0
PRODID:-//127.0.1.1//NONSGML kigkonsult.se iCalcreator 2.41.92//
CALSCALE:GREGORIAN
METHOD:PUBLISH
UID:32333037-3936-4666-a466-623465633666
X-WR-CALNAME:Formal Methods in Security Calendar
X-WR-CALDESC:Events of the lecture Formal Methods in Security
X-WR-TIMEZONE:Europe/Berlin
BEGIN:VEVENT
UID:31356238-3035-4230-b063-643236613134
DTSTAMP:20260425T170648Z
DESCRIPTION:We will give an introduction lecture about the course on Wednes
 day 28.\n\nIf you are considering taking the course\, we recommend you to 
 attend this lecture\, which will give you an overview of the topics that w
 ill be discussed.
DTSTART:20201028T090000Z
DTEND:20201028T110000Z
LOCATION:Zoom: https://cispa-de.zoom.us/j/91272899429?pwd=c1NRanNtbC90RmYwR
 W9lWEh3b3p0dz09
SUMMARY:Introduction Lecture
END:VEVENT
BEGIN:VEVENT
UID:65313837-3065-4230-a335-316637346637
DTSTAMP:20260425T170648Z
DESCRIPTION:Basic background on Programming Language Theory and introductio
 n to static fine-grained IFC.\nBasic definitions (Lattice). Security IFC t
 ype system\, L-equivalence\, and non-interference.
DTSTART:20201104T090000Z
DTEND:20201104T110000Z
LOCATION:https://cispa-de.zoom.us/j/94800662920?pwd=SVVKbEJDU2t6ZFV4bk5JY05
 JQkFpdz09
SUMMARY:IFC Lecture 1
END:VEVENT
BEGIN:VEVENT
UID:36666463-6430-4361-b061-346134326633
DTSTAMP:20260425T170648Z
DESCRIPTION:
DTSTART:20201106T090000Z
DTEND:20201106T110000Z
LOCATION:Zoom (TBA)
SUMMARY:Q&A IFC
END:VEVENT
BEGIN:VEVENT
UID:31333738-3339-4065-b161-383330393865
DTSTAMP:20260425T170648Z
DESCRIPTION:Basic background on Programming Language Theory and introductio
 n to static fine-grained IFC.\nBasic definitions (Lattice). Security IFC t
 ype system\, L-equivalence\, and non-interference.
DTSTART:20201111T090000Z
DTEND:20201111T110000Z
LOCATION:https://cispa-de.zoom.us/j/94800662920?pwd=SVVKbEJDU2t6ZFV4bk5JY05
 JQkFpdz09
SUMMARY:IFC Lecture 1
END:VEVENT
BEGIN:VEVENT
UID:63383437-3338-4364-a432-343832373537
DTSTAMP:20260425T170648Z
DESCRIPTION:
DTSTART:20201113T090000Z
DTEND:20201113T110000Z
LOCATION:Zoom (TBA)
SUMMARY:Q&A IFC
END:VEVENT
BEGIN:VEVENT
UID:36646536-3265-4136-b862-323263386563
DTSTAMP:20260425T170648Z
DESCRIPTION:Basic background on Programming Language Theory and introductio
 n to static fine-grained IFC.\nBasic definitions (Lattice). Security IFC t
 ype system\, L-equivalence\, and non-interference.
DTSTART:20201118T090000Z
DTEND:20201118T110000Z
LOCATION:https://cispa-de.zoom.us/j/94800662920?pwd=SVVKbEJDU2t6ZFV4bk5JY05
 JQkFpdz09
SUMMARY:IFC Lecture 1
END:VEVENT
BEGIN:VEVENT
UID:38306166-6136-4437-b435-313135666334
DTSTAMP:20260425T170648Z
DESCRIPTION:
DTSTART:20201120T090000Z
DTEND:20201120T110000Z
LOCATION:Zoom (TBA)
SUMMARY:Q&A IFC
END:VEVENT
BEGIN:VEVENT
UID:64383638-6236-4361-b862-343062373432
DTSTAMP:20260425T170648Z
DESCRIPTION:Basic background on Programming Language Theory and introductio
 n to static fine-grained IFC.\nBasic definitions (Lattice). Security IFC t
 ype system\, L-equivalence\, and non-interference.
DTSTART:20201125T090000Z
DTEND:20201125T110000Z
LOCATION:https://cispa-de.zoom.us/j/94800662920?pwd=SVVKbEJDU2t6ZFV4bk5JY05
 JQkFpdz09
SUMMARY:IFC Lecture 1
END:VEVENT
BEGIN:VEVENT
UID:36626163-6531-4066-b739-393031386666
DTSTAMP:20260425T170648Z
DESCRIPTION:
DTSTART:20201127T090000Z
DTEND:20201127T110000Z
LOCATION:Zoom (TBA)
SUMMARY:Q&A IFC
END:VEVENT
BEGIN:VEVENT
UID:62393866-3463-4465-a565-383932383433
DTSTAMP:20260425T170648Z
DESCRIPTION:
DTSTART:20201130T090000Z
DTEND:20201130T090000Z
SUMMARY:SysV: First recorded lecture will be available
END:VEVENT
BEGIN:VEVENT
UID:36613537-3133-4165-a335-353563373464
DTSTAMP:20260425T170648Z
DESCRIPTION:
DTSTART:20201202T090000Z
DTEND:20201202T110000Z
LOCATION:https://cispa-de.zoom.us/j/97760616192?pwd=ZVJrRW9mclo2VmJ6TzF6V2d
 FY09udz09
SUMMARY:Q/A preliminaries
END:VEVENT
BEGIN:VEVENT
UID:38366465-6265-4665-a563-333436323537
DTSTAMP:20260425T170648Z
DESCRIPTION:
DTSTART:20201207T090000Z
DTEND:20201207T090000Z
SUMMARY:SysV: Second recorded lecture will be available
END:VEVENT
BEGIN:VEVENT
UID:61613538-6562-4234-b964-633033333837
DTSTAMP:20260425T170648Z
DESCRIPTION:
DTSTART:20201209T090000Z
DTEND:20201209T110000Z
LOCATION:https://cispa-de.zoom.us/j/98380099551?pwd=NGpyc29UWUhiaHZLQ2pqMXZ
 vUE9qZz09
SUMMARY:Q/A compositional verification
END:VEVENT
BEGIN:VEVENT
UID:31343066-3932-4533-a135-623432393962
DTSTAMP:20260425T170648Z
DESCRIPTION:
DTSTART:20201214T090000Z
DTEND:20201214T090000Z
SUMMARY:SysV: Third recorded lecture will be available
END:VEVENT
BEGIN:VEVENT
UID:61316163-3139-4934-a561-663164376535
DTSTAMP:20260425T170648Z
DESCRIPTION:
DTSTART:20201216T090000Z
DTEND:20201216T110000Z
LOCATION:https://cispa-de.zoom.us/j/97307213380?pwd=eTNxbHI2eHJWRStMQVZIUWJ
 jTXhOZz09
SUMMARY:Q/A refinement
END:VEVENT
BEGIN:VEVENT
UID:61663438-3065-4461-a432-353437333866
DTSTAMP:20260425T170648Z
DESCRIPTION:
DTSTART:20210104T090000Z
DTEND:20210104T090000Z
SUMMARY:SysV: Fourth recorded lecture will be available
END:VEVENT
BEGIN:VEVENT
UID:65393334-6261-4336-a462-326466373466
DTSTAMP:20260425T170648Z
DESCRIPTION:
DTSTART:20210106T090000Z
DTEND:20210106T110000Z
LOCATION:https://cispa-de.zoom.us/j/94653471916?pwd=bzFtaUdaL1NTY3VUYUhEZ2g
 yNU9oZz09
SUMMARY:Q/A A marriage of verification and testing
END:VEVENT
BEGIN:VEVENT
UID:65653461-6330-4834-b864-383562633539
DTSTAMP:20260425T170648Z
DESCRIPTION:
DTSTART;VALUE=DATE:20210113
DTEND;VALUE=DATE:20210114
LOCATION:https://cispa-de.zoom.us/j/93479792168?pwd=WkIyeG9BUDFnWlBxZ1hUNG1
 QUjZvZz09
SUMMARY:PROTO1: modelling
END:VEVENT
BEGIN:VEVENT
UID:37386162-3161-4665-b932-623363326234
DTSTAMP:20260425T170648Z
DESCRIPTION:
DTSTART:20210115T090000Z
DTEND:20210115T110000Z
LOCATION:https://rocketchat.cs.uni-saarland.de/channel/proto
SUMMARY:Q&A: PROTO1
END:VEVENT
BEGIN:VEVENT
UID:38363361-3861-4366-b339-643930386139
DTSTAMP:20260425T170648Z
DESCRIPTION:
DTSTART;VALUE=DATE:20210120
DTEND;VALUE=DATE:20210121
LOCATION:https://cispa-de.zoom.us/j/95553184253?pwd=UUdnZ1Nnc1lrWTdHV2VxcWl
 XRVJBZz09
SUMMARY:PROTO2: Applied-pi
END:VEVENT
BEGIN:VEVENT
UID:38343534-3462-4335-b733-363861623737
DTSTAMP:20260425T170648Z
DESCRIPTION:
DTSTART:20210122T090000Z
DTEND:20210122T110000Z
LOCATION:https://rocketchat.cs.uni-saarland.de/channel/proto
SUMMARY:Q&A: PROTO2
END:VEVENT
BEGIN:VEVENT
UID:35363431-6230-4439-b161-636461633065
DTSTAMP:20260425T170648Z
DESCRIPTION:
DTSTART;VALUE=DATE:20210127
DTEND;VALUE=DATE:20210128
LOCATION:https://cispa-de.zoom.us/j/96445853204?pwd=cktTNHpXN3Bob3RsYlpOQzl
 rM2JVQT09
SUMMARY:PROTO3: Verification tools
END:VEVENT
BEGIN:VEVENT
UID:34653435-6534-4062-b131-333261353061
DTSTAMP:20260425T170648Z
DESCRIPTION:
DTSTART:20210129T090000Z
DTEND:20210129T110000Z
LOCATION:https://rocketchat.cs.uni-saarland.de/channel/proto
SUMMARY:Q&A: PROTO3
END:VEVENT
BEGIN:VEVENT
UID:35346238-3430-4636-a138-656438663139
DTSTAMP:20260425T170648Z
DESCRIPTION:
DTSTART;VALUE=DATE:20210203
DTEND;VALUE=DATE:20210204
LOCATION:https://cispa-de.zoom.us/j/99708000942?pwd=Z3YxNHg5RXpMd3VLRFpSMW9
 YSDJuUT09
SUMMARY:PROTO4: Privacy
END:VEVENT
BEGIN:VEVENT
UID:35383162-3964-4331-b837-633833383630
DTSTAMP:20260425T170648Z
DESCRIPTION:
DTSTART:20210205T090000Z
DTEND:20210205T110000Z
LOCATION:https://rocketchat.cs.uni-saarland.de/channel/proto
SUMMARY:Q&A: PROTO4
END:VEVENT
BEGIN:VEVENT
UID:36383239-3636-4532-a434-663636653265
DTSTAMP:20260425T170648Z
DESCRIPTION:
DTSTART;VALUE=DATE:20210226
DTEND;VALUE=DATE:20210227
SUMMARY:PROTO project: early deadline
END:VEVENT
BEGIN:VEVENT
UID:33636231-3862-4763-b836-313938373466
DTSTAMP:20260425T170648Z
DESCRIPTION:
DTSTART;VALUE=DATE:20210326
DTEND;VALUE=DATE:20210327
SUMMARY:PROTO project: late deadline
END:VEVENT
END:VCALENDAR
