BEGIN:VCALENDAR
VERSION:2.0
PRODID:-//127.0.1.1//NONSGML kigkonsult.se iCalcreator 2.41.92//
CALSCALE:GREGORIAN
METHOD:PUBLISH
UID:33653338-3930-4464-a232-353661633634
X-WR-CALNAME:Formal Methods in Security Calendar
X-WR-CALDESC:Events of the lecture Formal Methods in Security
X-WR-TIMEZONE:Europe/Berlin
BEGIN:VEVENT
UID:64383863-6266-4861-a664-366263373533
DTSTAMP:20260425T170823Z
DESCRIPTION:We will give an introduction lecture about the course on Wednes
 day 28.\n\nIf you are considering taking the course\, we recommend you to 
 attend this lecture\, which will give you an overview of the topics that w
 ill be discussed.
DTSTART:20201028T090000Z
DTEND:20201028T110000Z
LOCATION:Zoom: https://cispa-de.zoom.us/j/91272899429?pwd=c1NRanNtbC90RmYwR
 W9lWEh3b3p0dz09
SUMMARY:Fms: Introduction Lecture
END:VEVENT
BEGIN:VEVENT
UID:37366330-3961-4632-b536-353137386334
DTSTAMP:20260425T170823Z
DESCRIPTION:Basic background on Programming Language Theory and introductio
 n to static fine-grained IFC.\nBasic definitions (Lattice). Security IFC t
 ype system\, L-equivalence\, and non-interference.
DTSTART:20201104T090000Z
DTEND:20201104T110000Z
LOCATION:https://cispa-de.zoom.us/j/94800662920?pwd=SVVKbEJDU2t6ZFV4bk5JY05
 JQkFpdz09
SUMMARY:Fms: IFC Lecture 1
END:VEVENT
BEGIN:VEVENT
UID:31393235-6365-4532-b162-386330663933
DTSTAMP:20260425T170823Z
DESCRIPTION:
DTSTART:20201106T090000Z
DTEND:20201106T110000Z
LOCATION:Zoom (TBA)
SUMMARY:Fms: Q&A IFC
END:VEVENT
BEGIN:VEVENT
UID:65623563-6261-4063-b037-303231353738
DTSTAMP:20260425T170823Z
DESCRIPTION:Basic background on Programming Language Theory and introductio
 n to static fine-grained IFC.\nBasic definitions (Lattice). Security IFC t
 ype system\, L-equivalence\, and non-interference.
DTSTART:20201111T090000Z
DTEND:20201111T110000Z
LOCATION:https://cispa-de.zoom.us/j/94800662920?pwd=SVVKbEJDU2t6ZFV4bk5JY05
 JQkFpdz09
SUMMARY:Fms: IFC Lecture 1
END:VEVENT
BEGIN:VEVENT
UID:37316335-3563-4931-a464-363931633461
DTSTAMP:20260425T170823Z
DESCRIPTION:
DTSTART:20201113T090000Z
DTEND:20201113T110000Z
LOCATION:Zoom (TBA)
SUMMARY:Fms: Q&A IFC
END:VEVENT
BEGIN:VEVENT
UID:32653139-6439-4461-b863-373938376666
DTSTAMP:20260425T170823Z
DESCRIPTION:Basic background on Programming Language Theory and introductio
 n to static fine-grained IFC.\nBasic definitions (Lattice). Security IFC t
 ype system\, L-equivalence\, and non-interference.
DTSTART:20201118T090000Z
DTEND:20201118T110000Z
LOCATION:https://cispa-de.zoom.us/j/94800662920?pwd=SVVKbEJDU2t6ZFV4bk5JY05
 JQkFpdz09
SUMMARY:Fms: IFC Lecture 1
END:VEVENT
BEGIN:VEVENT
UID:35343563-3265-4965-b461-633966336232
DTSTAMP:20260425T170823Z
DESCRIPTION:
DTSTART:20201120T090000Z
DTEND:20201120T110000Z
LOCATION:Zoom (TBA)
SUMMARY:Fms: Q&A IFC
END:VEVENT
BEGIN:VEVENT
UID:32616264-3665-4562-b564-336661656330
DTSTAMP:20260425T170823Z
DESCRIPTION:Basic background on Programming Language Theory and introductio
 n to static fine-grained IFC.\nBasic definitions (Lattice). Security IFC t
 ype system\, L-equivalence\, and non-interference.
DTSTART:20201125T090000Z
DTEND:20201125T110000Z
LOCATION:https://cispa-de.zoom.us/j/94800662920?pwd=SVVKbEJDU2t6ZFV4bk5JY05
 JQkFpdz09
SUMMARY:Fms: IFC Lecture 1
END:VEVENT
BEGIN:VEVENT
UID:62663437-6462-4461-a136-386562643438
DTSTAMP:20260425T170823Z
DESCRIPTION:
DTSTART:20201127T090000Z
DTEND:20201127T110000Z
LOCATION:Zoom (TBA)
SUMMARY:Fms: Q&A IFC
END:VEVENT
BEGIN:VEVENT
UID:61363639-3634-4562-b636-316437306230
DTSTAMP:20260425T170823Z
DESCRIPTION:
DTSTART:20201130T090000Z
DTEND:20201130T090000Z
SUMMARY:Fms: SysV: First recorded lecture will be available
END:VEVENT
BEGIN:VEVENT
UID:35626661-3161-4938-a637-386266643935
DTSTAMP:20260425T170823Z
DESCRIPTION:
DTSTART:20201202T090000Z
DTEND:20201202T110000Z
LOCATION:https://cispa-de.zoom.us/j/97760616192?pwd=ZVJrRW9mclo2VmJ6TzF6V2d
 FY09udz09
SUMMARY:Fms: Q/A preliminaries
END:VEVENT
BEGIN:VEVENT
UID:66623364-3135-4434-b765-326462376139
DTSTAMP:20260425T170823Z
DESCRIPTION:
DTSTART:20201207T090000Z
DTEND:20201207T090000Z
SUMMARY:Fms: SysV: Second recorded lecture will be available
END:VEVENT
BEGIN:VEVENT
UID:64623330-6539-4037-b638-326439333934
DTSTAMP:20260425T170823Z
DESCRIPTION:
DTSTART:20201209T090000Z
DTEND:20201209T110000Z
LOCATION:https://cispa-de.zoom.us/j/98380099551?pwd=NGpyc29UWUhiaHZLQ2pqMXZ
 vUE9qZz09
SUMMARY:Fms: Q/A compositional verification
END:VEVENT
BEGIN:VEVENT
UID:38623737-3862-4534-b336-333931323533
DTSTAMP:20260425T170823Z
DESCRIPTION:
DTSTART:20201214T090000Z
DTEND:20201214T090000Z
SUMMARY:Fms: SysV: Third recorded lecture will be available
END:VEVENT
BEGIN:VEVENT
UID:39663138-6663-4362-b862-326566376231
DTSTAMP:20260425T170823Z
DESCRIPTION:
DTSTART:20201216T090000Z
DTEND:20201216T110000Z
LOCATION:https://cispa-de.zoom.us/j/97307213380?pwd=eTNxbHI2eHJWRStMQVZIUWJ
 jTXhOZz09
SUMMARY:Fms: Q/A refinement
END:VEVENT
BEGIN:VEVENT
UID:39353732-3762-4461-a535-343966373531
DTSTAMP:20260425T170823Z
DESCRIPTION:
DTSTART:20210104T090000Z
DTEND:20210104T090000Z
SUMMARY:Fms: SysV: Fourth recorded lecture will be available
END:VEVENT
BEGIN:VEVENT
UID:64333831-6633-4632-b263-633733623666
DTSTAMP:20260425T170823Z
DESCRIPTION:
DTSTART:20210106T090000Z
DTEND:20210106T110000Z
LOCATION:https://cispa-de.zoom.us/j/94653471916?pwd=bzFtaUdaL1NTY3VUYUhEZ2g
 yNU9oZz09
SUMMARY:Fms: Q/A A marriage of verification and testing
END:VEVENT
BEGIN:VEVENT
UID:37323038-3437-4438-a466-646532636432
DTSTAMP:20260425T170823Z
DESCRIPTION:
DTSTART;VALUE=DATE:20210113
DTEND;VALUE=DATE:20210114
LOCATION:https://cispa-de.zoom.us/j/93479792168?pwd=WkIyeG9BUDFnWlBxZ1hUNG1
 QUjZvZz09
SUMMARY:Fms: PROTO1: modelling
END:VEVENT
BEGIN:VEVENT
UID:31366463-3734-4334-b637-353033633061
DTSTAMP:20260425T170823Z
DESCRIPTION:
DTSTART:20210115T090000Z
DTEND:20210115T110000Z
LOCATION:https://rocketchat.cs.uni-saarland.de/channel/proto
SUMMARY:Fms: Q&A: PROTO1
END:VEVENT
BEGIN:VEVENT
UID:32613664-6139-4233-b731-663566356261
DTSTAMP:20260425T170823Z
DESCRIPTION:
DTSTART;VALUE=DATE:20210120
DTEND;VALUE=DATE:20210121
LOCATION:https://cispa-de.zoom.us/j/95553184253?pwd=UUdnZ1Nnc1lrWTdHV2VxcWl
 XRVJBZz09
SUMMARY:Fms: PROTO2: Applied-pi
END:VEVENT
BEGIN:VEVENT
UID:66306139-3333-4362-b838-366331363131
DTSTAMP:20260425T170823Z
DESCRIPTION:
DTSTART:20210122T090000Z
DTEND:20210122T110000Z
LOCATION:https://rocketchat.cs.uni-saarland.de/channel/proto
SUMMARY:Fms: Q&A: PROTO2
END:VEVENT
BEGIN:VEVENT
UID:30363964-3235-4964-a331-646338633530
DTSTAMP:20260425T170823Z
DESCRIPTION:
DTSTART;VALUE=DATE:20210127
DTEND;VALUE=DATE:20210128
LOCATION:https://cispa-de.zoom.us/j/96445853204?pwd=cktTNHpXN3Bob3RsYlpOQzl
 rM2JVQT09
SUMMARY:Fms: PROTO3: Verification tools
END:VEVENT
BEGIN:VEVENT
UID:35653036-6232-4437-a635-643531363936
DTSTAMP:20260425T170823Z
DESCRIPTION:
DTSTART:20210129T090000Z
DTEND:20210129T110000Z
LOCATION:https://rocketchat.cs.uni-saarland.de/channel/proto
SUMMARY:Fms: Q&A: PROTO3
END:VEVENT
BEGIN:VEVENT
UID:35633232-3938-4065-a537-346662633530
DTSTAMP:20260425T170823Z
DESCRIPTION:
DTSTART;VALUE=DATE:20210203
DTEND;VALUE=DATE:20210204
LOCATION:https://cispa-de.zoom.us/j/99708000942?pwd=Z3YxNHg5RXpMd3VLRFpSMW9
 YSDJuUT09
SUMMARY:Fms: PROTO4: Privacy
END:VEVENT
BEGIN:VEVENT
UID:66376164-6332-4730-b037-316331643833
DTSTAMP:20260425T170823Z
DESCRIPTION:
DTSTART:20210205T090000Z
DTEND:20210205T110000Z
LOCATION:https://rocketchat.cs.uni-saarland.de/channel/proto
SUMMARY:Fms: Q&A: PROTO4
END:VEVENT
BEGIN:VEVENT
UID:36353733-6462-4431-b661-323464383464
DTSTAMP:20260425T170823Z
DESCRIPTION:
DTSTART;VALUE=DATE:20210226
DTEND;VALUE=DATE:20210227
SUMMARY:Fms: PROTO project: early deadline
END:VEVENT
BEGIN:VEVENT
UID:64663237-6562-4966-a534-653366353139
DTSTAMP:20260425T170823Z
DESCRIPTION:
DTSTART;VALUE=DATE:20210326
DTEND;VALUE=DATE:20210327
SUMMARY:Fms: PROTO project: late deadline
END:VEVENT
END:VCALENDAR
