BEGIN:VCALENDAR
VERSION:2.0
PRODID:-//127.0.1.1//NONSGML kigkonsult.se iCalcreator 2.41.92//
CALSCALE:GREGORIAN
METHOD:PUBLISH
UID:63386134-3839-4534-b866-623635616537
X-WR-CALNAME:Joint Advances in Web Security Calendar
X-WR-CALDESC:Events of the lecture Joint Advances in Web Security
X-WR-TIMEZONE:Europe/Berlin
BEGIN:VEVENT
UID:35313561-6364-4563-b662-353262343635
DTSTAMP:20260422T152119Z
DESCRIPTION:
DTSTART:20191024T080000Z
DTEND:20191024T100000Z
LOCATION:Room 0.06 (CISPA)
SUMMARY:Seminar: Kick-off
END:VEVENT
BEGIN:VEVENT
UID:61323631-3166-4439-b562-636232323337
DTSTAMP:20260422T152119Z
DESCRIPTION:
DTSTART:20191031T090000Z
DTEND:20191031T110000Z
LOCATION:Room 0.06 (CISPA)
SUMMARY:Seminar: XSS
END:VEVENT
BEGIN:VEVENT
UID:65393037-3033-4030-a237-363031303335
DTSTAMP:20260422T152119Z
DESCRIPTION:
DTSTART:20191107T090000Z
DTEND:20191107T110000Z
LOCATION:Room 0.06 (CISPA)
SUMMARY:Seminar: PM
END:VEVENT
BEGIN:VEVENT
UID:38653262-3632-4139-b833-373232363730
DTSTAMP:20260422T152119Z
DESCRIPTION:
DTSTART:20191114T090000Z
DTEND:20191114T110000Z
LOCATION:Room 0.06 (CISPA)
SUMMARY:No Seminar
END:VEVENT
BEGIN:VEVENT
UID:62643833-3936-4436-a536-353230326331
DTSTAMP:20260422T152119Z
DESCRIPTION:
DTSTART:20191121T090000Z
DTEND:20191121T110000Z
LOCATION:Room 0.06 (CISPA)
SUMMARY:Seminar: SSO
END:VEVENT
BEGIN:VEVENT
UID:30376636-3661-4762-a131-656566393235
DTSTAMP:20260422T152119Z
DESCRIPTION:
DTSTART:20191128T090000Z
DTEND:20191128T110000Z
LOCATION:Room 0.06 (CISPA)
SUMMARY:Seminar: EXTENSIONS
END:VEVENT
BEGIN:VEVENT
UID:33366465-6430-4732-b938-393466363964
DTSTAMP:20260422T152119Z
DESCRIPTION:
DTSTART:20191205T090000Z
DTEND:20191205T110000Z
LOCATION:Room 0.06 (CISPA)
SUMMARY:Seminar: MOBWEB
END:VEVENT
BEGIN:VEVENT
UID:31353064-3662-4366-a164-353738383034
DTSTAMP:20260422T152119Z
DESCRIPTION:
DTSTART:20191212T090000Z
DTEND:20191212T110000Z
LOCATION:Room 0.06 (CISPA)
SUMMARY:Seminar: FRAMING
END:VEVENT
BEGIN:VEVENT
UID:64353238-3263-4565-b734-353563376464
DTSTAMP:20260422T152119Z
DESCRIPTION:
DTSTART:20191219T090000Z
DTEND:20191219T110000Z
LOCATION:Room 0.06 (CISPA)
SUMMARY:Seminar: JS
END:VEVENT
BEGIN:VEVENT
UID:61323434-3031-4661-a438-373665303333
DTSTAMP:20260422T152119Z
DESCRIPTION:
DTSTART:20200109T090000Z
DTEND:20200109T110000Z
LOCATION:Room 0.06 (CISPA)
SUMMARY:Seminar: VULNSCANNER
END:VEVENT
BEGIN:VEVENT
UID:66306231-6237-4330-a666-633361383861
DTSTAMP:20260422T152119Z
DESCRIPTION:
DTSTART:20200116T090000Z
DTEND:20200116T110000Z
LOCATION:Room 0.06 (CISPA)
SUMMARY:Seminar: XSLEAKS
END:VEVENT
BEGIN:VEVENT
UID:63663833-3335-4462-b866-393131623436
DTSTAMP:20260422T152119Z
DESCRIPTION:
DTSTART:20200123T090000Z
DTEND:20200123T110000Z
LOCATION:Room 0.06 (CISPA)
SUMMARY:Seminar: ARCHIVE
END:VEVENT
BEGIN:VEVENT
UID:62363737-3062-4239-b739-373864373432
DTSTAMP:20260422T152119Z
DESCRIPTION:
DTSTART:20200130T090000Z
DTEND:20200130T110000Z
LOCATION:Room 0.06 (CISPA)
SUMMARY:Seminar: FP
END:VEVENT
BEGIN:VEVENT
UID:65633337-6537-4834-a338-363533383132
DTSTAMP:20260422T152119Z
DESCRIPTION:
DTSTART:20200206T090000Z
DTEND:20200206T110000Z
LOCATION:Room 0.06 (CISPA)
SUMMARY:Seminar: SCP
END:VEVENT
BEGIN:VEVENT
UID:63373630-3739-4862-b565-623866303266
DTSTAMP:20260422T152119Z
DESCRIPTION:
DTSTART:20200227T160000Z
DTEND:20200227T160000Z
SUMMARY:Final submission
END:VEVENT
END:VCALENDAR
