BEGIN:VCALENDAR
VERSION:2.0
PRODID:-//127.0.1.1//NONSGML kigkonsult.se iCalcreator 2.41.92//
CALSCALE:GREGORIAN
METHOD:PUBLISH
UID:38666630-3031-4637-a530-643238336265
X-WR-CALNAME:Joint Advances in Web Security Calendar
X-WR-CALDESC:Events of the lecture Joint Advances in Web Security
X-WR-TIMEZONE:Europe/Berlin
BEGIN:VEVENT
UID:66363461-6365-4966-b765-313430396432
DTSTAMP:20260422T151615Z
DESCRIPTION:
DTSTART:20191114T090000Z
DTEND:20191114T110000Z
LOCATION:Room 0.06 (CISPA)
SUMMARY:Jaws1920: No Seminar
END:VEVENT
END:VCALENDAR
