BEGIN:VCALENDAR
VERSION:2.0
PRODID:-//127.0.1.1//NONSGML kigkonsult.se iCalcreator 2.41.92//
CALSCALE:GREGORIAN
METHOD:PUBLISH
UID:39373231-3564-4666-a664-396533656163
X-WR-CALNAME:Joint Advances in Web Security Calendar
X-WR-CALDESC:Events of the lecture Joint Advances in Web Security
X-WR-TIMEZONE:Europe/Berlin
BEGIN:VEVENT
UID:65393664-3665-4161-b336-646431356332
DTSTAMP:20260422T151503Z
DESCRIPTION:
DTSTART:20191024T080000Z
DTEND:20191024T100000Z
LOCATION:Room 0.06 (CISPA)
SUMMARY:Jaws1920: Seminar: Kick-off
END:VEVENT
BEGIN:VEVENT
UID:30653662-3235-4633-b065-643861356564
DTSTAMP:20260422T151503Z
DESCRIPTION:
DTSTART:20191031T090000Z
DTEND:20191031T110000Z
LOCATION:Room 0.06 (CISPA)
SUMMARY:Jaws1920: Seminar: XSS
END:VEVENT
BEGIN:VEVENT
UID:62343733-3261-4336-b237-306266666463
DTSTAMP:20260422T151503Z
DESCRIPTION:
DTSTART:20191107T090000Z
DTEND:20191107T110000Z
LOCATION:Room 0.06 (CISPA)
SUMMARY:Jaws1920: Seminar: PM
END:VEVENT
BEGIN:VEVENT
UID:39343237-3762-4238-a562-326130616233
DTSTAMP:20260422T151503Z
DESCRIPTION:
DTSTART:20191114T090000Z
DTEND:20191114T110000Z
LOCATION:Room 0.06 (CISPA)
SUMMARY:Jaws1920: No Seminar
END:VEVENT
BEGIN:VEVENT
UID:35373663-3139-4465-b533-336230343963
DTSTAMP:20260422T151503Z
DESCRIPTION:
DTSTART:20191121T090000Z
DTEND:20191121T110000Z
LOCATION:Room 0.06 (CISPA)
SUMMARY:Jaws1920: Seminar: SSO
END:VEVENT
BEGIN:VEVENT
UID:36393664-3266-4335-a564-643965663464
DTSTAMP:20260422T151503Z
DESCRIPTION:
DTSTART:20191128T090000Z
DTEND:20191128T110000Z
LOCATION:Room 0.06 (CISPA)
SUMMARY:Jaws1920: Seminar: EXTENSIONS
END:VEVENT
BEGIN:VEVENT
UID:64643365-3834-4835-a363-613631373234
DTSTAMP:20260422T151503Z
DESCRIPTION:
DTSTART:20191205T090000Z
DTEND:20191205T110000Z
LOCATION:Room 0.06 (CISPA)
SUMMARY:Jaws1920: Seminar: MOBWEB
END:VEVENT
BEGIN:VEVENT
UID:63633530-6563-4432-b766-653037386263
DTSTAMP:20260422T151503Z
DESCRIPTION:
DTSTART:20191212T090000Z
DTEND:20191212T110000Z
LOCATION:Room 0.06 (CISPA)
SUMMARY:Jaws1920: Seminar: FRAMING
END:VEVENT
BEGIN:VEVENT
UID:34323235-6632-4561-a662-373830336138
DTSTAMP:20260422T151503Z
DESCRIPTION:
DTSTART:20191219T090000Z
DTEND:20191219T110000Z
LOCATION:Room 0.06 (CISPA)
SUMMARY:Jaws1920: Seminar: JS
END:VEVENT
BEGIN:VEVENT
UID:64633866-3030-4365-a430-393062653839
DTSTAMP:20260422T151503Z
DESCRIPTION:
DTSTART:20200109T090000Z
DTEND:20200109T110000Z
LOCATION:Room 0.06 (CISPA)
SUMMARY:Jaws1920: Seminar: VULNSCANNER
END:VEVENT
BEGIN:VEVENT
UID:31303066-6635-4633-b735-353436333331
DTSTAMP:20260422T151503Z
DESCRIPTION:
DTSTART:20200116T090000Z
DTEND:20200116T110000Z
LOCATION:Room 0.06 (CISPA)
SUMMARY:Jaws1920: Seminar: XSLEAKS
END:VEVENT
BEGIN:VEVENT
UID:63393631-3163-4131-a334-633039396137
DTSTAMP:20260422T151503Z
DESCRIPTION:
DTSTART:20200123T090000Z
DTEND:20200123T110000Z
LOCATION:Room 0.06 (CISPA)
SUMMARY:Jaws1920: Seminar: ARCHIVE
END:VEVENT
BEGIN:VEVENT
UID:66386231-3335-4133-b033-346332313136
DTSTAMP:20260422T151503Z
DESCRIPTION:
DTSTART:20200130T090000Z
DTEND:20200130T110000Z
LOCATION:Room 0.06 (CISPA)
SUMMARY:Jaws1920: Seminar: FP
END:VEVENT
BEGIN:VEVENT
UID:61373165-3764-4635-b835-643832663064
DTSTAMP:20260422T151503Z
DESCRIPTION:
DTSTART:20200206T090000Z
DTEND:20200206T110000Z
LOCATION:Room 0.06 (CISPA)
SUMMARY:Jaws1920: Seminar: SCP
END:VEVENT
BEGIN:VEVENT
UID:36666639-6636-4163-b235-353764623761
DTSTAMP:20260422T151503Z
DESCRIPTION:
DTSTART:20200227T160000Z
DTEND:20200227T160000Z
SUMMARY:Jaws1920: Final submission
END:VEVENT
END:VCALENDAR
