BEGIN:VCALENDAR
VERSION:2.0
PRODID:-//127.0.1.1//NONSGML kigkonsult.se iCalcreator 2.41.92//
CALSCALE:GREGORIAN
METHOD:PUBLISH
UID:31623735-3431-4237-a638-346366666364
X-WR-CALNAME:Monitoring of Cyber-Physical Systems Calendar
X-WR-CALDESC:Events of the lecture Monitoring of Cyber-Physical Systems
X-WR-TIMEZONE:Europe/Berlin
BEGIN:VEVENT
UID:38666132-6565-4566-a231-663939633439
DTSTAMP:20260419T190327Z
DESCRIPTION:
DTSTART:20210414T080000Z
DTEND:20210414T100000Z
LOCATION:Zoom
SUMMARY:Kick-Off
END:VEVENT
END:VCALENDAR
