BEGIN:VCALENDAR
VERSION:2.0
PRODID:-//127.0.1.1//NONSGML kigkonsult.se iCalcreator 2.41.92//
CALSCALE:GREGORIAN
METHOD:PUBLISH
UID:63633736-3733-4436-a565-383833313935
X-WR-CALNAME:Monitoring of Cyber-Physical Systems Calendar
X-WR-CALDESC:Events of the lecture Monitoring of Cyber-Physical Systems
X-WR-TIMEZONE:Europe/Berlin
BEGIN:VEVENT
UID:61373034-3731-4433-a362-353665613262
DTSTAMP:20260419T171828Z
DESCRIPTION:
DTSTART;VALUE=DATE:20210523
DTEND;VALUE=DATE:20210524
SUMMARY:Individual Talk Paper Preferences
END:VEVENT
BEGIN:VEVENT
UID:39653666-3261-4239-b034-376531356333
DTSTAMP:20260419T171828Z
DESCRIPTION:
DTSTART;VALUE=DATE:20210526
DTEND;VALUE=DATE:20210527
SUMMARY:Individual Talk Paper Assignment
END:VEVENT
BEGIN:VEVENT
UID:66613465-3931-4731-a135-373436303630
DTSTAMP:20260419T171828Z
DESCRIPTION:
DTSTART:20210616T080000Z
DTEND:20210616T080000Z
LOCATION:Zoom
SUMMARY:Individual Talk: 1 + 2
END:VEVENT
BEGIN:VEVENT
UID:32646431-3435-4837-b864-366438393463
DTSTAMP:20260419T171828Z
DESCRIPTION:
DTSTART:20210623T080000Z
DTEND:20210623T080000Z
LOCATION:Zoom
SUMMARY:Individual Talk: 3 + 4
END:VEVENT
BEGIN:VEVENT
UID:35636139-3139-4630-a265-353237613630
DTSTAMP:20260419T171828Z
DESCRIPTION:
DTSTART:20210630T080000Z
DTEND:20210630T080000Z
LOCATION:Zoom
SUMMARY:Individual Talk: 5 + 6
END:VEVENT
BEGIN:VEVENT
UID:34343235-3336-4039-b136-623562373832
DTSTAMP:20260419T171828Z
DESCRIPTION:
DTSTART:20210707T080000Z
DTEND:20210707T080000Z
LOCATION:Zoom
SUMMARY:Individual Talk: 7 + 8
END:VEVENT
BEGIN:VEVENT
UID:33326236-3563-4430-b936-313837303333
DTSTAMP:20260419T171828Z
DESCRIPTION:
DTSTART:20210714T080000Z
DTEND:20210714T080000Z
LOCATION:Zoom
SUMMARY:Individual Talk: 9 + 10
END:VEVENT
BEGIN:VEVENT
UID:63343135-3462-4635-a431-343861666135
DTSTAMP:20260419T171828Z
DESCRIPTION:
DTSTART:20210721T080000Z
DTEND:20210721T080000Z
LOCATION:Zoom
SUMMARY:Individual Talk: 11 + 12
END:VEVENT
END:VCALENDAR
