BEGIN:VCALENDAR
VERSION:2.0
PRODID:-//127.0.1.1//NONSGML kigkonsult.se iCalcreator 2.41.92//
CALSCALE:GREGORIAN
METHOD:PUBLISH
UID:38623631-6464-4033-a463-363434623665
X-WR-CALNAME:Monitoring of Cyber-Physical Systems Calendar
X-WR-CALDESC:Events of the lecture Monitoring of Cyber-Physical Systems
X-WR-TIMEZONE:Europe/Berlin
BEGIN:VEVENT
UID:34313833-6434-4066-b261-363232343866
DTSTAMP:20260419T171850Z
DESCRIPTION:AoE
DTSTART;VALUE=DATE:20210814
DTEND;VALUE=DATE:20210815
SUMMARY:Soft Deadline Individual Talk Summary
END:VEVENT
BEGIN:VEVENT
UID:34353139-3434-4461-b635-653661306431
DTSTAMP:20260419T171850Z
DESCRIPTION:AoE
DTSTART;VALUE=DATE:20210828
DTEND;VALUE=DATE:20210829
SUMMARY:Hard Deadline Individual Talk Summary
END:VEVENT
END:VCALENDAR
