BEGIN:VCALENDAR
VERSION:2.0
PRODID:-//127.0.1.1//NONSGML kigkonsult.se iCalcreator 2.41.92//
CALSCALE:GREGORIAN
METHOD:PUBLISH
UID:65613435-6631-4832-b738-363532323530
X-WR-CALNAME:Monitoring of Cyber-Physical Systems Calendar
X-WR-CALDESC:Events of the lecture Monitoring of Cyber-Physical Systems
X-WR-TIMEZONE:Europe/Berlin
BEGIN:VEVENT
UID:62633537-3435-4532-b462-383861313563
DTSTAMP:20260419T171849Z
DESCRIPTION:
DTSTART:20210414T080000Z
DTEND:20210414T100000Z
LOCATION:Zoom
SUMMARY:Moncps: Kick-Off
END:VEVENT
BEGIN:VEVENT
UID:35383234-3033-4865-b332-636633363363
DTSTAMP:20260419T171849Z
DESCRIPTION:
DTSTART;VALUE=DATE:20210415
DTEND;VALUE=DATE:20210416
SUMMARY:Moncps: Reading Group Assignment
END:VEVENT
BEGIN:VEVENT
UID:63323231-3531-4433-b262-626338616462
DTSTAMP:20260419T171849Z
DESCRIPTION:
DTSTART:20210505T080000Z
DTEND:20210505T080000Z
LOCATION:Zoom
SUMMARY:Moncps: Reading Group 1 Presentation
END:VEVENT
BEGIN:VEVENT
UID:37383636-6534-4565-b862-396335656462
DTSTAMP:20260419T171849Z
DESCRIPTION:
DTSTART:20210512T080000Z
DTEND:20210512T100000Z
LOCATION:Zoom
SUMMARY:Moncps: Reading Group 2 Presentation
END:VEVENT
BEGIN:VEVENT
UID:35383965-6465-4534-b935-383338373863
DTSTAMP:20260419T171849Z
DESCRIPTION:
DTSTART:20210519T080000Z
DTEND:20210519T100000Z
LOCATION:Zoom
SUMMARY:Moncps: Reading Group 3 Presentation
END:VEVENT
BEGIN:VEVENT
UID:66613230-3732-4134-b665-313639626131
DTSTAMP:20260419T171849Z
DESCRIPTION:
DTSTART;VALUE=DATE:20210523
DTEND;VALUE=DATE:20210524
SUMMARY:Moncps: Individual Talk Paper Preferences
END:VEVENT
BEGIN:VEVENT
UID:39636138-6166-4132-b436-613061346166
DTSTAMP:20260419T171849Z
DESCRIPTION:
DTSTART;VALUE=DATE:20210526
DTEND;VALUE=DATE:20210527
SUMMARY:Moncps: Individual Talk Paper Assignment
END:VEVENT
BEGIN:VEVENT
UID:33343163-3936-4730-b130-386466353836
DTSTAMP:20260419T171849Z
DESCRIPTION:
DTSTART;VALUE=DATE:20210609
DTEND;VALUE=DATE:20210610
SUMMARY:Moncps: Deadline Reading Group Summary
END:VEVENT
BEGIN:VEVENT
UID:38633737-3361-4235-b365-363531336132
DTSTAMP:20260419T171849Z
DESCRIPTION:
DTSTART:20210616T080000Z
DTEND:20210616T080000Z
LOCATION:Zoom
SUMMARY:Moncps: Individual Talk: 1 + 2
END:VEVENT
BEGIN:VEVENT
UID:64373632-3835-4162-a661-636539643536
DTSTAMP:20260419T171849Z
DESCRIPTION:
DTSTART:20210623T080000Z
DTEND:20210623T080000Z
LOCATION:Zoom
SUMMARY:Moncps: Individual Talk: 3 + 4
END:VEVENT
BEGIN:VEVENT
UID:31383534-3537-4063-b639-376338646133
DTSTAMP:20260419T171849Z
DESCRIPTION:
DTSTART:20210630T080000Z
DTEND:20210630T080000Z
LOCATION:Zoom
SUMMARY:Moncps: Individual Talk: 5 + 6
END:VEVENT
BEGIN:VEVENT
UID:61326161-3431-4431-b430-653032343439
DTSTAMP:20260419T171849Z
DESCRIPTION:
DTSTART:20210707T080000Z
DTEND:20210707T080000Z
LOCATION:Zoom
SUMMARY:Moncps: Individual Talk: 7 + 8
END:VEVENT
BEGIN:VEVENT
UID:30663130-3332-4039-a666-376134306135
DTSTAMP:20260419T171849Z
DESCRIPTION:
DTSTART:20210714T080000Z
DTEND:20210714T080000Z
LOCATION:Zoom
SUMMARY:Moncps: Individual Talk: 9 + 10
END:VEVENT
BEGIN:VEVENT
UID:36366264-3662-4333-b864-616561393233
DTSTAMP:20260419T171849Z
DESCRIPTION:
DTSTART:20210721T080000Z
DTEND:20210721T080000Z
LOCATION:Zoom
SUMMARY:Moncps: Individual Talk: 11 + 12
END:VEVENT
BEGIN:VEVENT
UID:63393838-6133-4835-a263-346563623261
DTSTAMP:20260419T171849Z
DESCRIPTION:AoE
DTSTART;VALUE=DATE:20210814
DTEND;VALUE=DATE:20210815
SUMMARY:Moncps: Soft Deadline Individual Talk Summary
END:VEVENT
BEGIN:VEVENT
UID:37356539-3031-4637-b462-363839353737
DTSTAMP:20260419T171849Z
DESCRIPTION:AoE
DTSTART;VALUE=DATE:20210828
DTEND;VALUE=DATE:20210829
SUMMARY:Moncps: Hard Deadline Individual Talk Summary
END:VEVENT
END:VCALENDAR
