BEGIN:VCALENDAR
VERSION:2.0
PRODID:-//127.0.1.1//NONSGML kigkonsult.se iCalcreator 2.41.92//
CALSCALE:GREGORIAN
METHOD:PUBLISH
UID:63366361-3732-4033-b139-353931313930
X-WR-CALNAME:Privacy Enhancing Technologies Calendar
X-WR-CALDESC:Events of the lecture Privacy Enhancing Technologies
X-WR-TIMEZONE:Europe/Berlin
BEGIN:VEVENT
UID:39636664-3962-4061-a162-653365636332
DTSTAMP:20260422T100513Z
DESCRIPTION:
DTSTART:20180416T100000Z
DTEND:20180416T120000Z
LOCATION:E9 1 (CISPA)\, room 0.05 (lecture hall ground floor)
SUMMARY:Privacy Enhancing Technologies
END:VEVENT
BEGIN:VEVENT
UID:35303361-3163-4463-b061-623233613736
DTSTAMP:20260422T100513Z
DESCRIPTION:
DTSTART:20180430T100000Z
DTEND:20180430T120000Z
LOCATION:E9 1 (CISPA)\, room 0.05 (lecture hall ground floor)
SUMMARY:Privacy Enhancing Technologies
END:VEVENT
BEGIN:VEVENT
UID:34663836-6635-4330-a439-316362343236
DTSTAMP:20260422T100513Z
DESCRIPTION:
DTSTART:20180507T100000Z
DTEND:20180507T120000Z
LOCATION:E9 1 (CISPA)\, room 0.05 (lecture hall ground floor)
SUMMARY:Privacy Enhancing Technologies
END:VEVENT
BEGIN:VEVENT
UID:31366666-3731-4337-a233-643739346466
DTSTAMP:20260422T100513Z
DESCRIPTION:
DTSTART:20180514T100000Z
DTEND:20180514T120000Z
LOCATION:E9 1 (CISPA)\, room 0.05 (lecture hall ground floor)
SUMMARY:Privacy Enhancing Technologies
END:VEVENT
BEGIN:VEVENT
UID:63633733-3464-4534-a637-323534643438
DTSTAMP:20260422T100513Z
DESCRIPTION:
DTSTART:20180521T100000Z
DTEND:20180521T120000Z
LOCATION:E9 1 (CISPA)\, room 0.05 (lecture hall ground floor)
SUMMARY:Privacy Enhancing Technologies
END:VEVENT
BEGIN:VEVENT
UID:66626634-6433-4537-b338-383239353765
DTSTAMP:20260422T100513Z
DESCRIPTION:
DTSTART:20180528T100000Z
DTEND:20180528T120000Z
LOCATION:E9 1 (CISPA)\, room 0.05 (lecture hall ground floor)
SUMMARY:Privacy Enhancing Technologies
END:VEVENT
BEGIN:VEVENT
UID:33626264-3739-4062-b835-623732366338
DTSTAMP:20260422T100513Z
DESCRIPTION:
DTSTART:20180604T100000Z
DTEND:20180604T120000Z
LOCATION:E9 1 (CISPA)\, room 0.05 (lecture hall ground floor)
SUMMARY:Privacy Enhancing Technologies
END:VEVENT
BEGIN:VEVENT
UID:32383865-3532-4739-b636-333330616635
DTSTAMP:20260422T100513Z
DESCRIPTION:
DTSTART:20180611T100000Z
DTEND:20180611T120000Z
LOCATION:E9 1 (CISPA)\, room 0.05 (lecture hall ground floor)
SUMMARY:Privacy Enhancing Technologies
END:VEVENT
BEGIN:VEVENT
UID:30653830-6233-4230-b739-656465346434
DTSTAMP:20260422T100513Z
DESCRIPTION:
DTSTART:20180618T100000Z
DTEND:20180618T120000Z
LOCATION:E9 1 (CISPA)\, room 0.05 (lecture hall ground floor)
SUMMARY:Privacy Enhancing Technologies
END:VEVENT
BEGIN:VEVENT
UID:63313165-6430-4930-a136-613537623436
DTSTAMP:20260422T100513Z
DESCRIPTION:
DTSTART:20180625T100000Z
DTEND:20180625T120000Z
LOCATION:E9 1 (CISPA)\, room 0.05 (lecture hall ground floor)
SUMMARY:Privacy Enhancing Technologies
END:VEVENT
BEGIN:VEVENT
UID:37383161-6161-4465-b630-333434333565
DTSTAMP:20260422T100513Z
DESCRIPTION:
DTSTART:20180702T100000Z
DTEND:20180702T120000Z
LOCATION:E9 1 (CISPA)\, room 0.05 (lecture hall ground floor)
SUMMARY:Privacy Enhancing Technologies
END:VEVENT
BEGIN:VEVENT
UID:33346635-3763-4633-a262-346338633433
DTSTAMP:20260422T100513Z
DESCRIPTION:
DTSTART:20180709T100000Z
DTEND:20180709T120000Z
LOCATION:E9 1 (CISPA)\, room 0.05 (lecture hall ground floor)
SUMMARY:Privacy Enhancing Technologies
END:VEVENT
BEGIN:VEVENT
UID:33656437-3363-4164-a630-663835323662
DTSTAMP:20260422T100513Z
DESCRIPTION:
DTSTART:20180716T100000Z
DTEND:20180716T120000Z
LOCATION:E9 1 (CISPA)\, room 0.05 (lecture hall ground floor)
SUMMARY:Privacy Enhancing Technologies
END:VEVENT
END:VCALENDAR
