BEGIN:VCALENDAR
VERSION:2.0
PRODID:-//127.0.1.1//NONSGML kigkonsult.se iCalcreator 2.41.92//
CALSCALE:GREGORIAN
METHOD:PUBLISH
UID:63313130-6639-4130-b365-336562356164
X-WR-CALNAME:Privacy Enhancing Technologies Calendar
X-WR-CALDESC:Events of the lecture Privacy Enhancing Technologies
X-WR-TIMEZONE:Europe/Berlin
BEGIN:VEVENT
UID:35333331-3033-4533-b530-376636363734
DTSTAMP:20260422T100453Z
DESCRIPTION:
DTSTART:20180416T100000Z
DTEND:20180416T120000Z
LOCATION:E9 1 (CISPA)\, room 0.05 (lecture hall ground floor)
SUMMARY:Pets: Privacy Enhancing Technologies
END:VEVENT
BEGIN:VEVENT
UID:63646434-3739-4430-a536-666231386135
DTSTAMP:20260422T100453Z
DESCRIPTION:
DTSTART:20180430T100000Z
DTEND:20180430T120000Z
LOCATION:E9 1 (CISPA)\, room 0.05 (lecture hall ground floor)
SUMMARY:Pets: Privacy Enhancing Technologies
END:VEVENT
BEGIN:VEVENT
UID:62666534-6539-4563-a231-343339623965
DTSTAMP:20260422T100453Z
DESCRIPTION:
DTSTART:20180507T100000Z
DTEND:20180507T120000Z
LOCATION:E9 1 (CISPA)\, room 0.05 (lecture hall ground floor)
SUMMARY:Pets: Privacy Enhancing Technologies
END:VEVENT
BEGIN:VEVENT
UID:34333163-3031-4439-b463-363639636464
DTSTAMP:20260422T100453Z
DESCRIPTION:
DTSTART:20180514T100000Z
DTEND:20180514T120000Z
LOCATION:E9 1 (CISPA)\, room 0.05 (lecture hall ground floor)
SUMMARY:Pets: Privacy Enhancing Technologies
END:VEVENT
BEGIN:VEVENT
UID:65313964-3330-4331-b439-343166386562
DTSTAMP:20260422T100453Z
DESCRIPTION:
DTSTART:20180521T100000Z
DTEND:20180521T120000Z
LOCATION:E9 1 (CISPA)\, room 0.05 (lecture hall ground floor)
SUMMARY:Pets: Privacy Enhancing Technologies
END:VEVENT
BEGIN:VEVENT
UID:33376239-3461-4637-a536-373834646133
DTSTAMP:20260422T100453Z
DESCRIPTION:
DTSTART:20180528T100000Z
DTEND:20180528T120000Z
LOCATION:E9 1 (CISPA)\, room 0.05 (lecture hall ground floor)
SUMMARY:Pets: Privacy Enhancing Technologies
END:VEVENT
BEGIN:VEVENT
UID:30613362-6636-4162-a334-663534373838
DTSTAMP:20260422T100453Z
DESCRIPTION:
DTSTART:20180604T100000Z
DTEND:20180604T120000Z
LOCATION:E9 1 (CISPA)\, room 0.05 (lecture hall ground floor)
SUMMARY:Pets: Privacy Enhancing Technologies
END:VEVENT
BEGIN:VEVENT
UID:62393266-3430-4635-b831-326336326464
DTSTAMP:20260422T100453Z
DESCRIPTION:
DTSTART:20180611T100000Z
DTEND:20180611T120000Z
LOCATION:E9 1 (CISPA)\, room 0.05 (lecture hall ground floor)
SUMMARY:Pets: Privacy Enhancing Technologies
END:VEVENT
BEGIN:VEVENT
UID:32613761-3964-4362-b964-656631363663
DTSTAMP:20260422T100453Z
DESCRIPTION:
DTSTART:20180618T100000Z
DTEND:20180618T120000Z
LOCATION:E9 1 (CISPA)\, room 0.05 (lecture hall ground floor)
SUMMARY:Pets: Privacy Enhancing Technologies
END:VEVENT
BEGIN:VEVENT
UID:34386432-6637-4038-a363-663832343932
DTSTAMP:20260422T100453Z
DESCRIPTION:
DTSTART:20180625T100000Z
DTEND:20180625T120000Z
LOCATION:E9 1 (CISPA)\, room 0.05 (lecture hall ground floor)
SUMMARY:Pets: Privacy Enhancing Technologies
END:VEVENT
BEGIN:VEVENT
UID:31643262-3533-4464-b030-383866313434
DTSTAMP:20260422T100453Z
DESCRIPTION:
DTSTART:20180702T100000Z
DTEND:20180702T120000Z
LOCATION:E9 1 (CISPA)\, room 0.05 (lecture hall ground floor)
SUMMARY:Pets: Privacy Enhancing Technologies
END:VEVENT
BEGIN:VEVENT
UID:62373233-3938-4637-a339-323138653864
DTSTAMP:20260422T100453Z
DESCRIPTION:
DTSTART:20180709T100000Z
DTEND:20180709T120000Z
LOCATION:E9 1 (CISPA)\, room 0.05 (lecture hall ground floor)
SUMMARY:Pets: Privacy Enhancing Technologies
END:VEVENT
BEGIN:VEVENT
UID:61386362-6530-4534-a331-363730653864
DTSTAMP:20260422T100453Z
DESCRIPTION:
DTSTART:20180716T100000Z
DTEND:20180716T120000Z
LOCATION:E9 1 (CISPA)\, room 0.05 (lecture hall ground floor)
SUMMARY:Pets: Privacy Enhancing Technologies
END:VEVENT
END:VCALENDAR
