BEGIN:VCALENDAR
VERSION:2.0
PRODID:-//127.0.1.1//NONSGML kigkonsult.se iCalcreator 2.41.92//
CALSCALE:GREGORIAN
METHOD:PUBLISH
UID:32643932-3731-4432-a233-383165656133
X-WR-CALNAME:Programmierung 1 Calendar
X-WR-CALDESC:Termine der Vorlesung Programmierung 1
X-WR-TIMEZONE:Europe/Berlin
BEGIN:VEVENT
UID:39383232-6537-4838-a230-306265333137
DTSTAMP:20260420T193408Z
DESCRIPTION:
DTSTART:20201110T071500Z
DTEND:20201110T084500Z
SUMMARY:Tutorium Slot A
END:VEVENT
BEGIN:VEVENT
UID:64633230-3235-4266-a261-653266393263
DTSTAMP:20260420T193408Z
DESCRIPTION:
DTSTART:20201110T091500Z
DTEND:20201110T104500Z
SUMMARY:Tutorium Slot B
END:VEVENT
BEGIN:VEVENT
UID:31333863-6530-4130-b233-613934366131
DTSTAMP:20260420T193408Z
DESCRIPTION:
DTSTART:20201111T131500Z
DTEND:20201111T144500Z
SUMMARY:Tutorium Slot C
END:VEVENT
BEGIN:VEVENT
UID:37646462-3262-4237-b966-303832643562
DTSTAMP:20260420T193408Z
DESCRIPTION:
DTSTART:20201111T151500Z
DTEND:20201111T164500Z
SUMMARY:Tutorium Slot D
END:VEVENT
BEGIN:VEVENT
UID:37656437-3735-4865-a636-366233346461
DTSTAMP:20260420T193408Z
DESCRIPTION:
DTSTART:20201111T171500Z
DTEND:20201111T184500Z
SUMMARY:Tutorium Slot E
END:VEVENT
BEGIN:VEVENT
UID:61656234-3135-4463-a266-643039383733
DTSTAMP:20260420T193408Z
DESCRIPTION:
DTSTART:20201117T071500Z
DTEND:20201117T084500Z
SUMMARY:Tutorium Slot A
END:VEVENT
BEGIN:VEVENT
UID:64383965-3035-4739-a466-363534376239
DTSTAMP:20260420T193408Z
DESCRIPTION:
DTSTART:20201117T091500Z
DTEND:20201117T104500Z
SUMMARY:Tutorium Slot B
END:VEVENT
BEGIN:VEVENT
UID:33303034-6437-4332-b137-303164353864
DTSTAMP:20260420T193408Z
DESCRIPTION:
DTSTART:20201118T131500Z
DTEND:20201118T144500Z
SUMMARY:Tutorium Slot C
END:VEVENT
BEGIN:VEVENT
UID:66336532-3861-4839-a535-396466366236
DTSTAMP:20260420T193408Z
DESCRIPTION:
DTSTART:20201118T151500Z
DTEND:20201118T164500Z
SUMMARY:Tutorium Slot D
END:VEVENT
BEGIN:VEVENT
UID:34656535-6130-4032-b434-386165656539
DTSTAMP:20260420T193408Z
DESCRIPTION:
DTSTART:20201118T171500Z
DTEND:20201118T184500Z
SUMMARY:Tutorium Slot E
END:VEVENT
BEGIN:VEVENT
UID:63346265-3936-4132-b135-663834623337
DTSTAMP:20260420T193408Z
DESCRIPTION:
DTSTART:20201124T071500Z
DTEND:20201124T084500Z
SUMMARY:Tutorium Slot A
END:VEVENT
BEGIN:VEVENT
UID:65396232-3130-4464-b366-633331353034
DTSTAMP:20260420T193408Z
DESCRIPTION:
DTSTART:20201124T091500Z
DTEND:20201124T104500Z
SUMMARY:Tutorium Slot B
END:VEVENT
BEGIN:VEVENT
UID:36653462-3434-4538-a164-633364393936
DTSTAMP:20260420T193408Z
DESCRIPTION:
DTSTART:20201125T131500Z
DTEND:20201125T144500Z
SUMMARY:Tutorium Slot C
END:VEVENT
BEGIN:VEVENT
UID:30373733-3430-4436-b862-366230353830
DTSTAMP:20260420T193408Z
DESCRIPTION:
DTSTART:20201125T151500Z
DTEND:20201125T164500Z
SUMMARY:Tutorium Slot D
END:VEVENT
BEGIN:VEVENT
UID:32633662-6439-4535-a333-393036376365
DTSTAMP:20260420T193408Z
DESCRIPTION:
DTSTART:20201125T171500Z
DTEND:20201125T184500Z
SUMMARY:Tutorium Slot E
END:VEVENT
BEGIN:VEVENT
UID:65623234-3166-4136-b065-646263646664
DTSTAMP:20260420T193408Z
DESCRIPTION:
DTSTART:20201201T071500Z
DTEND:20201201T084500Z
SUMMARY:Tutorium Slot A
END:VEVENT
BEGIN:VEVENT
UID:63303831-6132-4031-b762-306434313163
DTSTAMP:20260420T193408Z
DESCRIPTION:
DTSTART:20201201T091500Z
DTEND:20201201T104500Z
SUMMARY:Tutorium Slot B
END:VEVENT
BEGIN:VEVENT
UID:62396366-3337-4766-b565-383234396166
DTSTAMP:20260420T193408Z
DESCRIPTION:
DTSTART:20201202T131500Z
DTEND:20201202T144500Z
SUMMARY:Tutorium Slot C
END:VEVENT
BEGIN:VEVENT
UID:64633830-6639-4261-b965-626238303566
DTSTAMP:20260420T193408Z
DESCRIPTION:
DTSTART:20201202T151500Z
DTEND:20201202T164500Z
SUMMARY:Tutorium Slot D
END:VEVENT
BEGIN:VEVENT
UID:35643165-3830-4362-a336-373835366265
DTSTAMP:20260420T193408Z
DESCRIPTION:
DTSTART:20201202T171500Z
DTEND:20201202T184500Z
SUMMARY:Tutorium Slot E
END:VEVENT
BEGIN:VEVENT
UID:38616364-3162-4561-b063-616630633432
DTSTAMP:20260420T193408Z
DESCRIPTION:
DTSTART:20201208T071500Z
DTEND:20201208T084500Z
SUMMARY:Tutorium Slot A
END:VEVENT
BEGIN:VEVENT
UID:38366361-3436-4032-b635-623334373165
DTSTAMP:20260420T193408Z
DESCRIPTION:
DTSTART:20201208T091500Z
DTEND:20201208T104500Z
SUMMARY:Tutorium Slot B
END:VEVENT
BEGIN:VEVENT
UID:39383162-6639-4533-b031-336366356165
DTSTAMP:20260420T193408Z
DESCRIPTION:
DTSTART:20201209T131500Z
DTEND:20201209T144500Z
SUMMARY:Tutorium Slot C
END:VEVENT
BEGIN:VEVENT
UID:37323333-3539-4330-b338-323065363863
DTSTAMP:20260420T193408Z
DESCRIPTION:
DTSTART:20201209T151500Z
DTEND:20201209T164500Z
SUMMARY:Tutorium Slot D
END:VEVENT
BEGIN:VEVENT
UID:30643964-6637-4637-b139-626265376437
DTSTAMP:20260420T193408Z
DESCRIPTION:
DTSTART:20201209T171500Z
DTEND:20201209T184500Z
SUMMARY:Tutorium Slot E
END:VEVENT
BEGIN:VEVENT
UID:62316436-6331-4161-a239-313330363264
DTSTAMP:20260420T193408Z
DESCRIPTION:
DTSTART:20201215T071500Z
DTEND:20201215T084500Z
SUMMARY:Tutorium Slot A
END:VEVENT
BEGIN:VEVENT
UID:38346236-6366-4838-a535-653036323738
DTSTAMP:20260420T193408Z
DESCRIPTION:
DTSTART:20201215T091500Z
DTEND:20201215T104500Z
SUMMARY:Tutorium Slot B
END:VEVENT
BEGIN:VEVENT
UID:34363161-6536-4263-b861-613432313433
DTSTAMP:20260420T193408Z
DESCRIPTION:
DTSTART:20201216T131500Z
DTEND:20201216T144500Z
SUMMARY:Tutorium Slot C
END:VEVENT
BEGIN:VEVENT
UID:63313031-3539-4739-b332-626164623133
DTSTAMP:20260420T193408Z
DESCRIPTION:
DTSTART:20201216T151500Z
DTEND:20201216T164500Z
SUMMARY:Tutorium Slot D
END:VEVENT
BEGIN:VEVENT
UID:39666462-3961-4463-b836-346539366134
DTSTAMP:20260420T193408Z
DESCRIPTION:
DTSTART:20201216T171500Z
DTEND:20201216T184500Z
SUMMARY:Tutorium Slot E
END:VEVENT
BEGIN:VEVENT
UID:62303537-6636-4136-b035-353532373931
DTSTAMP:20260420T193408Z
DESCRIPTION:
DTSTART:20210105T071500Z
DTEND:20210105T084500Z
SUMMARY:Tutorium Slot A
END:VEVENT
BEGIN:VEVENT
UID:63313535-6662-4633-b832-313630363439
DTSTAMP:20260420T193408Z
DESCRIPTION:
DTSTART:20210105T091500Z
DTEND:20210105T104500Z
SUMMARY:Tutorium Slot B
END:VEVENT
BEGIN:VEVENT
UID:36343637-6137-4339-b065-356132663830
DTSTAMP:20260420T193408Z
DESCRIPTION:
DTSTART:20210106T131500Z
DTEND:20210106T144500Z
SUMMARY:Tutorium Slot C
END:VEVENT
BEGIN:VEVENT
UID:31373137-3361-4564-a261-383135353835
DTSTAMP:20260420T193408Z
DESCRIPTION:
DTSTART:20210106T151500Z
DTEND:20210106T164500Z
SUMMARY:Tutorium Slot D
END:VEVENT
BEGIN:VEVENT
UID:61393062-3835-4239-b830-313237653732
DTSTAMP:20260420T193408Z
DESCRIPTION:
DTSTART:20210106T171500Z
DTEND:20210106T184500Z
SUMMARY:Tutorium Slot E
END:VEVENT
BEGIN:VEVENT
UID:35333661-3734-4538-a230-363738613336
DTSTAMP:20260420T193408Z
DESCRIPTION:
DTSTART:20210112T071500Z
DTEND:20210112T084500Z
SUMMARY:Tutorium Slot A
END:VEVENT
BEGIN:VEVENT
UID:38306237-3936-4332-b966-326436396330
DTSTAMP:20260420T193408Z
DESCRIPTION:
DTSTART:20210112T091500Z
DTEND:20210112T104500Z
SUMMARY:Tutorium Slot B
END:VEVENT
BEGIN:VEVENT
UID:39393137-6161-4639-b366-653037633934
DTSTAMP:20260420T193408Z
DESCRIPTION:
DTSTART:20210113T131500Z
DTEND:20210113T144500Z
SUMMARY:Tutorium Slot C
END:VEVENT
BEGIN:VEVENT
UID:34663937-3764-4539-b837-303066366435
DTSTAMP:20260420T193408Z
DESCRIPTION:
DTSTART:20210113T151500Z
DTEND:20210113T164500Z
SUMMARY:Tutorium Slot D
END:VEVENT
BEGIN:VEVENT
UID:65333932-6162-4332-a530-643565666134
DTSTAMP:20260420T193408Z
DESCRIPTION:
DTSTART:20210113T171500Z
DTEND:20210113T184500Z
SUMMARY:Tutorium Slot E
END:VEVENT
BEGIN:VEVENT
UID:39646132-3237-4531-a162-393264306139
DTSTAMP:20260420T193408Z
DESCRIPTION:
DTSTART:20210119T071500Z
DTEND:20210119T084500Z
SUMMARY:Tutorium Slot A
END:VEVENT
BEGIN:VEVENT
UID:39636638-6638-4033-b535-303836373639
DTSTAMP:20260420T193408Z
DESCRIPTION:
DTSTART:20210119T091500Z
DTEND:20210119T104500Z
SUMMARY:Tutorium Slot B
END:VEVENT
BEGIN:VEVENT
UID:30363462-3366-4738-a433-316530666136
DTSTAMP:20260420T193408Z
DESCRIPTION:
DTSTART:20210120T131500Z
DTEND:20210120T144500Z
SUMMARY:Tutorium Slot C
END:VEVENT
BEGIN:VEVENT
UID:35636161-6365-4531-b761-363431633433
DTSTAMP:20260420T193408Z
DESCRIPTION:
DTSTART:20210120T151500Z
DTEND:20210120T164500Z
SUMMARY:Tutorium Slot D
END:VEVENT
BEGIN:VEVENT
UID:38326339-3862-4034-b866-353033343338
DTSTAMP:20260420T193408Z
DESCRIPTION:
DTSTART:20210120T171500Z
DTEND:20210120T184500Z
SUMMARY:Tutorium Slot E
END:VEVENT
BEGIN:VEVENT
UID:62323166-3237-4334-b061-393932643466
DTSTAMP:20260420T193408Z
DESCRIPTION:
DTSTART:20210126T071500Z
DTEND:20210126T084500Z
SUMMARY:Tutorium Slot A
END:VEVENT
BEGIN:VEVENT
UID:34663630-3930-4635-b737-643635333864
DTSTAMP:20260420T193408Z
DESCRIPTION:
DTSTART:20210126T091500Z
DTEND:20210126T104500Z
SUMMARY:Tutorium Slot B
END:VEVENT
BEGIN:VEVENT
UID:63613630-3331-4662-b161-633961366136
DTSTAMP:20260420T193408Z
DESCRIPTION:
DTSTART:20210127T131500Z
DTEND:20210127T144500Z
SUMMARY:Tutorium Slot C
END:VEVENT
BEGIN:VEVENT
UID:32356232-3037-4166-a539-376262373766
DTSTAMP:20260420T193408Z
DESCRIPTION:
DTSTART:20210127T151500Z
DTEND:20210127T164500Z
SUMMARY:Tutorium Slot D
END:VEVENT
BEGIN:VEVENT
UID:33316431-3264-4432-b333-306362336566
DTSTAMP:20260420T193408Z
DESCRIPTION:
DTSTART:20210127T171500Z
DTEND:20210127T184500Z
SUMMARY:Tutorium Slot E
END:VEVENT
BEGIN:VEVENT
UID:64393334-3835-4362-a130-663033313666
DTSTAMP:20260420T193408Z
DESCRIPTION:https://cs-uni-saarland-de.zoom.us/j/93615189171?pwd=S3BodDJLQX
 Vla0o2aUNreDJyTi85QT09
DTSTART:20210201T150000Z
DTEND:20210201T170000Z
LOCATION:Zoom
SUMMARY:Zusatztutorium Konstruktortypen
END:VEVENT
BEGIN:VEVENT
UID:33386533-6365-4665-a664-616134393064
DTSTAMP:20260420T193408Z
DESCRIPTION:
DTSTART:20210202T071500Z
DTEND:20210202T084500Z
SUMMARY:Tutorium Slot A
END:VEVENT
BEGIN:VEVENT
UID:30363338-6331-4634-b964-393734353531
DTSTAMP:20260420T193408Z
DESCRIPTION:
DTSTART:20210202T091500Z
DTEND:20210202T104500Z
SUMMARY:Tutorium Slot B
END:VEVENT
BEGIN:VEVENT
UID:36613731-6161-4663-b438-613537636336
DTSTAMP:20260420T193408Z
DESCRIPTION:https://cs-uni-saarland-de.zoom.us/j/93615189171?pwd=S3BodDJLQX
 Vla0o2aUNreDJyTi85QT09
DTSTART:20210202T150000Z
DTEND:20210202T170000Z
LOCATION:zoom
SUMMARY:Zusatztutorium Bäume
END:VEVENT
BEGIN:VEVENT
UID:62623138-6530-4135-b161-313031356535
DTSTAMP:20260420T193408Z
DESCRIPTION:
DTSTART:20210203T131500Z
DTEND:20210203T144500Z
SUMMARY:Tutorium Slot C
END:VEVENT
BEGIN:VEVENT
UID:30643435-3465-4061-b939-633338393830
DTSTAMP:20260420T193408Z
DESCRIPTION:
DTSTART:20210203T151500Z
DTEND:20210203T164500Z
SUMMARY:Tutorium Slot D
END:VEVENT
BEGIN:VEVENT
UID:61343765-6339-4461-b937-303630646637
DTSTAMP:20260420T193408Z
DESCRIPTION:
DTSTART:20210203T171500Z
DTEND:20210203T184500Z
SUMMARY:Tutorium Slot E
END:VEVENT
BEGIN:VEVENT
UID:31366166-6663-4865-b132-373765666561
DTSTAMP:20260420T193408Z
DESCRIPTION:https://cs-uni-saarland-de.zoom.us/j/93615189171?pwd=S3BodDJLQX
 Vla0o2aUNreDJyTi85QT09
DTSTART:20210204T150000Z
DTEND:20210204T170000Z
LOCATION:zoom
SUMMARY:Zusatztutorium Mengenlehre und Mathematische Prozeduren
END:VEVENT
BEGIN:VEVENT
UID:33333636-3231-4565-b364-386530653830
DTSTAMP:20260420T193408Z
DESCRIPTION:https://cs-uni-saarland-de.zoom.us/j/93615189171?pwd=S3BodDJLQX
 Vla0o2aUNreDJyTi85QT09
DTSTART:20210205T150000Z
DTEND:20210205T170000Z
LOCATION:zoom
SUMMARY:Zusatztutorium Induktion
END:VEVENT
BEGIN:VEVENT
UID:63346630-6364-4863-a133-366634333530
DTSTAMP:20260420T193408Z
DESCRIPTION:https://cs-uni-saarland-de.zoom.us/j/93615189171?pwd=S3BodDJLQX
 Vla0o2aUNreDJyTi85QT09
DTSTART:20210208T090000Z
DTEND:20210208T110000Z
LOCATION:zoom
SUMMARY:Zusatztutorium Laufzeit
END:VEVENT
BEGIN:VEVENT
UID:32653035-3731-4366-a665-373631393032
DTSTAMP:20260420T193408Z
DESCRIPTION:https://cs-uni-saarland-de.zoom.us/j/93615189171?pwd=S3BodDJLQX
 Vla0o2aUNreDJyTi85QT09
DTSTART:20210208T130000Z
DTEND:20210208T150000Z
LOCATION:zoom
SUMMARY:Zusatztutorium Statische und Dynamische Semantik
END:VEVENT
BEGIN:VEVENT
UID:38386366-3632-4131-a135-376530623161
DTSTAMP:20260420T193408Z
DESCRIPTION:https://cs-uni-saarland-de.zoom.us/j/93615189171?pwd=S3BodDJLQX
 Vla0o2aUNreDJyTi85QT09
DTSTART:20210209T090000Z
DTEND:20210209T110000Z
LOCATION:zoom
SUMMARY:Zusatztutorium Konkrete Syntax
END:VEVENT
END:VCALENDAR
