BEGIN:VCALENDAR
VERSION:2.0
PRODID:-//127.0.1.1//NONSGML kigkonsult.se iCalcreator 2.41.92//
CALSCALE:GREGORIAN
METHOD:PUBLISH
UID:62646132-3032-4638-a633-316639643539
X-WR-CALNAME:Programmierung 1 Calendar
X-WR-CALDESC:Termine der Vorlesung Programmierung 1
X-WR-TIMEZONE:Europe/Berlin
BEGIN:VEVENT
UID:37363237-6630-4432-b466-653636323939
DTSTAMP:20260420T193536Z
DESCRIPTION:
DTSTART:20201104T110000Z
DTEND:20201104T130000Z
SUMMARY:Office Hour
END:VEVENT
BEGIN:VEVENT
UID:61333262-3238-4466-a464-373165643637
DTSTAMP:20260420T193536Z
DESCRIPTION:
DTSTART:20201106T130000Z
DTEND:20201106T150000Z
SUMMARY:Office Hour
END:VEVENT
BEGIN:VEVENT
UID:39616430-3132-4532-b231-656130393232
DTSTAMP:20260420T193536Z
DESCRIPTION:
DTSTART:20201109T150000Z
DTEND:20201109T170000Z
SUMMARY:Office Hour
END:VEVENT
BEGIN:VEVENT
UID:38373864-6131-4732-a363-633232623363
DTSTAMP:20260420T193536Z
DESCRIPTION:
DTSTART:20201110T110000Z
DTEND:20201110T130000Z
SUMMARY:Office Hour
END:VEVENT
BEGIN:VEVENT
UID:66366366-3262-4461-b838-363462373938
DTSTAMP:20260420T193536Z
DESCRIPTION:
DTSTART:20201111T110000Z
DTEND:20201111T130000Z
SUMMARY:Office Hour
END:VEVENT
BEGIN:VEVENT
UID:34656237-3036-4661-b963-653330656362
DTSTAMP:20260420T193536Z
DESCRIPTION:
DTSTART:20201113T130000Z
DTEND:20201113T150000Z
SUMMARY:Office Hour
END:VEVENT
BEGIN:VEVENT
UID:62346464-6639-4430-a430-343863356436
DTSTAMP:20260420T193536Z
DESCRIPTION:
DTSTART:20201116T150000Z
DTEND:20201116T170000Z
SUMMARY:Office Hour
END:VEVENT
BEGIN:VEVENT
UID:33306136-3932-4565-b530-366332653839
DTSTAMP:20260420T193536Z
DESCRIPTION:
DTSTART:20201117T110000Z
DTEND:20201117T130000Z
SUMMARY:Office Hour
END:VEVENT
BEGIN:VEVENT
UID:66356536-3565-4438-b732-323537323330
DTSTAMP:20260420T193536Z
DESCRIPTION:
DTSTART:20201118T110000Z
DTEND:20201118T130000Z
SUMMARY:Office Hour
END:VEVENT
BEGIN:VEVENT
UID:63333364-3035-4437-b464-303533346138
DTSTAMP:20260420T193536Z
DESCRIPTION:
DTSTART:20201120T130000Z
DTEND:20201120T150000Z
SUMMARY:Office Hour
END:VEVENT
BEGIN:VEVENT
UID:32636465-3036-4036-b562-393734636230
DTSTAMP:20260420T193536Z
DESCRIPTION:
DTSTART:20201123T150000Z
DTEND:20201123T170000Z
SUMMARY:Office Hour
END:VEVENT
BEGIN:VEVENT
UID:32346532-3531-4036-b539-643637623064
DTSTAMP:20260420T193536Z
DESCRIPTION:
DTSTART:20201124T110000Z
DTEND:20201124T130000Z
SUMMARY:Office Hour
END:VEVENT
BEGIN:VEVENT
UID:64316563-3736-4637-b561-626363373866
DTSTAMP:20260420T193536Z
DESCRIPTION:
DTSTART:20201125T110000Z
DTEND:20201125T130000Z
SUMMARY:Office Hour
END:VEVENT
BEGIN:VEVENT
UID:63333164-3033-4734-b532-613238643133
DTSTAMP:20260420T193536Z
DESCRIPTION:
DTSTART:20201127T130000Z
DTEND:20201127T150000Z
SUMMARY:Office Hour
END:VEVENT
BEGIN:VEVENT
UID:30303965-6237-4033-b137-356563323761
DTSTAMP:20260420T193536Z
DESCRIPTION:
DTSTART:20201130T150000Z
DTEND:20201130T170000Z
SUMMARY:Office Hour
END:VEVENT
BEGIN:VEVENT
UID:32396662-3033-4438-b864-373039616463
DTSTAMP:20260420T193536Z
DESCRIPTION:
DTSTART:20201201T110000Z
DTEND:20201201T130000Z
SUMMARY:Office Hour
END:VEVENT
BEGIN:VEVENT
UID:37303865-3130-4230-b430-316563343236
DTSTAMP:20260420T193536Z
DESCRIPTION:
DTSTART:20201202T110000Z
DTEND:20201202T130000Z
SUMMARY:Office Hour
END:VEVENT
BEGIN:VEVENT
UID:33393661-3962-4063-a662-316162666164
DTSTAMP:20260420T193536Z
DESCRIPTION:
DTSTART:20201204T130000Z
DTEND:20201204T150000Z
SUMMARY:Office Hour
END:VEVENT
BEGIN:VEVENT
UID:62663363-3436-4030-b632-393530346430
DTSTAMP:20260420T193536Z
DESCRIPTION:
DTSTART:20201207T150000Z
DTEND:20201207T170000Z
SUMMARY:Office Hour
END:VEVENT
BEGIN:VEVENT
UID:34633636-3338-4066-a637-323665646561
DTSTAMP:20260420T193536Z
DESCRIPTION:
DTSTART:20201208T110000Z
DTEND:20201208T130000Z
SUMMARY:Office Hour
END:VEVENT
BEGIN:VEVENT
UID:33306365-3033-4330-b531-646665356234
DTSTAMP:20260420T193536Z
DESCRIPTION:
DTSTART:20201209T110000Z
DTEND:20201209T130000Z
SUMMARY:Office Hour
END:VEVENT
BEGIN:VEVENT
UID:36353861-3161-4666-a264-643864323631
DTSTAMP:20260420T193536Z
DESCRIPTION:
DTSTART:20201211T130000Z
DTEND:20201211T170000Z
SUMMARY:XXL Office Hour
END:VEVENT
BEGIN:VEVENT
UID:31303631-6431-4465-b836-343030656538
DTSTAMP:20260420T193536Z
DESCRIPTION:
DTSTART:20201215T110000Z
DTEND:20201215T130000Z
SUMMARY:Office Hour
END:VEVENT
BEGIN:VEVENT
UID:36373065-6130-4834-b966-663363343235
DTSTAMP:20260420T193536Z
DESCRIPTION:
DTSTART:20201216T110000Z
DTEND:20201216T130000Z
SUMMARY:Office Hour
END:VEVENT
BEGIN:VEVENT
UID:32396339-3038-4636-b739-336439613864
DTSTAMP:20260420T193536Z
DESCRIPTION:
DTSTART:20201218T130000Z
DTEND:20201218T150000Z
SUMMARY:Office Hour
END:VEVENT
BEGIN:VEVENT
UID:33656665-6533-4632-b963-373133323633
DTSTAMP:20260420T193536Z
DESCRIPTION:
DTSTART:20210104T150000Z
DTEND:20210104T170000Z
SUMMARY:Office Hour
END:VEVENT
BEGIN:VEVENT
UID:64623662-3536-4635-b131-396466323130
DTSTAMP:20260420T193536Z
DESCRIPTION:
DTSTART:20210105T110000Z
DTEND:20210105T130000Z
SUMMARY:Office Hour
END:VEVENT
BEGIN:VEVENT
UID:66653033-6139-4330-b831-313266306531
DTSTAMP:20260420T193536Z
DESCRIPTION:
DTSTART:20210106T110000Z
DTEND:20210106T130000Z
SUMMARY:Office Hour
END:VEVENT
BEGIN:VEVENT
UID:62643133-3438-4538-b735-626665303235
DTSTAMP:20260420T193536Z
DESCRIPTION:
DTSTART:20210108T130000Z
DTEND:20210108T150000Z
SUMMARY:Office Hour
END:VEVENT
BEGIN:VEVENT
UID:30333862-3039-4831-b730-366266646639
DTSTAMP:20260420T193536Z
DESCRIPTION:
DTSTART:20210111T150000Z
DTEND:20210111T170000Z
SUMMARY:Office Hour
END:VEVENT
BEGIN:VEVENT
UID:35346465-6463-4633-a136-383834383365
DTSTAMP:20260420T193536Z
DESCRIPTION:
DTSTART:20210112T110000Z
DTEND:20210112T130000Z
SUMMARY:Office Hour
END:VEVENT
BEGIN:VEVENT
UID:32653066-3039-4037-b130-313262323034
DTSTAMP:20260420T193536Z
DESCRIPTION:
DTSTART:20210113T110000Z
DTEND:20210113T130000Z
SUMMARY:Office Hour
END:VEVENT
BEGIN:VEVENT
UID:35396166-3039-4334-a233-633133636537
DTSTAMP:20260420T193536Z
DESCRIPTION:
DTSTART:20210115T130000Z
DTEND:20210115T150000Z
SUMMARY:Office Hour
END:VEVENT
BEGIN:VEVENT
UID:39353562-6334-4130-a365-393536343031
DTSTAMP:20260420T193536Z
DESCRIPTION:
DTSTART:20210118T150000Z
DTEND:20210118T170000Z
SUMMARY:Office Hour
END:VEVENT
BEGIN:VEVENT
UID:34333936-3438-4031-b734-646465356261
DTSTAMP:20260420T193536Z
DESCRIPTION:
DTSTART:20210119T110000Z
DTEND:20210119T130000Z
SUMMARY:Office Hour
END:VEVENT
BEGIN:VEVENT
UID:37366435-6632-4435-a534-356366353134
DTSTAMP:20260420T193536Z
DESCRIPTION:
DTSTART:20210120T110000Z
DTEND:20210120T130000Z
SUMMARY:Office Hour
END:VEVENT
BEGIN:VEVENT
UID:37663734-3937-4530-b866-626466633365
DTSTAMP:20260420T193536Z
DESCRIPTION:
DTSTART:20210122T130000Z
DTEND:20210122T150000Z
SUMMARY:Office Hour
END:VEVENT
BEGIN:VEVENT
UID:39306537-3832-4464-b531-646164613434
DTSTAMP:20260420T193536Z
DESCRIPTION:
DTSTART:20210125T150000Z
DTEND:20210125T170000Z
SUMMARY:Office Hour
END:VEVENT
BEGIN:VEVENT
UID:38616563-6663-4136-b162-323865663165
DTSTAMP:20260420T193536Z
DESCRIPTION:
DTSTART:20210126T110000Z
DTEND:20210126T130000Z
SUMMARY:Office Hour
END:VEVENT
BEGIN:VEVENT
UID:34633262-6433-4532-b962-626265393562
DTSTAMP:20260420T193536Z
DESCRIPTION:
DTSTART:20210127T110000Z
DTEND:20210127T130000Z
SUMMARY:Office Hour
END:VEVENT
BEGIN:VEVENT
UID:38646336-6263-4334-b638-646638623164
DTSTAMP:20260420T193536Z
DESCRIPTION:
DTSTART:20210129T130000Z
DTEND:20210129T150000Z
SUMMARY:Office Hour
END:VEVENT
BEGIN:VEVENT
UID:35653137-3638-4662-b063-326638393432
DTSTAMP:20260420T193536Z
DESCRIPTION:
DTSTART:20210202T110000Z
DTEND:20210202T130000Z
SUMMARY:Office Hour
END:VEVENT
BEGIN:VEVENT
UID:63323338-6366-4366-a264-303863626664
DTSTAMP:20260420T193536Z
DESCRIPTION:
DTSTART:20210203T110000Z
DTEND:20210203T130000Z
SUMMARY:Office Hour
END:VEVENT
BEGIN:VEVENT
UID:65613636-3434-4138-a565-386336653232
DTSTAMP:20260420T193536Z
DESCRIPTION:
DTSTART:20210205T130000Z
DTEND:20210205T150000Z
SUMMARY:Office Hour
END:VEVENT
BEGIN:VEVENT
UID:38376633-6133-4630-b362-663130643835
DTSTAMP:20260420T193536Z
DESCRIPTION:
DTSTART:20210211T130000Z
DTEND:20210211T160000Z
LOCATION:Discord
SUMMARY:XXL Office Hour
END:VEVENT
END:VCALENDAR
