BEGIN:VCALENDAR
VERSION:2.0
PRODID:-//127.0.1.1//NONSGML kigkonsult.se iCalcreator 2.41.92//
CALSCALE:GREGORIAN
METHOD:PUBLISH
UID:30643930-3737-4230-b130-613261306364
X-WR-CALNAME:Programmierung 1 Calendar
X-WR-CALDESC:Termine der Vorlesung Programmierung 1
X-WR-TIMEZONE:Europe/Berlin
BEGIN:VEVENT
UID:62633836-6238-4034-a234-356438333435
DTSTAMP:20260421T102756Z
DESCRIPTION:
DTSTART:20201104T110000Z
DTEND:20201104T130000Z
SUMMARY:Prog1: Office Hour
END:VEVENT
BEGIN:VEVENT
UID:62666164-6534-4537-b030-323834323365
DTSTAMP:20260421T102756Z
DESCRIPTION:
DTSTART:20201106T130000Z
DTEND:20201106T150000Z
SUMMARY:Prog1: Office Hour
END:VEVENT
BEGIN:VEVENT
UID:37643830-3131-4738-b038-623036646235
DTSTAMP:20260421T102756Z
DESCRIPTION:
DTSTART:20201109T150000Z
DTEND:20201109T170000Z
SUMMARY:Prog1: Office Hour
END:VEVENT
BEGIN:VEVENT
UID:36636565-6539-4665-b137-643263303930
DTSTAMP:20260421T102756Z
DESCRIPTION:
DTSTART:20201110T110000Z
DTEND:20201110T130000Z
SUMMARY:Prog1: Office Hour
END:VEVENT
BEGIN:VEVENT
UID:61376530-3030-4630-a237-356663323961
DTSTAMP:20260421T102756Z
DESCRIPTION:
DTSTART:20201111T110000Z
DTEND:20201111T130000Z
SUMMARY:Prog1: Office Hour
END:VEVENT
BEGIN:VEVENT
UID:37623663-3332-4330-b936-633839636365
DTSTAMP:20260421T102756Z
DESCRIPTION:
DTSTART:20201113T130000Z
DTEND:20201113T150000Z
SUMMARY:Prog1: Office Hour
END:VEVENT
BEGIN:VEVENT
UID:36376635-6464-4033-b533-313331323632
DTSTAMP:20260421T102756Z
DESCRIPTION:
DTSTART:20201116T150000Z
DTEND:20201116T170000Z
SUMMARY:Prog1: Office Hour
END:VEVENT
BEGIN:VEVENT
UID:63336239-6462-4031-a533-333165626465
DTSTAMP:20260421T102756Z
DESCRIPTION:
DTSTART:20201117T110000Z
DTEND:20201117T130000Z
SUMMARY:Prog1: Office Hour
END:VEVENT
BEGIN:VEVENT
UID:30653931-6363-4633-b533-636664633937
DTSTAMP:20260421T102756Z
DESCRIPTION:
DTSTART:20201118T110000Z
DTEND:20201118T130000Z
SUMMARY:Prog1: Office Hour
END:VEVENT
BEGIN:VEVENT
UID:61616234-3131-4361-a531-386432396265
DTSTAMP:20260421T102756Z
DESCRIPTION:
DTSTART:20201120T130000Z
DTEND:20201120T150000Z
SUMMARY:Prog1: Office Hour
END:VEVENT
BEGIN:VEVENT
UID:63316463-3830-4561-b930-613164623233
DTSTAMP:20260421T102756Z
DESCRIPTION:
DTSTART:20201123T150000Z
DTEND:20201123T170000Z
SUMMARY:Prog1: Office Hour
END:VEVENT
BEGIN:VEVENT
UID:34396430-3038-4137-b136-383032663135
DTSTAMP:20260421T102756Z
DESCRIPTION:
DTSTART:20201124T110000Z
DTEND:20201124T130000Z
SUMMARY:Prog1: Office Hour
END:VEVENT
BEGIN:VEVENT
UID:33356564-6634-4035-b230-646136383139
DTSTAMP:20260421T102756Z
DESCRIPTION:
DTSTART:20201125T110000Z
DTEND:20201125T130000Z
SUMMARY:Prog1: Office Hour
END:VEVENT
BEGIN:VEVENT
UID:38613266-3763-4234-a237-616332623133
DTSTAMP:20260421T102756Z
DESCRIPTION:
DTSTART:20201127T130000Z
DTEND:20201127T150000Z
SUMMARY:Prog1: Office Hour
END:VEVENT
BEGIN:VEVENT
UID:63386130-3732-4232-b534-643665333338
DTSTAMP:20260421T102756Z
DESCRIPTION:
DTSTART:20201130T150000Z
DTEND:20201130T170000Z
SUMMARY:Prog1: Office Hour
END:VEVENT
BEGIN:VEVENT
UID:31656639-3133-4336-b763-356665396164
DTSTAMP:20260421T102756Z
DESCRIPTION:
DTSTART:20201201T110000Z
DTEND:20201201T130000Z
SUMMARY:Prog1: Office Hour
END:VEVENT
BEGIN:VEVENT
UID:33356264-3066-4438-a465-623238333462
DTSTAMP:20260421T102756Z
DESCRIPTION:
DTSTART:20201202T110000Z
DTEND:20201202T130000Z
SUMMARY:Prog1: Office Hour
END:VEVENT
BEGIN:VEVENT
UID:37346434-3764-4434-b032-383264373634
DTSTAMP:20260421T102756Z
DESCRIPTION:
DTSTART:20201204T130000Z
DTEND:20201204T150000Z
SUMMARY:Prog1: Office Hour
END:VEVENT
BEGIN:VEVENT
UID:65363266-6264-4764-a136-356631663062
DTSTAMP:20260421T102756Z
DESCRIPTION:
DTSTART:20201207T150000Z
DTEND:20201207T170000Z
SUMMARY:Prog1: Office Hour
END:VEVENT
BEGIN:VEVENT
UID:34313033-3263-4835-b234-393765633433
DTSTAMP:20260421T102756Z
DESCRIPTION:
DTSTART:20201208T110000Z
DTEND:20201208T130000Z
SUMMARY:Prog1: Office Hour
END:VEVENT
BEGIN:VEVENT
UID:31383138-3430-4133-b133-316134386463
DTSTAMP:20260421T102756Z
DESCRIPTION:
DTSTART:20201209T110000Z
DTEND:20201209T130000Z
SUMMARY:Prog1: Office Hour
END:VEVENT
BEGIN:VEVENT
UID:30616638-3564-4737-a266-643933626564
DTSTAMP:20260421T102756Z
DESCRIPTION:
DTSTART:20201211T130000Z
DTEND:20201211T170000Z
SUMMARY:Prog1: XXL Office Hour
END:VEVENT
BEGIN:VEVENT
UID:33633164-3837-4366-a536-366233306234
DTSTAMP:20260421T102756Z
DESCRIPTION:
DTSTART:20201215T110000Z
DTEND:20201215T130000Z
SUMMARY:Prog1: Office Hour
END:VEVENT
BEGIN:VEVENT
UID:61363166-3036-4630-b064-663163663663
DTSTAMP:20260421T102756Z
DESCRIPTION:
DTSTART:20201216T110000Z
DTEND:20201216T130000Z
SUMMARY:Prog1: Office Hour
END:VEVENT
BEGIN:VEVENT
UID:61613464-3230-4136-a331-613030666633
DTSTAMP:20260421T102756Z
DESCRIPTION:
DTSTART:20201218T130000Z
DTEND:20201218T150000Z
SUMMARY:Prog1: Office Hour
END:VEVENT
BEGIN:VEVENT
UID:65366134-6366-4664-a533-633764323937
DTSTAMP:20260421T102756Z
DESCRIPTION:
DTSTART:20210104T150000Z
DTEND:20210104T170000Z
SUMMARY:Prog1: Office Hour
END:VEVENT
BEGIN:VEVENT
UID:35653438-6231-4162-a132-633334633431
DTSTAMP:20260421T102756Z
DESCRIPTION:
DTSTART:20210105T110000Z
DTEND:20210105T130000Z
SUMMARY:Prog1: Office Hour
END:VEVENT
BEGIN:VEVENT
UID:39626337-6539-4235-a265-623035633539
DTSTAMP:20260421T102756Z
DESCRIPTION:
DTSTART:20210106T110000Z
DTEND:20210106T130000Z
SUMMARY:Prog1: Office Hour
END:VEVENT
BEGIN:VEVENT
UID:32343636-6533-4431-a533-366534383831
DTSTAMP:20260421T102756Z
DESCRIPTION:
DTSTART:20210108T130000Z
DTEND:20210108T150000Z
SUMMARY:Prog1: Office Hour
END:VEVENT
BEGIN:VEVENT
UID:37353034-3832-4635-b764-353466313465
DTSTAMP:20260421T102756Z
DESCRIPTION:
DTSTART:20210111T150000Z
DTEND:20210111T170000Z
SUMMARY:Prog1: Office Hour
END:VEVENT
BEGIN:VEVENT
UID:39326366-3338-4831-b261-373461346566
DTSTAMP:20260421T102756Z
DESCRIPTION:
DTSTART:20210112T110000Z
DTEND:20210112T130000Z
SUMMARY:Prog1: Office Hour
END:VEVENT
BEGIN:VEVENT
UID:39306637-3838-4838-b931-386335363336
DTSTAMP:20260421T102756Z
DESCRIPTION:
DTSTART:20210113T110000Z
DTEND:20210113T130000Z
SUMMARY:Prog1: Office Hour
END:VEVENT
BEGIN:VEVENT
UID:31323637-3965-4333-b465-316661623233
DTSTAMP:20260421T102756Z
DESCRIPTION:
DTSTART:20210115T130000Z
DTEND:20210115T150000Z
SUMMARY:Prog1: Office Hour
END:VEVENT
BEGIN:VEVENT
UID:34303035-3238-4132-a461-613361316266
DTSTAMP:20260421T102756Z
DESCRIPTION:
DTSTART:20210118T150000Z
DTEND:20210118T170000Z
SUMMARY:Prog1: Office Hour
END:VEVENT
BEGIN:VEVENT
UID:34613934-3535-4061-b036-383861326532
DTSTAMP:20260421T102756Z
DESCRIPTION:
DTSTART:20210119T110000Z
DTEND:20210119T130000Z
SUMMARY:Prog1: Office Hour
END:VEVENT
BEGIN:VEVENT
UID:35343737-3034-4231-a631-313834656366
DTSTAMP:20260421T102756Z
DESCRIPTION:
DTSTART:20210120T110000Z
DTEND:20210120T130000Z
SUMMARY:Prog1: Office Hour
END:VEVENT
BEGIN:VEVENT
UID:37333966-6335-4531-b865-633437643931
DTSTAMP:20260421T102756Z
DESCRIPTION:
DTSTART:20210122T130000Z
DTEND:20210122T150000Z
SUMMARY:Prog1: Office Hour
END:VEVENT
BEGIN:VEVENT
UID:31656239-6238-4432-b531-633033383735
DTSTAMP:20260421T102756Z
DESCRIPTION:
DTSTART:20210125T150000Z
DTEND:20210125T170000Z
SUMMARY:Prog1: Office Hour
END:VEVENT
BEGIN:VEVENT
UID:63663533-3135-4239-b965-316237663034
DTSTAMP:20260421T102756Z
DESCRIPTION:
DTSTART:20210126T110000Z
DTEND:20210126T130000Z
SUMMARY:Prog1: Office Hour
END:VEVENT
BEGIN:VEVENT
UID:38306363-3333-4336-b530-356261316237
DTSTAMP:20260421T102756Z
DESCRIPTION:
DTSTART:20210127T110000Z
DTEND:20210127T130000Z
SUMMARY:Prog1: Office Hour
END:VEVENT
BEGIN:VEVENT
UID:39353062-6363-4365-b739-663438623262
DTSTAMP:20260421T102756Z
DESCRIPTION:
DTSTART:20210129T130000Z
DTEND:20210129T150000Z
SUMMARY:Prog1: Office Hour
END:VEVENT
BEGIN:VEVENT
UID:33613363-3638-4739-b065-633436343330
DTSTAMP:20260421T102756Z
DESCRIPTION:
DTSTART:20210202T110000Z
DTEND:20210202T130000Z
SUMMARY:Prog1: Office Hour
END:VEVENT
BEGIN:VEVENT
UID:65383464-6136-4431-a263-303362663830
DTSTAMP:20260421T102756Z
DESCRIPTION:
DTSTART:20210203T110000Z
DTEND:20210203T130000Z
SUMMARY:Prog1: Office Hour
END:VEVENT
BEGIN:VEVENT
UID:39316338-3762-4031-b830-303561623966
DTSTAMP:20260421T102756Z
DESCRIPTION:
DTSTART:20210205T130000Z
DTEND:20210205T150000Z
SUMMARY:Prog1: Office Hour
END:VEVENT
BEGIN:VEVENT
UID:34313764-3332-4635-a239-623964313230
DTSTAMP:20260421T102756Z
DESCRIPTION:
DTSTART:20210211T130000Z
DTEND:20210211T160000Z
LOCATION:Discord
SUMMARY:Prog1: XXL Office Hour
END:VEVENT
END:VCALENDAR
