BEGIN:VCALENDAR
VERSION:2.0
PRODID:-//127.0.1.1//NONSGML kigkonsult.se iCalcreator 2.41.92//
CALSCALE:GREGORIAN
METHOD:PUBLISH
UID:35343634-6235-4962-a562-333666376165
X-WR-CALNAME:Programmierung 1 Calendar
X-WR-CALDESC:Termine der Vorlesung Programmierung 1
X-WR-TIMEZONE:Europe/Berlin
BEGIN:VEVENT
UID:61376362-3332-4437-b663-643137316634
DTSTAMP:20260420T193536Z
DESCRIPTION:
DTSTART:20201112T090000Z
DTEND:20201112T091500Z
SUMMARY:Minitest A (keine Wertung)
END:VEVENT
BEGIN:VEVENT
UID:37616138-3835-4262-a232-636432643964
DTSTAMP:20260420T193536Z
DESCRIPTION:
DTSTART:20201119T090000Z
DTEND:20201119T091500Z
SUMMARY:Minitest B (Bonus)
END:VEVENT
BEGIN:VEVENT
UID:66663337-3335-4830-b337-393734613733
DTSTAMP:20260420T193536Z
DESCRIPTION:
DTSTART:20201126T090000Z
DTEND:20201126T091500Z
SUMMARY:Minitest C
END:VEVENT
BEGIN:VEVENT
UID:66623936-6230-4465-a263-346638356439
DTSTAMP:20260420T193536Z
DESCRIPTION:
DTSTART:20201203T090000Z
DTEND:20201203T091500Z
SUMMARY:Minitest D
END:VEVENT
BEGIN:VEVENT
UID:63386338-6238-4362-b833-393533656566
DTSTAMP:20260420T193536Z
DESCRIPTION:
DTSTART:20201210T090000Z
DTEND:20201210T091500Z
SUMMARY:Minitest E
END:VEVENT
BEGIN:VEVENT
UID:34636530-6563-4034-b464-356637636461
DTSTAMP:20260420T193536Z
DESCRIPTION:
DTSTART:20201212T083000Z
DTEND:20201212T103000Z
SUMMARY:Mittelklausur
END:VEVENT
BEGIN:VEVENT
UID:33383536-6463-4265-a434-666334633963
DTSTAMP:20260420T193536Z
DESCRIPTION:
DTSTART:20201217T090000Z
DTEND:20201217T091500Z
SUMMARY:Minitest F
END:VEVENT
BEGIN:VEVENT
UID:64336139-6263-4535-a138-383233303735
DTSTAMP:20260420T193536Z
DESCRIPTION:
DTSTART:20210107T090000Z
DTEND:20210107T091500Z
SUMMARY:Minitest G
END:VEVENT
BEGIN:VEVENT
UID:38393633-3463-4537-b831-383538396536
DTSTAMP:20260420T193536Z
DESCRIPTION:
DTSTART:20210109T083000Z
DTEND:20210109T103000Z
SUMMARY:Nach-Mittelklausur
END:VEVENT
BEGIN:VEVENT
UID:30616431-3430-4261-b231-363334333533
DTSTAMP:20260420T193536Z
DESCRIPTION:
DTSTART:20210114T090000Z
DTEND:20210114T091500Z
SUMMARY:Minitest H
END:VEVENT
BEGIN:VEVENT
UID:34333734-3361-4230-b566-363537633730
DTSTAMP:20260420T193536Z
DESCRIPTION:
DTSTART:20210121T090000Z
DTEND:20210121T091500Z
SUMMARY:Minitest I
END:VEVENT
BEGIN:VEVENT
UID:38333366-6437-4336-b139-306536306333
DTSTAMP:20260420T193536Z
DESCRIPTION:
DTSTART:20210128T090000Z
DTEND:20210128T091500Z
SUMMARY:Minitest J
END:VEVENT
BEGIN:VEVENT
UID:65366661-6331-4332-b436-346638336662
DTSTAMP:20260420T193536Z
DESCRIPTION:
DTSTART:20210204T090000Z
DTEND:20210204T091500Z
SUMMARY:Minitest K
END:VEVENT
BEGIN:VEVENT
UID:36353037-3439-4661-b832-623936356263
DTSTAMP:20260420T193536Z
DESCRIPTION:
DTSTART;VALUE=DATE:20210213
DTEND;VALUE=DATE:20210214
SUMMARY:Hauptklausur
END:VEVENT
BEGIN:VEVENT
UID:39636231-6133-4063-b136-313830613564
DTSTAMP:20260420T193536Z
DESCRIPTION:
DTSTART;VALUE=DATE:20210313
DTEND;VALUE=DATE:20210314
SUMMARY:Nach-Hauptklausur
END:VEVENT
END:VCALENDAR
