BEGIN:VCALENDAR
VERSION:2.0
PRODID:-//127.0.1.1//NONSGML kigkonsult.se iCalcreator 2.41.92//
CALSCALE:GREGORIAN
METHOD:PUBLISH
UID:32663230-6666-4932-b735-376135376135
X-WR-CALNAME:Programmierung 1 Calendar
X-WR-CALDESC:Termine der Vorlesung Programmierung 1
X-WR-TIMEZONE:Europe/Berlin
BEGIN:VEVENT
UID:38326637-6166-4635-a635-366266373138
DTSTAMP:20260420T193726Z
DESCRIPTION:
DTSTART;VALUE=DATE:20201019
DTEND;VALUE=DATE:20201020
SUMMARY:Prog1: Öffnung der Registrierung
END:VEVENT
BEGIN:VEVENT
UID:66323838-6166-4239-b066-323733666235
DTSTAMP:20260420T193726Z
DESCRIPTION:
DTSTART:20201214T160000Z
DTEND:20201214T180000Z
SUMMARY:Prog1: Einsicht Mittelklausur
END:VEVENT
BEGIN:VEVENT
UID:66366166-3138-4337-b433-626533646666
DTSTAMP:20260420T193726Z
DESCRIPTION:
DTSTART:20210112T160000Z
DTEND:20210112T180000Z
SUMMARY:Prog1: Einsicht Nach-Mittelklausur
END:VEVENT
END:VCALENDAR
