BEGIN:VCALENDAR
VERSION:2.0
PRODID:-//127.0.1.1//NONSGML kigkonsult.se iCalcreator 2.41.92//
CALSCALE:GREGORIAN
METHOD:PUBLISH
UID:39663835-6366-4034-b563-626331626437
X-WR-CALNAME:Programmierung 1 Calendar
X-WR-CALDESC:Termine der Vorlesung Programmierung 1
X-WR-TIMEZONE:Europe/Berlin
BEGIN:VEVENT
UID:33653562-6437-4465-b538-323562636535
DTSTAMP:20260420T193408Z
DESCRIPTION:
DTSTART;VALUE=DATE:20201019
DTEND;VALUE=DATE:20201020
SUMMARY:Prog1: Öffnung der Registrierung
END:VEVENT
BEGIN:VEVENT
UID:31633761-3866-4132-a434-633465643164
DTSTAMP:20260420T193408Z
DESCRIPTION:
DTSTART:20201103T131500Z
DTEND:20201103T150000Z
SUMMARY:Prog1: Vorlesung
END:VEVENT
BEGIN:VEVENT
UID:64316466-3732-4466-b132-656239383133
DTSTAMP:20260420T193408Z
DESCRIPTION:
DTSTART:20201104T110000Z
DTEND:20201104T130000Z
SUMMARY:Prog1: Office Hour
END:VEVENT
BEGIN:VEVENT
UID:39616536-3663-4530-b562-356362336264
DTSTAMP:20260420T193408Z
DESCRIPTION:
DTSTART:20201105T091500Z
DTEND:20201105T110000Z
SUMMARY:Prog1: Vorlesung
END:VEVENT
BEGIN:VEVENT
UID:36383138-3136-4137-b335-653033363461
DTSTAMP:20260420T193408Z
DESCRIPTION:
DTSTART:20201106T130000Z
DTEND:20201106T150000Z
SUMMARY:Prog1: Office Hour
END:VEVENT
BEGIN:VEVENT
UID:32303939-6630-4136-a436-303464633734
DTSTAMP:20260420T193408Z
DESCRIPTION:
DTSTART:20201109T150000Z
DTEND:20201109T170000Z
SUMMARY:Prog1: Office Hour
END:VEVENT
BEGIN:VEVENT
UID:38373237-6332-4466-b233-353536313931
DTSTAMP:20260420T193408Z
DESCRIPTION:
DTSTART:20201110T071500Z
DTEND:20201110T084500Z
SUMMARY:Prog1: Tutorium Slot A
END:VEVENT
BEGIN:VEVENT
UID:64336465-6333-4532-b337-613133323933
DTSTAMP:20260420T193408Z
DESCRIPTION:
DTSTART:20201110T091500Z
DTEND:20201110T104500Z
SUMMARY:Prog1: Tutorium Slot B
END:VEVENT
BEGIN:VEVENT
UID:62643735-3464-4432-b635-616433623132
DTSTAMP:20260420T193408Z
DESCRIPTION:
DTSTART:20201110T110000Z
DTEND:20201110T130000Z
SUMMARY:Prog1: Office Hour
END:VEVENT
BEGIN:VEVENT
UID:30333038-3630-4663-b665-623765616137
DTSTAMP:20260420T193408Z
DESCRIPTION:
DTSTART:20201110T131500Z
DTEND:20201110T150000Z
SUMMARY:Prog1: Vorlesung
END:VEVENT
BEGIN:VEVENT
UID:64643630-6665-4733-b830-373633343162
DTSTAMP:20260420T193408Z
DESCRIPTION:
DTSTART:20201111T110000Z
DTEND:20201111T130000Z
SUMMARY:Prog1: Office Hour
END:VEVENT
BEGIN:VEVENT
UID:32653931-3633-4133-b930-643630616466
DTSTAMP:20260420T193408Z
DESCRIPTION:
DTSTART:20201111T131500Z
DTEND:20201111T144500Z
SUMMARY:Prog1: Tutorium Slot C
END:VEVENT
BEGIN:VEVENT
UID:35353464-3335-4062-a366-323831313535
DTSTAMP:20260420T193408Z
DESCRIPTION:
DTSTART:20201111T151500Z
DTEND:20201111T164500Z
SUMMARY:Prog1: Tutorium Slot D
END:VEVENT
BEGIN:VEVENT
UID:66656563-3134-4632-b965-343463393665
DTSTAMP:20260420T193408Z
DESCRIPTION:
DTSTART:20201111T171500Z
DTEND:20201111T184500Z
SUMMARY:Prog1: Tutorium Slot E
END:VEVENT
BEGIN:VEVENT
UID:63346130-3033-4539-a336-393536636361
DTSTAMP:20260420T193408Z
DESCRIPTION:
DTSTART:20201112T090000Z
DTEND:20201112T091500Z
SUMMARY:Prog1: Minitest A (keine Wertung)
END:VEVENT
BEGIN:VEVENT
UID:62623836-3764-4537-b438-313963356536
DTSTAMP:20260420T193408Z
DESCRIPTION:
DTSTART:20201112T091500Z
DTEND:20201112T110000Z
SUMMARY:Prog1: Vorlesung
END:VEVENT
BEGIN:VEVENT
UID:61616565-6663-4564-b034-306264653862
DTSTAMP:20260420T193408Z
DESCRIPTION:
DTSTART:20201113T130000Z
DTEND:20201113T150000Z
SUMMARY:Prog1: Office Hour
END:VEVENT
BEGIN:VEVENT
UID:35666236-6636-4632-b436-386664633236
DTSTAMP:20260420T193408Z
DESCRIPTION:
DTSTART:20201116T150000Z
DTEND:20201116T170000Z
SUMMARY:Prog1: Office Hour
END:VEVENT
BEGIN:VEVENT
UID:62663230-3939-4865-a364-343930623166
DTSTAMP:20260420T193408Z
DESCRIPTION:
DTSTART:20201117T071500Z
DTEND:20201117T084500Z
SUMMARY:Prog1: Tutorium Slot A
END:VEVENT
BEGIN:VEVENT
UID:63663064-3163-4935-b164-373137356133
DTSTAMP:20260420T193408Z
DESCRIPTION:
DTSTART:20201117T091500Z
DTEND:20201117T104500Z
SUMMARY:Prog1: Tutorium Slot B
END:VEVENT
BEGIN:VEVENT
UID:32393635-6430-4361-b232-336439633733
DTSTAMP:20260420T193408Z
DESCRIPTION:
DTSTART:20201117T110000Z
DTEND:20201117T130000Z
SUMMARY:Prog1: Office Hour
END:VEVENT
BEGIN:VEVENT
UID:33643438-6164-4435-a132-376138393664
DTSTAMP:20260420T193408Z
DESCRIPTION:
DTSTART:20201117T131500Z
DTEND:20201117T150000Z
SUMMARY:Prog1: Vorlesung
END:VEVENT
BEGIN:VEVENT
UID:30306335-6462-4530-b939-313937353733
DTSTAMP:20260420T193408Z
DESCRIPTION:
DTSTART:20201118T110000Z
DTEND:20201118T130000Z
SUMMARY:Prog1: Office Hour
END:VEVENT
BEGIN:VEVENT
UID:37376661-6561-4230-b530-366538303238
DTSTAMP:20260420T193408Z
DESCRIPTION:
DTSTART:20201118T131500Z
DTEND:20201118T144500Z
SUMMARY:Prog1: Tutorium Slot C
END:VEVENT
BEGIN:VEVENT
UID:35326439-6533-4461-a532-666638306338
DTSTAMP:20260420T193408Z
DESCRIPTION:
DTSTART:20201118T151500Z
DTEND:20201118T164500Z
SUMMARY:Prog1: Tutorium Slot D
END:VEVENT
BEGIN:VEVENT
UID:30396639-3235-4332-a532-326233653136
DTSTAMP:20260420T193408Z
DESCRIPTION:
DTSTART:20201118T171500Z
DTEND:20201118T184500Z
SUMMARY:Prog1: Tutorium Slot E
END:VEVENT
BEGIN:VEVENT
UID:65393438-6637-4331-b136-623462623561
DTSTAMP:20260420T193408Z
DESCRIPTION:
DTSTART:20201119T090000Z
DTEND:20201119T091500Z
SUMMARY:Prog1: Minitest B (Bonus)
END:VEVENT
BEGIN:VEVENT
UID:64633332-3562-4863-b039-636565353364
DTSTAMP:20260420T193408Z
DESCRIPTION:
DTSTART:20201119T091500Z
DTEND:20201119T110000Z
SUMMARY:Prog1: Vorlesung
END:VEVENT
BEGIN:VEVENT
UID:64613864-3138-4462-b833-383436646635
DTSTAMP:20260420T193408Z
DESCRIPTION:
DTSTART:20201120T130000Z
DTEND:20201120T150000Z
SUMMARY:Prog1: Office Hour
END:VEVENT
BEGIN:VEVENT
UID:65393361-3565-4031-b431-356630323834
DTSTAMP:20260420T193408Z
DESCRIPTION:
DTSTART:20201123T150000Z
DTEND:20201123T170000Z
SUMMARY:Prog1: Office Hour
END:VEVENT
BEGIN:VEVENT
UID:62633731-6562-4164-b964-353734333762
DTSTAMP:20260420T193408Z
DESCRIPTION:
DTSTART:20201124T071500Z
DTEND:20201124T084500Z
SUMMARY:Prog1: Tutorium Slot A
END:VEVENT
BEGIN:VEVENT
UID:30623461-3538-4564-a138-363736613734
DTSTAMP:20260420T193408Z
DESCRIPTION:
DTSTART:20201124T091500Z
DTEND:20201124T104500Z
SUMMARY:Prog1: Tutorium Slot B
END:VEVENT
BEGIN:VEVENT
UID:32303163-3539-4962-b235-666665633239
DTSTAMP:20260420T193408Z
DESCRIPTION:
DTSTART:20201124T110000Z
DTEND:20201124T130000Z
SUMMARY:Prog1: Office Hour
END:VEVENT
BEGIN:VEVENT
UID:38303162-6665-4334-b232-646562306634
DTSTAMP:20260420T193408Z
DESCRIPTION:
DTSTART:20201124T131500Z
DTEND:20201124T150000Z
SUMMARY:Prog1: Vorlesung
END:VEVENT
BEGIN:VEVENT
UID:33623666-3361-4937-a161-383063613634
DTSTAMP:20260420T193408Z
DESCRIPTION:
DTSTART:20201125T110000Z
DTEND:20201125T130000Z
SUMMARY:Prog1: Office Hour
END:VEVENT
BEGIN:VEVENT
UID:34656136-3230-4433-b331-356534616162
DTSTAMP:20260420T193408Z
DESCRIPTION:
DTSTART:20201125T131500Z
DTEND:20201125T144500Z
SUMMARY:Prog1: Tutorium Slot C
END:VEVENT
BEGIN:VEVENT
UID:63353636-6563-4630-b261-323932303830
DTSTAMP:20260420T193408Z
DESCRIPTION:
DTSTART:20201125T151500Z
DTEND:20201125T164500Z
SUMMARY:Prog1: Tutorium Slot D
END:VEVENT
BEGIN:VEVENT
UID:34376439-6563-4131-b564-383963366233
DTSTAMP:20260420T193408Z
DESCRIPTION:
DTSTART:20201125T171500Z
DTEND:20201125T184500Z
SUMMARY:Prog1: Tutorium Slot E
END:VEVENT
BEGIN:VEVENT
UID:32343366-3837-4432-b635-646234326563
DTSTAMP:20260420T193408Z
DESCRIPTION:
DTSTART:20201126T090000Z
DTEND:20201126T091500Z
SUMMARY:Prog1: Minitest C
END:VEVENT
BEGIN:VEVENT
UID:62623163-3437-4336-a332-353961653862
DTSTAMP:20260420T193408Z
DESCRIPTION:
DTSTART:20201126T091500Z
DTEND:20201126T110000Z
SUMMARY:Prog1: Vorlesung
END:VEVENT
BEGIN:VEVENT
UID:39613939-3835-4138-b836-346662646265
DTSTAMP:20260420T193408Z
DESCRIPTION:
DTSTART:20201127T130000Z
DTEND:20201127T150000Z
SUMMARY:Prog1: Office Hour
END:VEVENT
BEGIN:VEVENT
UID:31353338-6131-4362-b238-323836366137
DTSTAMP:20260420T193408Z
DESCRIPTION:
DTSTART:20201130T150000Z
DTEND:20201130T170000Z
SUMMARY:Prog1: Office Hour
END:VEVENT
BEGIN:VEVENT
UID:61616631-6363-4635-a364-393033653730
DTSTAMP:20260420T193408Z
DESCRIPTION:
DTSTART:20201201T071500Z
DTEND:20201201T084500Z
SUMMARY:Prog1: Tutorium Slot A
END:VEVENT
BEGIN:VEVENT
UID:61633233-3430-4562-b331-353231343764
DTSTAMP:20260420T193408Z
DESCRIPTION:
DTSTART:20201201T091500Z
DTEND:20201201T104500Z
SUMMARY:Prog1: Tutorium Slot B
END:VEVENT
BEGIN:VEVENT
UID:65666331-6639-4737-b833-313266373561
DTSTAMP:20260420T193408Z
DESCRIPTION:
DTSTART:20201201T110000Z
DTEND:20201201T130000Z
SUMMARY:Prog1: Office Hour
END:VEVENT
BEGIN:VEVENT
UID:63343061-6265-4734-b736-363834356639
DTSTAMP:20260420T193408Z
DESCRIPTION:
DTSTART:20201201T131500Z
DTEND:20201201T150000Z
SUMMARY:Prog1: Vorlesung
END:VEVENT
BEGIN:VEVENT
UID:38386633-3838-4936-b731-663238666538
DTSTAMP:20260420T193408Z
DESCRIPTION:
DTSTART:20201202T110000Z
DTEND:20201202T130000Z
SUMMARY:Prog1: Office Hour
END:VEVENT
BEGIN:VEVENT
UID:30366334-3837-4338-a233-396464373463
DTSTAMP:20260420T193408Z
DESCRIPTION:
DTSTART:20201202T131500Z
DTEND:20201202T144500Z
SUMMARY:Prog1: Tutorium Slot C
END:VEVENT
BEGIN:VEVENT
UID:61306665-3237-4331-a666-353834323531
DTSTAMP:20260420T193408Z
DESCRIPTION:
DTSTART:20201202T151500Z
DTEND:20201202T164500Z
SUMMARY:Prog1: Tutorium Slot D
END:VEVENT
BEGIN:VEVENT
UID:35656261-6266-4266-a462-613861393030
DTSTAMP:20260420T193408Z
DESCRIPTION:
DTSTART:20201202T171500Z
DTEND:20201202T184500Z
SUMMARY:Prog1: Tutorium Slot E
END:VEVENT
BEGIN:VEVENT
UID:37363435-6237-4137-a363-346430306530
DTSTAMP:20260420T193408Z
DESCRIPTION:
DTSTART:20201203T090000Z
DTEND:20201203T091500Z
SUMMARY:Prog1: Minitest D
END:VEVENT
BEGIN:VEVENT
UID:32363161-3665-4139-a333-653566383631
DTSTAMP:20260420T193408Z
DESCRIPTION:
DTSTART:20201203T091500Z
DTEND:20201203T110000Z
SUMMARY:Prog1: Vorlesung
END:VEVENT
BEGIN:VEVENT
UID:36376632-3935-4039-b231-623437663461
DTSTAMP:20260420T193408Z
DESCRIPTION:
DTSTART:20201204T130000Z
DTEND:20201204T150000Z
SUMMARY:Prog1: Office Hour
END:VEVENT
BEGIN:VEVENT
UID:32393230-3133-4863-b766-313464396338
DTSTAMP:20260420T193408Z
DESCRIPTION:
DTSTART:20201207T150000Z
DTEND:20201207T170000Z
SUMMARY:Prog1: Office Hour
END:VEVENT
BEGIN:VEVENT
UID:34306261-3032-4939-b461-333866636563
DTSTAMP:20260420T193408Z
DESCRIPTION:
DTSTART:20201208T071500Z
DTEND:20201208T084500Z
SUMMARY:Prog1: Tutorium Slot A
END:VEVENT
BEGIN:VEVENT
UID:32653032-6131-4537-b461-666136326166
DTSTAMP:20260420T193408Z
DESCRIPTION:
DTSTART:20201208T091500Z
DTEND:20201208T104500Z
SUMMARY:Prog1: Tutorium Slot B
END:VEVENT
BEGIN:VEVENT
UID:33623030-3931-4335-b233-373964336233
DTSTAMP:20260420T193408Z
DESCRIPTION:
DTSTART:20201208T110000Z
DTEND:20201208T130000Z
SUMMARY:Prog1: Office Hour
END:VEVENT
BEGIN:VEVENT
UID:37633435-3565-4937-b539-393331386336
DTSTAMP:20260420T193408Z
DESCRIPTION:
DTSTART:20201208T131500Z
DTEND:20201208T150000Z
SUMMARY:Prog1: Vorlesung
END:VEVENT
BEGIN:VEVENT
UID:61643039-3663-4133-b835-633537353165
DTSTAMP:20260420T193408Z
DESCRIPTION:
DTSTART:20201209T110000Z
DTEND:20201209T130000Z
SUMMARY:Prog1: Office Hour
END:VEVENT
BEGIN:VEVENT
UID:38663337-3036-4361-a530-633638373364
DTSTAMP:20260420T193408Z
DESCRIPTION:
DTSTART:20201209T131500Z
DTEND:20201209T144500Z
SUMMARY:Prog1: Tutorium Slot C
END:VEVENT
BEGIN:VEVENT
UID:38323566-6661-4631-b361-323331656565
DTSTAMP:20260420T193408Z
DESCRIPTION:
DTSTART:20201209T151500Z
DTEND:20201209T164500Z
SUMMARY:Prog1: Tutorium Slot D
END:VEVENT
BEGIN:VEVENT
UID:62323337-3831-4837-b163-386361616139
DTSTAMP:20260420T193408Z
DESCRIPTION:
DTSTART:20201209T171500Z
DTEND:20201209T184500Z
SUMMARY:Prog1: Tutorium Slot E
END:VEVENT
BEGIN:VEVENT
UID:31646464-3736-4531-b334-656635666163
DTSTAMP:20260420T193408Z
DESCRIPTION:
DTSTART:20201210T090000Z
DTEND:20201210T091500Z
SUMMARY:Prog1: Minitest E
END:VEVENT
BEGIN:VEVENT
UID:32373734-3833-4935-b964-333437626530
DTSTAMP:20260420T193408Z
DESCRIPTION:
DTSTART:20201210T091500Z
DTEND:20201210T110000Z
SUMMARY:Prog1: Vorlesung
END:VEVENT
BEGIN:VEVENT
UID:34373734-6330-4133-a466-653663386138
DTSTAMP:20260420T193408Z
DESCRIPTION:
DTSTART:20201211T130000Z
DTEND:20201211T170000Z
SUMMARY:Prog1: XXL Office Hour
END:VEVENT
BEGIN:VEVENT
UID:63666332-3732-4837-b538-303539393161
DTSTAMP:20260420T193408Z
DESCRIPTION:
DTSTART:20201212T083000Z
DTEND:20201212T103000Z
SUMMARY:Prog1: Mittelklausur
END:VEVENT
BEGIN:VEVENT
UID:36343239-3163-4262-b861-333066386432
DTSTAMP:20260420T193408Z
DESCRIPTION:
DTSTART:20201214T160000Z
DTEND:20201214T180000Z
SUMMARY:Prog1: Einsicht Mittelklausur
END:VEVENT
BEGIN:VEVENT
UID:64653766-3934-4737-a236-616539323533
DTSTAMP:20260420T193408Z
DESCRIPTION:
DTSTART:20201215T071500Z
DTEND:20201215T084500Z
SUMMARY:Prog1: Tutorium Slot A
END:VEVENT
BEGIN:VEVENT
UID:64346237-3061-4136-b464-323230303165
DTSTAMP:20260420T193408Z
DESCRIPTION:
DTSTART:20201215T091500Z
DTEND:20201215T104500Z
SUMMARY:Prog1: Tutorium Slot B
END:VEVENT
BEGIN:VEVENT
UID:38396166-3930-4266-a336-316264623663
DTSTAMP:20260420T193408Z
DESCRIPTION:
DTSTART:20201215T110000Z
DTEND:20201215T130000Z
SUMMARY:Prog1: Office Hour
END:VEVENT
BEGIN:VEVENT
UID:38393134-3836-4834-a631-653634333863
DTSTAMP:20260420T193408Z
DESCRIPTION:
DTSTART:20201215T131500Z
DTEND:20201215T150000Z
SUMMARY:Prog1: Vorlesung
END:VEVENT
BEGIN:VEVENT
UID:62323637-3933-4464-a466-653762373034
DTSTAMP:20260420T193408Z
DESCRIPTION:
DTSTART:20201216T110000Z
DTEND:20201216T130000Z
SUMMARY:Prog1: Office Hour
END:VEVENT
BEGIN:VEVENT
UID:61623539-3231-4262-a162-386532313036
DTSTAMP:20260420T193408Z
DESCRIPTION:
DTSTART:20201216T131500Z
DTEND:20201216T144500Z
SUMMARY:Prog1: Tutorium Slot C
END:VEVENT
BEGIN:VEVENT
UID:61303732-6263-4634-b561-663535346535
DTSTAMP:20260420T193408Z
DESCRIPTION:
DTSTART:20201216T151500Z
DTEND:20201216T164500Z
SUMMARY:Prog1: Tutorium Slot D
END:VEVENT
BEGIN:VEVENT
UID:38363136-3864-4431-b135-396231386538
DTSTAMP:20260420T193408Z
DESCRIPTION:
DTSTART:20201216T171500Z
DTEND:20201216T184500Z
SUMMARY:Prog1: Tutorium Slot E
END:VEVENT
BEGIN:VEVENT
UID:30343964-6335-4765-b139-306230386535
DTSTAMP:20260420T193408Z
DESCRIPTION:
DTSTART:20201217T090000Z
DTEND:20201217T091500Z
SUMMARY:Prog1: Minitest F
END:VEVENT
BEGIN:VEVENT
UID:64323436-6132-4666-b261-306364303164
DTSTAMP:20260420T193408Z
DESCRIPTION:
DTSTART:20201217T091500Z
DTEND:20201217T110000Z
SUMMARY:Prog1: Vorlesung
END:VEVENT
BEGIN:VEVENT
UID:30343639-6534-4165-b163-373938396530
DTSTAMP:20260420T193408Z
DESCRIPTION:
DTSTART:20201218T130000Z
DTEND:20201218T150000Z
SUMMARY:Prog1: Office Hour
END:VEVENT
BEGIN:VEVENT
UID:33303735-3930-4463-b430-373637653439
DTSTAMP:20260420T193408Z
DESCRIPTION:
DTSTART:20210104T150000Z
DTEND:20210104T170000Z
SUMMARY:Prog1: Office Hour
END:VEVENT
BEGIN:VEVENT
UID:36306337-3435-4235-b463-616637346136
DTSTAMP:20260420T193408Z
DESCRIPTION:
DTSTART:20210105T071500Z
DTEND:20210105T084500Z
SUMMARY:Prog1: Tutorium Slot A
END:VEVENT
BEGIN:VEVENT
UID:64386334-3966-4536-b536-613566633739
DTSTAMP:20260420T193408Z
DESCRIPTION:
DTSTART:20210105T091500Z
DTEND:20210105T104500Z
SUMMARY:Prog1: Tutorium Slot B
END:VEVENT
BEGIN:VEVENT
UID:35633466-3936-4535-b966-613066333865
DTSTAMP:20260420T193408Z
DESCRIPTION:
DTSTART:20210105T110000Z
DTEND:20210105T130000Z
SUMMARY:Prog1: Office Hour
END:VEVENT
BEGIN:VEVENT
UID:38363264-3961-4663-b763-663764633738
DTSTAMP:20260420T193408Z
DESCRIPTION:
DTSTART:20210105T131500Z
DTEND:20210105T150000Z
SUMMARY:Prog1: Vorlesung
END:VEVENT
BEGIN:VEVENT
UID:62313664-3734-4938-a365-373331363834
DTSTAMP:20260420T193408Z
DESCRIPTION:
DTSTART:20210106T110000Z
DTEND:20210106T130000Z
SUMMARY:Prog1: Office Hour
END:VEVENT
BEGIN:VEVENT
UID:62333433-3961-4766-b466-633132306564
DTSTAMP:20260420T193408Z
DESCRIPTION:
DTSTART:20210106T131500Z
DTEND:20210106T144500Z
SUMMARY:Prog1: Tutorium Slot C
END:VEVENT
BEGIN:VEVENT
UID:35353666-3930-4263-b364-386566626263
DTSTAMP:20260420T193408Z
DESCRIPTION:
DTSTART:20210106T151500Z
DTEND:20210106T164500Z
SUMMARY:Prog1: Tutorium Slot D
END:VEVENT
BEGIN:VEVENT
UID:38396638-3461-4636-b238-343462666330
DTSTAMP:20260420T193408Z
DESCRIPTION:
DTSTART:20210106T171500Z
DTEND:20210106T184500Z
SUMMARY:Prog1: Tutorium Slot E
END:VEVENT
BEGIN:VEVENT
UID:33386239-6462-4061-b266-363230336361
DTSTAMP:20260420T193408Z
DESCRIPTION:
DTSTART:20210107T090000Z
DTEND:20210107T091500Z
SUMMARY:Prog1: Minitest G
END:VEVENT
BEGIN:VEVENT
UID:64353537-6533-4238-b939-343637333833
DTSTAMP:20260420T193408Z
DESCRIPTION:
DTSTART:20210107T091500Z
DTEND:20210107T110000Z
SUMMARY:Prog1: Vorlesung
END:VEVENT
BEGIN:VEVENT
UID:37323762-3930-4237-a238-376134663664
DTSTAMP:20260420T193408Z
DESCRIPTION:
DTSTART:20210108T130000Z
DTEND:20210108T150000Z
SUMMARY:Prog1: Office Hour
END:VEVENT
BEGIN:VEVENT
UID:63616463-3334-4965-b164-333163343165
DTSTAMP:20260420T193408Z
DESCRIPTION:
DTSTART:20210109T083000Z
DTEND:20210109T103000Z
SUMMARY:Prog1: Nach-Mittelklausur
END:VEVENT
BEGIN:VEVENT
UID:37373135-6538-4932-b066-383463333766
DTSTAMP:20260420T193408Z
DESCRIPTION:
DTSTART:20210111T150000Z
DTEND:20210111T170000Z
SUMMARY:Prog1: Office Hour
END:VEVENT
BEGIN:VEVENT
UID:65663563-3331-4030-a636-656165346562
DTSTAMP:20260420T193408Z
DESCRIPTION:
DTSTART:20210112T071500Z
DTEND:20210112T084500Z
SUMMARY:Prog1: Tutorium Slot A
END:VEVENT
BEGIN:VEVENT
UID:38656337-6134-4134-b636-366234666239
DTSTAMP:20260420T193408Z
DESCRIPTION:
DTSTART:20210112T091500Z
DTEND:20210112T104500Z
SUMMARY:Prog1: Tutorium Slot B
END:VEVENT
BEGIN:VEVENT
UID:64383562-6462-4634-b834-313536623836
DTSTAMP:20260420T193408Z
DESCRIPTION:
DTSTART:20210112T110000Z
DTEND:20210112T130000Z
SUMMARY:Prog1: Office Hour
END:VEVENT
BEGIN:VEVENT
UID:65376132-3065-4266-b439-666664363337
DTSTAMP:20260420T193408Z
DESCRIPTION:
DTSTART:20210112T131500Z
DTEND:20210112T150000Z
SUMMARY:Prog1: Vorlesung
END:VEVENT
BEGIN:VEVENT
UID:35636465-6135-4737-a630-376363343935
DTSTAMP:20260420T193408Z
DESCRIPTION:
DTSTART:20210112T160000Z
DTEND:20210112T180000Z
SUMMARY:Prog1: Einsicht Nach-Mittelklausur
END:VEVENT
BEGIN:VEVENT
UID:38626364-6138-4334-b564-653066376333
DTSTAMP:20260420T193408Z
DESCRIPTION:
DTSTART:20210113T110000Z
DTEND:20210113T130000Z
SUMMARY:Prog1: Office Hour
END:VEVENT
BEGIN:VEVENT
UID:30323066-3666-4933-b837-326161653133
DTSTAMP:20260420T193408Z
DESCRIPTION:
DTSTART:20210113T131500Z
DTEND:20210113T144500Z
SUMMARY:Prog1: Tutorium Slot C
END:VEVENT
BEGIN:VEVENT
UID:30373166-3739-4432-b364-343536633630
DTSTAMP:20260420T193408Z
DESCRIPTION:
DTSTART:20210113T151500Z
DTEND:20210113T164500Z
SUMMARY:Prog1: Tutorium Slot D
END:VEVENT
BEGIN:VEVENT
UID:31343237-6664-4232-b666-363936333438
DTSTAMP:20260420T193408Z
DESCRIPTION:
DTSTART:20210113T171500Z
DTEND:20210113T184500Z
SUMMARY:Prog1: Tutorium Slot E
END:VEVENT
BEGIN:VEVENT
UID:31353663-3263-4136-a466-323063366333
DTSTAMP:20260420T193408Z
DESCRIPTION:
DTSTART:20210114T090000Z
DTEND:20210114T091500Z
SUMMARY:Prog1: Minitest H
END:VEVENT
BEGIN:VEVENT
UID:64626362-6163-4133-b431-323033623537
DTSTAMP:20260420T193408Z
DESCRIPTION:
DTSTART:20210114T091500Z
DTEND:20210114T110000Z
SUMMARY:Prog1: Vorlesung
END:VEVENT
BEGIN:VEVENT
UID:62633639-6333-4033-b863-363934363434
DTSTAMP:20260420T193408Z
DESCRIPTION:
DTSTART:20210115T130000Z
DTEND:20210115T150000Z
SUMMARY:Prog1: Office Hour
END:VEVENT
BEGIN:VEVENT
UID:63626361-3838-4131-b733-363236646266
DTSTAMP:20260420T193408Z
DESCRIPTION:
DTSTART:20210118T150000Z
DTEND:20210118T170000Z
SUMMARY:Prog1: Office Hour
END:VEVENT
BEGIN:VEVENT
UID:39343232-6536-4138-a161-323137623962
DTSTAMP:20260420T193408Z
DESCRIPTION:
DTSTART:20210119T071500Z
DTEND:20210119T084500Z
SUMMARY:Prog1: Tutorium Slot A
END:VEVENT
BEGIN:VEVENT
UID:65346530-3564-4531-b937-376630623665
DTSTAMP:20260420T193408Z
DESCRIPTION:
DTSTART:20210119T091500Z
DTEND:20210119T104500Z
SUMMARY:Prog1: Tutorium Slot B
END:VEVENT
BEGIN:VEVENT
UID:39623734-3964-4662-b230-303836613164
DTSTAMP:20260420T193408Z
DESCRIPTION:
DTSTART:20210119T110000Z
DTEND:20210119T130000Z
SUMMARY:Prog1: Office Hour
END:VEVENT
BEGIN:VEVENT
UID:65373164-3032-4434-b231-613066636330
DTSTAMP:20260420T193408Z
DESCRIPTION:
DTSTART:20210119T131500Z
DTEND:20210119T150000Z
SUMMARY:Prog1: Vorlesung
END:VEVENT
BEGIN:VEVENT
UID:37613264-3163-4863-b039-383537393330
DTSTAMP:20260420T193408Z
DESCRIPTION:
DTSTART:20210120T110000Z
DTEND:20210120T130000Z
SUMMARY:Prog1: Office Hour
END:VEVENT
BEGIN:VEVENT
UID:61313665-3837-4439-a263-303665626638
DTSTAMP:20260420T193408Z
DESCRIPTION:
DTSTART:20210120T131500Z
DTEND:20210120T144500Z
SUMMARY:Prog1: Tutorium Slot C
END:VEVENT
BEGIN:VEVENT
UID:31663737-3233-4435-b337-383262616637
DTSTAMP:20260420T193408Z
DESCRIPTION:
DTSTART:20210120T151500Z
DTEND:20210120T164500Z
SUMMARY:Prog1: Tutorium Slot D
END:VEVENT
BEGIN:VEVENT
UID:39353764-3966-4366-b662-383239326432
DTSTAMP:20260420T193408Z
DESCRIPTION:
DTSTART:20210120T171500Z
DTEND:20210120T184500Z
SUMMARY:Prog1: Tutorium Slot E
END:VEVENT
BEGIN:VEVENT
UID:30386633-3839-4034-a337-393334356231
DTSTAMP:20260420T193408Z
DESCRIPTION:
DTSTART:20210121T090000Z
DTEND:20210121T091500Z
SUMMARY:Prog1: Minitest I
END:VEVENT
BEGIN:VEVENT
UID:37323262-3631-4965-a465-656538666561
DTSTAMP:20260420T193408Z
DESCRIPTION:
DTSTART:20210121T091500Z
DTEND:20210121T110000Z
SUMMARY:Prog1: Vorlesung
END:VEVENT
BEGIN:VEVENT
UID:36653061-3765-4365-b933-636134393530
DTSTAMP:20260420T193408Z
DESCRIPTION:
DTSTART:20210122T130000Z
DTEND:20210122T150000Z
SUMMARY:Prog1: Office Hour
END:VEVENT
BEGIN:VEVENT
UID:31303539-3332-4664-b363-613331343932
DTSTAMP:20260420T193408Z
DESCRIPTION:
DTSTART:20210125T150000Z
DTEND:20210125T170000Z
SUMMARY:Prog1: Office Hour
END:VEVENT
BEGIN:VEVENT
UID:61663031-6535-4534-a466-643130316464
DTSTAMP:20260420T193408Z
DESCRIPTION:
DTSTART:20210126T071500Z
DTEND:20210126T084500Z
SUMMARY:Prog1: Tutorium Slot A
END:VEVENT
BEGIN:VEVENT
UID:63323062-3432-4935-b938-623930653266
DTSTAMP:20260420T193408Z
DESCRIPTION:
DTSTART:20210126T091500Z
DTEND:20210126T104500Z
SUMMARY:Prog1: Tutorium Slot B
END:VEVENT
BEGIN:VEVENT
UID:31613563-6664-4665-a136-663566303263
DTSTAMP:20260420T193408Z
DESCRIPTION:
DTSTART:20210126T110000Z
DTEND:20210126T130000Z
SUMMARY:Prog1: Office Hour
END:VEVENT
BEGIN:VEVENT
UID:35303233-3561-4764-a638-383931653633
DTSTAMP:20260420T193408Z
DESCRIPTION:
DTSTART:20210126T131500Z
DTEND:20210126T150000Z
SUMMARY:Prog1: Vorlesung
END:VEVENT
BEGIN:VEVENT
UID:38666466-3433-4164-a665-653630616637
DTSTAMP:20260420T193408Z
DESCRIPTION:
DTSTART:20210127T110000Z
DTEND:20210127T130000Z
SUMMARY:Prog1: Office Hour
END:VEVENT
BEGIN:VEVENT
UID:39346566-6133-4265-b632-623765353062
DTSTAMP:20260420T193408Z
DESCRIPTION:
DTSTART:20210127T131500Z
DTEND:20210127T144500Z
SUMMARY:Prog1: Tutorium Slot C
END:VEVENT
BEGIN:VEVENT
UID:33326633-6538-4530-a661-396562373131
DTSTAMP:20260420T193408Z
DESCRIPTION:
DTSTART:20210127T151500Z
DTEND:20210127T164500Z
SUMMARY:Prog1: Tutorium Slot D
END:VEVENT
BEGIN:VEVENT
UID:37663931-6530-4031-b033-366230333930
DTSTAMP:20260420T193408Z
DESCRIPTION:
DTSTART:20210127T171500Z
DTEND:20210127T184500Z
SUMMARY:Prog1: Tutorium Slot E
END:VEVENT
BEGIN:VEVENT
UID:63303265-3436-4366-a433-646566663064
DTSTAMP:20260420T193408Z
DESCRIPTION:
DTSTART:20210128T090000Z
DTEND:20210128T091500Z
SUMMARY:Prog1: Minitest J
END:VEVENT
BEGIN:VEVENT
UID:30366434-3661-4234-b533-313135333936
DTSTAMP:20260420T193408Z
DESCRIPTION:
DTSTART:20210128T091500Z
DTEND:20210128T110000Z
SUMMARY:Prog1: Vorlesung
END:VEVENT
BEGIN:VEVENT
UID:31663430-3134-4264-b462-393930636262
DTSTAMP:20260420T193408Z
DESCRIPTION:
DTSTART:20210129T130000Z
DTEND:20210129T150000Z
SUMMARY:Prog1: Office Hour
END:VEVENT
BEGIN:VEVENT
UID:34373939-3634-4639-b066-396366333933
DTSTAMP:20260420T193408Z
DESCRIPTION:https://cs-uni-saarland-de.zoom.us/j/93615189171?pwd=S3BodDJLQX
 Vla0o2aUNreDJyTi85QT09
DTSTART:20210201T150000Z
DTEND:20210201T170000Z
LOCATION:Zoom
SUMMARY:Prog1: Zusatztutorium Konstruktortypen
END:VEVENT
BEGIN:VEVENT
UID:31343035-6666-4433-a564-626162313864
DTSTAMP:20260420T193408Z
DESCRIPTION:
DTSTART:20210202T071500Z
DTEND:20210202T084500Z
SUMMARY:Prog1: Tutorium Slot A
END:VEVENT
BEGIN:VEVENT
UID:62316239-3466-4435-b431-383038663865
DTSTAMP:20260420T193408Z
DESCRIPTION:
DTSTART:20210202T091500Z
DTEND:20210202T104500Z
SUMMARY:Prog1: Tutorium Slot B
END:VEVENT
BEGIN:VEVENT
UID:35383362-3930-4532-b866-356137363530
DTSTAMP:20260420T193408Z
DESCRIPTION:
DTSTART:20210202T110000Z
DTEND:20210202T130000Z
SUMMARY:Prog1: Office Hour
END:VEVENT
BEGIN:VEVENT
UID:31393765-6332-4264-a337-346130303765
DTSTAMP:20260420T193408Z
DESCRIPTION:
DTSTART:20210202T131500Z
DTEND:20210202T150000Z
SUMMARY:Prog1: Vorlesung
END:VEVENT
BEGIN:VEVENT
UID:31346131-3536-4636-b966-333761353564
DTSTAMP:20260420T193408Z
DESCRIPTION:https://cs-uni-saarland-de.zoom.us/j/93615189171?pwd=S3BodDJLQX
 Vla0o2aUNreDJyTi85QT09
DTSTART:20210202T150000Z
DTEND:20210202T170000Z
LOCATION:zoom
SUMMARY:Prog1: Zusatztutorium Bäume
END:VEVENT
BEGIN:VEVENT
UID:36346439-3566-4564-b637-333130663661
DTSTAMP:20260420T193408Z
DESCRIPTION:
DTSTART:20210203T110000Z
DTEND:20210203T130000Z
SUMMARY:Prog1: Office Hour
END:VEVENT
BEGIN:VEVENT
UID:31373535-6331-4665-b532-353335323030
DTSTAMP:20260420T193408Z
DESCRIPTION:
DTSTART:20210203T131500Z
DTEND:20210203T144500Z
SUMMARY:Prog1: Tutorium Slot C
END:VEVENT
BEGIN:VEVENT
UID:31396164-6236-4961-b237-373164633436
DTSTAMP:20260420T193408Z
DESCRIPTION:
DTSTART:20210203T151500Z
DTEND:20210203T164500Z
SUMMARY:Prog1: Tutorium Slot D
END:VEVENT
BEGIN:VEVENT
UID:38653862-3664-4563-b530-616535306662
DTSTAMP:20260420T193408Z
DESCRIPTION:
DTSTART:20210203T171500Z
DTEND:20210203T184500Z
SUMMARY:Prog1: Tutorium Slot E
END:VEVENT
BEGIN:VEVENT
UID:30656634-3166-4162-a463-356662313936
DTSTAMP:20260420T193408Z
DESCRIPTION:
DTSTART:20210204T090000Z
DTEND:20210204T091500Z
SUMMARY:Prog1: Minitest K
END:VEVENT
BEGIN:VEVENT
UID:34626362-6263-4537-a462-663530313764
DTSTAMP:20260420T193408Z
DESCRIPTION:
DTSTART:20210204T091500Z
DTEND:20210204T110000Z
SUMMARY:Prog1: Vorlesung
END:VEVENT
BEGIN:VEVENT
UID:39356265-6634-4666-a630-346432383163
DTSTAMP:20260420T193408Z
DESCRIPTION:https://cs-uni-saarland-de.zoom.us/j/93615189171?pwd=S3BodDJLQX
 Vla0o2aUNreDJyTi85QT09
DTSTART:20210204T150000Z
DTEND:20210204T170000Z
LOCATION:zoom
SUMMARY:Prog1: Zusatztutorium Mengenlehre und Mathematische Prozeduren
END:VEVENT
BEGIN:VEVENT
UID:64303363-6139-4336-a561-396635313135
DTSTAMP:20260420T193408Z
DESCRIPTION:
DTSTART:20210205T130000Z
DTEND:20210205T150000Z
SUMMARY:Prog1: Office Hour
END:VEVENT
BEGIN:VEVENT
UID:62643739-6464-4438-b637-336331353039
DTSTAMP:20260420T193408Z
DESCRIPTION:https://cs-uni-saarland-de.zoom.us/j/93615189171?pwd=S3BodDJLQX
 Vla0o2aUNreDJyTi85QT09
DTSTART:20210205T150000Z
DTEND:20210205T170000Z
LOCATION:zoom
SUMMARY:Prog1: Zusatztutorium Induktion
END:VEVENT
BEGIN:VEVENT
UID:35346537-3831-4238-a462-373266323262
DTSTAMP:20260420T193408Z
DESCRIPTION:https://cs-uni-saarland-de.zoom.us/j/93615189171?pwd=S3BodDJLQX
 Vla0o2aUNreDJyTi85QT09
DTSTART:20210208T090000Z
DTEND:20210208T110000Z
LOCATION:zoom
SUMMARY:Prog1: Zusatztutorium Laufzeit
END:VEVENT
BEGIN:VEVENT
UID:64386362-3764-4764-a133-336361636238
DTSTAMP:20260420T193408Z
DESCRIPTION:https://cs-uni-saarland-de.zoom.us/j/93615189171?pwd=S3BodDJLQX
 Vla0o2aUNreDJyTi85QT09
DTSTART:20210208T130000Z
DTEND:20210208T150000Z
LOCATION:zoom
SUMMARY:Prog1: Zusatztutorium Statische und Dynamische Semantik
END:VEVENT
BEGIN:VEVENT
UID:38646332-6366-4364-b239-316463323661
DTSTAMP:20260420T193408Z
DESCRIPTION:https://cs-uni-saarland-de.zoom.us/j/93615189171?pwd=S3BodDJLQX
 Vla0o2aUNreDJyTi85QT09
DTSTART:20210209T090000Z
DTEND:20210209T110000Z
LOCATION:zoom
SUMMARY:Prog1: Zusatztutorium Konkrete Syntax
END:VEVENT
BEGIN:VEVENT
UID:38613730-6665-4236-a361-636231646339
DTSTAMP:20260420T193408Z
DESCRIPTION:
DTSTART:20210211T130000Z
DTEND:20210211T160000Z
LOCATION:Discord
SUMMARY:Prog1: XXL Office Hour
END:VEVENT
BEGIN:VEVENT
UID:66303333-3532-4665-b666-303665353462
DTSTAMP:20260420T193408Z
DESCRIPTION:
DTSTART;VALUE=DATE:20210213
DTEND;VALUE=DATE:20210214
SUMMARY:Prog1: Hauptklausur
END:VEVENT
BEGIN:VEVENT
UID:38366437-6236-4361-a161-313936336336
DTSTAMP:20260420T193408Z
DESCRIPTION:
DTSTART;VALUE=DATE:20210313
DTEND;VALUE=DATE:20210314
SUMMARY:Prog1: Nach-Hauptklausur
END:VEVENT
END:VCALENDAR
