BEGIN:VCALENDAR
VERSION:2.0
PRODID:-//127.0.1.1//NONSGML kigkonsult.se iCalcreator 2.41.92//
CALSCALE:GREGORIAN
METHOD:PUBLISH
UID:35333065-3565-4239-a461-386135623963
X-WR-CALNAME:Coinductive Proofs Calendar
X-WR-CALDESC:Events of the lecture Coinductive Proofs
X-WR-TIMEZONE:Europe/Berlin
BEGIN:VEVENT
UID:31643635-3330-4535-a337-333731386334
DTSTAMP:20260421T135846Z
DESCRIPTION:
DTSTART:20250408T081500Z
DTEND:20250408T094500Z
LOCATION:E1.3 HS003
SUMMARY:Lecture
END:VEVENT
BEGIN:VEVENT
UID:64336436-3833-4735-a336-333033316431
DTSTAMP:20260421T135846Z
DESCRIPTION:
DTSTART:20250415T081500Z
DTEND:20250415T094500Z
LOCATION:E1.3 HS003
SUMMARY:Lecture
END:VEVENT
BEGIN:VEVENT
UID:30356331-3130-4931-a664-363662363066
DTSTAMP:20260421T135846Z
DESCRIPTION:
DTSTART:20250422T081500Z
DTEND:20250422T094500Z
LOCATION:E1.3 HS003
SUMMARY:Lecture
END:VEVENT
BEGIN:VEVENT
UID:30343362-3938-4565-b866-613865323733
DTSTAMP:20260421T135846Z
DESCRIPTION:
DTSTART:20250425T081500Z
DTEND:20250425T094500Z
LOCATION:SR014
SUMMARY:Tutorial
END:VEVENT
BEGIN:VEVENT
UID:37666433-6335-4838-a166-636439623363
DTSTAMP:20260421T135846Z
DESCRIPTION:
DTSTART:20250502T081500Z
DTEND:20250502T094500Z
LOCATION:SR014
SUMMARY:Tutorial
END:VEVENT
BEGIN:VEVENT
UID:61326565-3236-4461-b732-636265396631
DTSTAMP:20260421T135846Z
DESCRIPTION:
DTSTART:20250506T081500Z
DTEND:20250506T094500Z
LOCATION:E1.3 HS003
SUMMARY:Lecture
END:VEVENT
BEGIN:VEVENT
UID:37393333-6232-4333-b935-383636666564
DTSTAMP:20260421T135846Z
DESCRIPTION:
DTSTART:20250509T081500Z
DTEND:20250509T094500Z
LOCATION:SR014
SUMMARY:Tutorial
END:VEVENT
BEGIN:VEVENT
UID:34653237-6536-4337-a465-333336626330
DTSTAMP:20260421T135846Z
DESCRIPTION:
DTSTART:20250513T081500Z
DTEND:20250513T094500Z
LOCATION:E1.3 HS003
SUMMARY:Lecture
END:VEVENT
BEGIN:VEVENT
UID:31323336-6463-4337-a337-343561303331
DTSTAMP:20260421T135846Z
DESCRIPTION:
DTSTART:20250516T081500Z
DTEND:20250516T094500Z
LOCATION:SR014
SUMMARY:Tutorial
END:VEVENT
BEGIN:VEVENT
UID:36383065-6461-4432-b532-633732626439
DTSTAMP:20260421T135846Z
DESCRIPTION:
DTSTART:20250520T081500Z
DTEND:20250520T094500Z
LOCATION:E1.3 HS003
SUMMARY:Lecture
END:VEVENT
BEGIN:VEVENT
UID:32303563-6462-4065-a663-633463613136
DTSTAMP:20260421T135846Z
DESCRIPTION:
DTSTART:20250523T081500Z
DTEND:20250523T094500Z
LOCATION:SR014
SUMMARY:Tutorial
END:VEVENT
BEGIN:VEVENT
UID:32373534-6161-4637-b461-653133653932
DTSTAMP:20260421T135846Z
DESCRIPTION:
DTSTART:20250527T081500Z
DTEND:20250527T094500Z
LOCATION:E1.3 HS003
SUMMARY:Lecture
END:VEVENT
BEGIN:VEVENT
UID:38333338-6537-4030-b762-316330313236
DTSTAMP:20260421T135846Z
DESCRIPTION:
DTSTART:20250530T081500Z
DTEND:20250530T094500Z
LOCATION:SR014
SUMMARY:Tutorial
END:VEVENT
BEGIN:VEVENT
UID:30303134-3335-4936-b565-356365356236
DTSTAMP:20260421T135846Z
DESCRIPTION:
DTSTART:20250603T081500Z
DTEND:20250603T094500Z
LOCATION:E1.3 HS003
SUMMARY:Lecture
END:VEVENT
BEGIN:VEVENT
UID:37303635-6434-4666-b339-313932643665
DTSTAMP:20260421T135846Z
DESCRIPTION:
DTSTART:20250606T081500Z
DTEND:20250606T094500Z
LOCATION:SR014
SUMMARY:Tutorial
END:VEVENT
BEGIN:VEVENT
UID:38336566-3338-4037-b437-396632353437
DTSTAMP:20260421T135846Z
DESCRIPTION:
DTSTART:20250610T081500Z
DTEND:20250610T094500Z
LOCATION:E1.3 HS003
SUMMARY:Lecture
END:VEVENT
BEGIN:VEVENT
UID:39646632-3034-4535-a538-616666643966
DTSTAMP:20260421T135846Z
DESCRIPTION:
DTSTART:20250613T081500Z
DTEND:20250613T094500Z
LOCATION:SR014
SUMMARY:Tutorial
END:VEVENT
BEGIN:VEVENT
UID:34353931-3365-4563-b539-666465323861
DTSTAMP:20260421T135846Z
DESCRIPTION:
DTSTART:20250617T081500Z
DTEND:20250617T094500Z
LOCATION:E1.3 HS003
SUMMARY:Lecture
END:VEVENT
BEGIN:VEVENT
UID:66626164-3530-4533-a139-396531383430
DTSTAMP:20260421T135846Z
DESCRIPTION:
DTSTART:20250620T081500Z
DTEND:20250620T094500Z
LOCATION:SR014
SUMMARY:Tutorial
END:VEVENT
BEGIN:VEVENT
UID:65353833-3265-4165-b666-316437663237
DTSTAMP:20260421T135846Z
DESCRIPTION:
DTSTART:20250624T081500Z
DTEND:20250624T094500Z
LOCATION:E1.3 HS003
SUMMARY:Lecture
END:VEVENT
BEGIN:VEVENT
UID:31326232-3633-4233-a662-636537336564
DTSTAMP:20260421T135846Z
DESCRIPTION:
DTSTART:20250627T081500Z
DTEND:20250627T094500Z
LOCATION:SR014
SUMMARY:Tutorial
END:VEVENT
BEGIN:VEVENT
UID:30356339-6332-4639-b933-623430376561
DTSTAMP:20260421T135846Z
DESCRIPTION:
DTSTART:20250701T081500Z
DTEND:20250701T094500Z
LOCATION:E1.3 HS003
SUMMARY:Lecture
END:VEVENT
BEGIN:VEVENT
UID:37313838-3837-4164-b566-653264616431
DTSTAMP:20260421T135846Z
DESCRIPTION:
DTSTART:20250704T081500Z
DTEND:20250704T094500Z
LOCATION:SR014
SUMMARY:Tutorial
END:VEVENT
BEGIN:VEVENT
UID:32393834-6534-4436-a130-353338663364
DTSTAMP:20260421T135846Z
DESCRIPTION:
DTSTART:20250708T081500Z
DTEND:20250708T094500Z
LOCATION:E1.3 HS003
SUMMARY:Lecture
END:VEVENT
BEGIN:VEVENT
UID:31653037-3237-4730-b432-303966343637
DTSTAMP:20260421T135846Z
DESCRIPTION:
DTSTART:20250711T081500Z
DTEND:20250711T094500Z
LOCATION:SR014
SUMMARY:Tutorial
END:VEVENT
BEGIN:VEVENT
UID:36653663-6334-4431-a431-633631633835
DTSTAMP:20260421T135846Z
DESCRIPTION:
DTSTART:20250715T081500Z
DTEND:20250715T094500Z
LOCATION:E1.3 HS003
SUMMARY:Lecture
END:VEVENT
BEGIN:VEVENT
UID:64343161-6230-4632-b735-323138356535
DTSTAMP:20260421T135846Z
DESCRIPTION:
DTSTART:20250718T081500Z
DTEND:20250718T094500Z
LOCATION:SR014
SUMMARY:Tutorial
END:VEVENT
BEGIN:VEVENT
UID:33303238-3438-4038-a633-376132386531
DTSTAMP:20260421T135846Z
DESCRIPTION:
DTSTART;VALUE=DATE:20250807
DTEND;VALUE=DATE:20250808
LOCATION:E1.3 HS002
SUMMARY:Main Exam
END:VEVENT
BEGIN:VEVENT
UID:62336264-3966-4766-b732-336132313962
DTSTAMP:20260421T135846Z
DESCRIPTION:
DTSTART:20250923T080000Z
DTEND:20250923T100000Z
LOCATION:0.07 in C0 (CISPA)
SUMMARY:Office Hour
END:VEVENT
BEGIN:VEVENT
UID:39383166-3335-4463-b130-323564663864
DTSTAMP:20260421T135846Z
DESCRIPTION:
DTSTART;VALUE=DATE:20250929
DTEND;VALUE=DATE:20250930
LOCATION:E1.3 HS002
SUMMARY:Re-Exam
END:VEVENT
END:VCALENDAR
