BEGIN:VCALENDAR
VERSION:2.0
PRODID:-//127.0.1.1//NONSGML kigkonsult.se iCalcreator 2.41.92//
CALSCALE:GREGORIAN
METHOD:PUBLISH
UID:30656336-6338-4237-b766-346364373535
X-WR-CALNAME:Coinductive Proofs Calendar
X-WR-CALDESC:Events of the lecture Coinductive Proofs
X-WR-TIMEZONE:Europe/Berlin
BEGIN:VEVENT
UID:61636366-3030-4239-b565-623836366236
DTSTAMP:20260421T135935Z
DESCRIPTION:
DTSTART:20250408T081500Z
DTEND:20250408T094500Z
LOCATION:E1.3 HS003
SUMMARY:Proofs: Lecture
END:VEVENT
BEGIN:VEVENT
UID:32636461-6161-4334-a364-356130333635
DTSTAMP:20260421T135935Z
DESCRIPTION:
DTSTART:20250415T081500Z
DTEND:20250415T094500Z
LOCATION:E1.3 HS003
SUMMARY:Proofs: Lecture
END:VEVENT
BEGIN:VEVENT
UID:35303632-3863-4561-b738-666266653137
DTSTAMP:20260421T135935Z
DESCRIPTION:
DTSTART:20250422T081500Z
DTEND:20250422T094500Z
LOCATION:E1.3 HS003
SUMMARY:Proofs: Lecture
END:VEVENT
BEGIN:VEVENT
UID:61313633-3637-4636-a138-656465316632
DTSTAMP:20260421T135935Z
DESCRIPTION:
DTSTART:20250506T081500Z
DTEND:20250506T094500Z
LOCATION:E1.3 HS003
SUMMARY:Proofs: Lecture
END:VEVENT
BEGIN:VEVENT
UID:65373863-3836-4265-b366-306439633162
DTSTAMP:20260421T135935Z
DESCRIPTION:
DTSTART:20250513T081500Z
DTEND:20250513T094500Z
LOCATION:E1.3 HS003
SUMMARY:Proofs: Lecture
END:VEVENT
BEGIN:VEVENT
UID:32666439-3439-4662-a339-356136386433
DTSTAMP:20260421T135935Z
DESCRIPTION:
DTSTART:20250520T081500Z
DTEND:20250520T094500Z
LOCATION:E1.3 HS003
SUMMARY:Proofs: Lecture
END:VEVENT
BEGIN:VEVENT
UID:62633265-6161-4631-a634-346365353362
DTSTAMP:20260421T135935Z
DESCRIPTION:
DTSTART:20250527T081500Z
DTEND:20250527T094500Z
LOCATION:E1.3 HS003
SUMMARY:Proofs: Lecture
END:VEVENT
BEGIN:VEVENT
UID:66643665-3934-4238-b538-303632343865
DTSTAMP:20260421T135935Z
DESCRIPTION:
DTSTART:20250603T081500Z
DTEND:20250603T094500Z
LOCATION:E1.3 HS003
SUMMARY:Proofs: Lecture
END:VEVENT
BEGIN:VEVENT
UID:39343938-6135-4130-b262-616333633633
DTSTAMP:20260421T135935Z
DESCRIPTION:
DTSTART:20250610T081500Z
DTEND:20250610T094500Z
LOCATION:E1.3 HS003
SUMMARY:Proofs: Lecture
END:VEVENT
BEGIN:VEVENT
UID:36366533-3639-4132-a132-353061613039
DTSTAMP:20260421T135935Z
DESCRIPTION:
DTSTART:20250617T081500Z
DTEND:20250617T094500Z
LOCATION:E1.3 HS003
SUMMARY:Proofs: Lecture
END:VEVENT
BEGIN:VEVENT
UID:65343739-6264-4936-a438-613735626237
DTSTAMP:20260421T135935Z
DESCRIPTION:
DTSTART:20250624T081500Z
DTEND:20250624T094500Z
LOCATION:E1.3 HS003
SUMMARY:Proofs: Lecture
END:VEVENT
BEGIN:VEVENT
UID:64663338-3934-4762-b535-393935393931
DTSTAMP:20260421T135935Z
DESCRIPTION:
DTSTART:20250701T081500Z
DTEND:20250701T094500Z
LOCATION:E1.3 HS003
SUMMARY:Proofs: Lecture
END:VEVENT
BEGIN:VEVENT
UID:62363965-3961-4136-a533-343937653134
DTSTAMP:20260421T135935Z
DESCRIPTION:
DTSTART:20250708T081500Z
DTEND:20250708T094500Z
LOCATION:E1.3 HS003
SUMMARY:Proofs: Lecture
END:VEVENT
BEGIN:VEVENT
UID:34353365-6431-4032-b362-363039356332
DTSTAMP:20260421T135935Z
DESCRIPTION:
DTSTART:20250715T081500Z
DTEND:20250715T094500Z
LOCATION:E1.3 HS003
SUMMARY:Proofs: Lecture
END:VEVENT
END:VCALENDAR
