BEGIN:VCALENDAR
VERSION:2.0
PRODID:-//127.0.1.1//NONSGML kigkonsult.se iCalcreator 2.41.92//
CALSCALE:GREGORIAN
METHOD:PUBLISH
UID:63393436-3263-4430-a330-353863323666
X-WR-CALNAME:Coinductive Proofs Calendar
X-WR-CALDESC:Events of the lecture Coinductive Proofs
X-WR-TIMEZONE:Europe/Berlin
BEGIN:VEVENT
UID:36636231-6435-4465-b937-393963366134
DTSTAMP:20260421T135846Z
DESCRIPTION:
DTSTART:20250425T081500Z
DTEND:20250425T094500Z
LOCATION:SR014
SUMMARY:Tutorial
END:VEVENT
BEGIN:VEVENT
UID:36313738-6135-4132-b335-383066373038
DTSTAMP:20260421T135846Z
DESCRIPTION:
DTSTART:20250502T081500Z
DTEND:20250502T094500Z
LOCATION:SR014
SUMMARY:Tutorial
END:VEVENT
BEGIN:VEVENT
UID:65613062-3531-4131-b333-663236303239
DTSTAMP:20260421T135846Z
DESCRIPTION:
DTSTART:20250509T081500Z
DTEND:20250509T094500Z
LOCATION:SR014
SUMMARY:Tutorial
END:VEVENT
BEGIN:VEVENT
UID:33353464-3032-4165-a663-353464386363
DTSTAMP:20260421T135846Z
DESCRIPTION:
DTSTART:20250516T081500Z
DTEND:20250516T094500Z
LOCATION:SR014
SUMMARY:Tutorial
END:VEVENT
BEGIN:VEVENT
UID:39633164-6434-4662-b233-313538653966
DTSTAMP:20260421T135846Z
DESCRIPTION:
DTSTART:20250523T081500Z
DTEND:20250523T094500Z
LOCATION:SR014
SUMMARY:Tutorial
END:VEVENT
BEGIN:VEVENT
UID:31323966-3262-4037-b231-663330633664
DTSTAMP:20260421T135846Z
DESCRIPTION:
DTSTART:20250530T081500Z
DTEND:20250530T094500Z
LOCATION:SR014
SUMMARY:Tutorial
END:VEVENT
BEGIN:VEVENT
UID:63386661-3732-4435-b538-643332393861
DTSTAMP:20260421T135846Z
DESCRIPTION:
DTSTART:20250606T081500Z
DTEND:20250606T094500Z
LOCATION:SR014
SUMMARY:Tutorial
END:VEVENT
BEGIN:VEVENT
UID:36373838-6264-4035-b437-353861373938
DTSTAMP:20260421T135846Z
DESCRIPTION:
DTSTART:20250613T081500Z
DTEND:20250613T094500Z
LOCATION:SR014
SUMMARY:Tutorial
END:VEVENT
BEGIN:VEVENT
UID:61613762-3236-4233-a461-656563646362
DTSTAMP:20260421T135846Z
DESCRIPTION:
DTSTART:20250620T081500Z
DTEND:20250620T094500Z
LOCATION:SR014
SUMMARY:Tutorial
END:VEVENT
BEGIN:VEVENT
UID:31356337-3366-4534-b231-393061373265
DTSTAMP:20260421T135846Z
DESCRIPTION:
DTSTART:20250627T081500Z
DTEND:20250627T094500Z
LOCATION:SR014
SUMMARY:Tutorial
END:VEVENT
BEGIN:VEVENT
UID:37636566-3038-4831-b235-343366383066
DTSTAMP:20260421T135846Z
DESCRIPTION:
DTSTART:20250704T081500Z
DTEND:20250704T094500Z
LOCATION:SR014
SUMMARY:Tutorial
END:VEVENT
BEGIN:VEVENT
UID:33383364-3334-4164-b561-306163333239
DTSTAMP:20260421T135846Z
DESCRIPTION:
DTSTART:20250711T081500Z
DTEND:20250711T094500Z
LOCATION:SR014
SUMMARY:Tutorial
END:VEVENT
BEGIN:VEVENT
UID:66383431-6531-4330-a361-373830353039
DTSTAMP:20260421T135846Z
DESCRIPTION:
DTSTART:20250718T081500Z
DTEND:20250718T094500Z
LOCATION:SR014
SUMMARY:Tutorial
END:VEVENT
END:VCALENDAR
