BEGIN:VCALENDAR
VERSION:2.0
PRODID:-//127.0.1.1//NONSGML kigkonsult.se iCalcreator 2.41.92//
CALSCALE:GREGORIAN
METHOD:PUBLISH
UID:63646565-3731-4737-a132-616235343838
X-WR-CALNAME:Coinductive Proofs Calendar
X-WR-CALDESC:Events of the lecture Coinductive Proofs
X-WR-TIMEZONE:Europe/Berlin
BEGIN:VEVENT
UID:38666237-3362-4163-a664-613434643936
DTSTAMP:20260421T135905Z
DESCRIPTION:
DTSTART;VALUE=DATE:20250807
DTEND;VALUE=DATE:20250808
LOCATION:E1.3 HS002
SUMMARY:Proofs: Main Exam
END:VEVENT
BEGIN:VEVENT
UID:33666262-6439-4238-b832-393039363638
DTSTAMP:20260421T135905Z
DESCRIPTION:
DTSTART;VALUE=DATE:20250929
DTEND;VALUE=DATE:20250930
LOCATION:E1.3 HS002
SUMMARY:Proofs: Re-Exam
END:VEVENT
END:VCALENDAR
