BEGIN:VCALENDAR
VERSION:2.0
PRODID:-//127.0.1.1//NONSGML kigkonsult.se iCalcreator 2.41.92//
CALSCALE:GREGORIAN
METHOD:PUBLISH
UID:62643366-3962-4934-b165-376535623633
X-WR-CALNAME:Coinductive Proofs Calendar
X-WR-CALDESC:Events of the lecture Coinductive Proofs
X-WR-TIMEZONE:Europe/Berlin
BEGIN:VEVENT
UID:38323862-6466-4530-a233-623863346132
DTSTAMP:20260421T135905Z
DESCRIPTION:
DTSTART:20250923T080000Z
DTEND:20250923T100000Z
LOCATION:0.07 in C0 (CISPA)
SUMMARY:Proofs: Office Hour
END:VEVENT
END:VCALENDAR
