BEGIN:VCALENDAR
VERSION:2.0
PRODID:-//127.0.1.1//NONSGML kigkonsult.se iCalcreator 2.41.92//
CALSCALE:GREGORIAN
METHOD:PUBLISH
UID:39613962-3964-4362-a135-376261313963
X-WR-CALNAME:(p)SADWeb: (Pro)Seminar on Attacks & Defense on the Web Calend
 ar
X-WR-CALDESC:Events of the lecture (p)SADWeb: (Pro)Seminar on Attacks & Def
 ense on the Web
X-WR-TIMEZONE:Europe/Berlin
BEGIN:VEVENT
UID:36393666-3338-4833-b032-626431373263
DTSTAMP:20260425T174538Z
DESCRIPTION:
DTSTART:20210505T120000Z
DTEND:20210505T140000Z
LOCATION:Zoom
SUMMARY:Seminar Session
END:VEVENT
BEGIN:VEVENT
UID:66363635-6337-4337-a538-386337653139
DTSTAMP:20260425T174538Z
DESCRIPTION:
DTSTART:20210512T120000Z
DTEND:20210512T140000Z
LOCATION:Zoom
SUMMARY:Seminar Session
END:VEVENT
BEGIN:VEVENT
UID:62343231-3633-4130-a138-303632363031
DTSTAMP:20260425T174538Z
DESCRIPTION:
DTSTART:20210519T120000Z
DTEND:20210519T140000Z
LOCATION:Zoom
SUMMARY:Seminar Session
END:VEVENT
BEGIN:VEVENT
UID:61663632-3238-4366-b739-306532346639
DTSTAMP:20260425T174538Z
DESCRIPTION:
DTSTART:20210526T120000Z
DTEND:20210526T140000Z
LOCATION:Zoom
SUMMARY:Seminar Session
END:VEVENT
BEGIN:VEVENT
UID:35656165-6666-4035-a233-303435653839
DTSTAMP:20260425T174538Z
DESCRIPTION:
DTSTART:20210602T120000Z
DTEND:20210602T140000Z
LOCATION:Zoom
SUMMARY:Seminar Session
END:VEVENT
BEGIN:VEVENT
UID:33653739-3861-4663-b565-613936306130
DTSTAMP:20260425T174538Z
DESCRIPTION:
DTSTART:20210609T120000Z
DTEND:20210609T140000Z
LOCATION:Zoom
SUMMARY:Seminar Session
END:VEVENT
BEGIN:VEVENT
UID:63323464-3062-4466-b264-313434323036
DTSTAMP:20260425T174538Z
DESCRIPTION:
DTSTART:20210616T120000Z
DTEND:20210616T140000Z
LOCATION:Zoom
SUMMARY:Seminar Session
END:VEVENT
BEGIN:VEVENT
UID:30616366-3435-4264-b533-366465353130
DTSTAMP:20260425T174538Z
DESCRIPTION:
DTSTART:20210623T120000Z
DTEND:20210623T140000Z
LOCATION:Zoom
SUMMARY:Seminar Session
END:VEVENT
BEGIN:VEVENT
UID:66333937-6261-4534-a463-653664356566
DTSTAMP:20260425T174538Z
DESCRIPTION:
DTSTART:20210630T120000Z
DTEND:20210630T140000Z
LOCATION:Zoom
SUMMARY:Seminar Session
END:VEVENT
BEGIN:VEVENT
UID:61626634-3538-4138-a537-653464323763
DTSTAMP:20260425T174538Z
DESCRIPTION:
DTSTART:20210707T120000Z
DTEND:20210707T140000Z
LOCATION:Zoom
SUMMARY:Seminar Session
END:VEVENT
BEGIN:VEVENT
UID:35353838-3032-4265-a363-373261343534
DTSTAMP:20260425T174538Z
DESCRIPTION:
DTSTART:20210714T120000Z
DTEND:20210714T140000Z
LOCATION:Zoom
SUMMARY:Seminar Session
END:VEVENT
BEGIN:VEVENT
UID:62613338-3835-4434-b833-643163363030
DTSTAMP:20260425T174538Z
DESCRIPTION:
DTSTART:20210721T120000Z
DTEND:20210721T140000Z
LOCATION:Zoom
SUMMARY:Seminar Session
END:VEVENT
END:VCALENDAR
