BEGIN:VCALENDAR
VERSION:2.0
PRODID:-//127.0.1.1//NONSGML kigkonsult.se iCalcreator 2.41.92//
CALSCALE:GREGORIAN
METHOD:PUBLISH
UID:33323138-6566-4164-b538-353639336436
X-WR-CALNAME:(p)SADWeb: (Pro)Seminar on Attacks & Defense on the Web Calend
 ar
X-WR-CALDESC:Events of the lecture (p)SADWeb: (Pro)Seminar on Attacks & Def
 ense on the Web
X-WR-TIMEZONE:Europe/Berlin
BEGIN:VEVENT
UID:62326639-3539-4934-b738-393939383461
DTSTAMP:20260425T174823Z
DESCRIPTION:
DTSTART:20210505T120000Z
DTEND:20210505T140000Z
LOCATION:Zoom
SUMMARY:Psadweb: Seminar Session
END:VEVENT
BEGIN:VEVENT
UID:65623364-6437-4732-b435-613430376330
DTSTAMP:20260425T174823Z
DESCRIPTION:
DTSTART:20210512T120000Z
DTEND:20210512T140000Z
LOCATION:Zoom
SUMMARY:Psadweb: Seminar Session
END:VEVENT
BEGIN:VEVENT
UID:33393263-3136-4637-b137-623665663563
DTSTAMP:20260425T174823Z
DESCRIPTION:
DTSTART:20210519T120000Z
DTEND:20210519T140000Z
LOCATION:Zoom
SUMMARY:Psadweb: Seminar Session
END:VEVENT
BEGIN:VEVENT
UID:65313234-3338-4464-b536-396137376566
DTSTAMP:20260425T174823Z
DESCRIPTION:
DTSTART:20210526T120000Z
DTEND:20210526T140000Z
LOCATION:Zoom
SUMMARY:Psadweb: Seminar Session
END:VEVENT
BEGIN:VEVENT
UID:61613064-3537-4234-b665-316532343337
DTSTAMP:20260425T174823Z
DESCRIPTION:
DTSTART:20210602T120000Z
DTEND:20210602T140000Z
LOCATION:Zoom
SUMMARY:Psadweb: Seminar Session
END:VEVENT
BEGIN:VEVENT
UID:32323664-3264-4662-b338-663334656465
DTSTAMP:20260425T174823Z
DESCRIPTION:
DTSTART:20210609T120000Z
DTEND:20210609T140000Z
LOCATION:Zoom
SUMMARY:Psadweb: Seminar Session
END:VEVENT
BEGIN:VEVENT
UID:33653065-3931-4133-b563-363964613639
DTSTAMP:20260425T174823Z
DESCRIPTION:
DTSTART:20210616T120000Z
DTEND:20210616T140000Z
LOCATION:Zoom
SUMMARY:Psadweb: Seminar Session
END:VEVENT
BEGIN:VEVENT
UID:32623963-3631-4365-b239-653037383264
DTSTAMP:20260425T174823Z
DESCRIPTION:
DTSTART:20210623T120000Z
DTEND:20210623T140000Z
LOCATION:Zoom
SUMMARY:Psadweb: Seminar Session
END:VEVENT
BEGIN:VEVENT
UID:64383139-3730-4034-b638-313434626336
DTSTAMP:20260425T174823Z
DESCRIPTION:
DTSTART:20210630T120000Z
DTEND:20210630T140000Z
LOCATION:Zoom
SUMMARY:Psadweb: Seminar Session
END:VEVENT
BEGIN:VEVENT
UID:34393433-6264-4163-b431-376637346134
DTSTAMP:20260425T174823Z
DESCRIPTION:
DTSTART:20210707T120000Z
DTEND:20210707T140000Z
LOCATION:Zoom
SUMMARY:Psadweb: Seminar Session
END:VEVENT
BEGIN:VEVENT
UID:66626231-6464-4939-b439-343032323636
DTSTAMP:20260425T174823Z
DESCRIPTION:
DTSTART:20210714T120000Z
DTEND:20210714T140000Z
LOCATION:Zoom
SUMMARY:Psadweb: Seminar Session
END:VEVENT
BEGIN:VEVENT
UID:62396534-6135-4130-a264-383237653736
DTSTAMP:20260425T174823Z
DESCRIPTION:
DTSTART:20210721T120000Z
DTEND:20210721T140000Z
LOCATION:Zoom
SUMMARY:Psadweb: Seminar Session
END:VEVENT
END:VCALENDAR
