BEGIN:VCALENDAR
VERSION:2.0
PRODID:-//127.0.1.1//NONSGML kigkonsult.se iCalcreator 2.41.92//
CALSCALE:GREGORIAN
METHOD:PUBLISH
UID:62353833-6236-4636-b763-653262636138
X-WR-CALNAME:Parameterized Verification Calendar
X-WR-CALDESC:Events of the lecture Parameterized Verification
X-WR-TIMEZONE:Europe/Berlin
BEGIN:VEVENT
UID:64663838-6437-4232-b066-656431383833
DTSTAMP:20260421T101712Z
DESCRIPTION:
DTSTART:20190411T121500Z
DTEND:20190411T140000Z
LOCATION:E9 1\, Room 0.05
SUMMARY:Lecture
END:VEVENT
BEGIN:VEVENT
UID:33326638-3163-4863-a433-386537613561
DTSTAMP:20260421T101712Z
DESCRIPTION:
DTSTART:20190418T121500Z
DTEND:20190418T140000Z
LOCATION:E9 1\, Room 0.05
SUMMARY:Lecture
END:VEVENT
BEGIN:VEVENT
UID:64633963-6439-4533-b332-316330303436
DTSTAMP:20260421T101712Z
DESCRIPTION:
DTSTART:20190425T121500Z
DTEND:20190425T140000Z
LOCATION:E9 1\, Room 0.05
SUMMARY:Lecture
END:VEVENT
BEGIN:VEVENT
UID:34656432-3265-4165-b963-363366353063
DTSTAMP:20260421T101712Z
DESCRIPTION:
DTSTART:20190502T121500Z
DTEND:20190502T140000Z
LOCATION:E9 1\, Room 0.05
SUMMARY:Lecture
END:VEVENT
BEGIN:VEVENT
UID:65663364-3038-4236-a465-326266663762
DTSTAMP:20260421T101712Z
DESCRIPTION:
DTSTART:20190509T121500Z
DTEND:20190509T140000Z
LOCATION:E9 1\, Room 0.05
SUMMARY:Lecture
END:VEVENT
BEGIN:VEVENT
UID:61336464-6164-4462-a533-666239323139
DTSTAMP:20260421T101712Z
DESCRIPTION:
DTSTART:20190516T121500Z
DTEND:20190516T140000Z
LOCATION:E9 1\, Room 0.05
SUMMARY:Lecture
END:VEVENT
BEGIN:VEVENT
UID:33653663-3031-4130-b936-663465623234
DTSTAMP:20260421T101712Z
DESCRIPTION:
DTSTART:20190523T121500Z
DTEND:20190523T140000Z
LOCATION:E9 1\, Room 0.05
SUMMARY:Lecture
END:VEVENT
BEGIN:VEVENT
UID:30356335-3761-4536-b766-343039386234
DTSTAMP:20260421T101712Z
DESCRIPTION:
DTSTART:20190606T121500Z
DTEND:20190606T140000Z
LOCATION:E9 1\, Room 0.05
SUMMARY:Lecture
END:VEVENT
BEGIN:VEVENT
UID:37663337-6562-4264-b630-633437396333
DTSTAMP:20260421T101712Z
DESCRIPTION:
DTSTART:20190613T121500Z
DTEND:20190613T140000Z
LOCATION:E9 1\, Room 0.05
SUMMARY:Lecture
END:VEVENT
BEGIN:VEVENT
UID:65336439-6262-4661-a332-656430343537
DTSTAMP:20260421T101712Z
DESCRIPTION:
DTSTART:20190627T121500Z
DTEND:20190627T140000Z
LOCATION:E9 1\, Room 0.05
SUMMARY:Lecture
END:VEVENT
BEGIN:VEVENT
UID:66373631-3939-4032-b834-393438363838
DTSTAMP:20260421T101712Z
DESCRIPTION:
DTSTART:20190704T121500Z
DTEND:20190704T140000Z
LOCATION:E9 1\, Room 0.05
SUMMARY:Lecture
END:VEVENT
BEGIN:VEVENT
UID:61613736-6161-4230-b431-623263653262
DTSTAMP:20260421T101712Z
DESCRIPTION:
DTSTART:20190711T121500Z
DTEND:20190711T140000Z
LOCATION:E9 1\, Room 0.05
SUMMARY:Lecture
END:VEVENT
BEGIN:VEVENT
UID:32663232-3262-4536-a137-303064616536
DTSTAMP:20260421T101712Z
DESCRIPTION:
DTSTART:20190718T121500Z
DTEND:20190718T140000Z
LOCATION:E9 1\, Room 0.05
SUMMARY:Lecture
END:VEVENT
END:VCALENDAR
