BEGIN:VCALENDAR
VERSION:2.0
PRODID:-//127.0.1.1//NONSGML kigkonsult.se iCalcreator 2.41.92//
CALSCALE:GREGORIAN
METHOD:PUBLISH
UID:30656432-6664-4365-b735-346661306665
X-WR-CALNAME:Parameterized Verification Calendar
X-WR-CALDESC:Events of the lecture Parameterized Verification
X-WR-TIMEZONE:Europe/Berlin
BEGIN:VEVENT
UID:35613735-3832-4430-b139-626535633734
DTSTAMP:20260421T101904Z
DESCRIPTION:
DTSTART:20190411T121500Z
DTEND:20190411T140000Z
LOCATION:E9 1\, Room 0.05
SUMMARY:Pv19: Lecture
END:VEVENT
BEGIN:VEVENT
UID:35333134-6564-4630-a431-396561376236
DTSTAMP:20260421T101904Z
DESCRIPTION:
DTSTART:20190418T121500Z
DTEND:20190418T140000Z
LOCATION:E9 1\, Room 0.05
SUMMARY:Pv19: Lecture
END:VEVENT
BEGIN:VEVENT
UID:38393939-3136-4835-b130-343264383138
DTSTAMP:20260421T101904Z
DESCRIPTION:
DTSTART:20190425T121500Z
DTEND:20190425T140000Z
LOCATION:E9 1\, Room 0.05
SUMMARY:Pv19: Lecture
END:VEVENT
BEGIN:VEVENT
UID:65396462-6138-4437-a264-383464343131
DTSTAMP:20260421T101904Z
DESCRIPTION:
DTSTART:20190502T121500Z
DTEND:20190502T140000Z
LOCATION:E9 1\, Room 0.05
SUMMARY:Pv19: Lecture
END:VEVENT
BEGIN:VEVENT
UID:31393864-6139-4633-a361-663964336235
DTSTAMP:20260421T101904Z
DESCRIPTION:
DTSTART:20190509T121500Z
DTEND:20190509T140000Z
LOCATION:E9 1\, Room 0.05
SUMMARY:Pv19: Lecture
END:VEVENT
BEGIN:VEVENT
UID:62363930-6262-4362-b033-393433666435
DTSTAMP:20260421T101904Z
DESCRIPTION:
DTSTART:20190516T121500Z
DTEND:20190516T140000Z
LOCATION:E9 1\, Room 0.05
SUMMARY:Pv19: Lecture
END:VEVENT
BEGIN:VEVENT
UID:37383030-6564-4438-b935-626538353632
DTSTAMP:20260421T101904Z
DESCRIPTION:
DTSTART:20190523T121500Z
DTEND:20190523T140000Z
LOCATION:E9 1\, Room 0.05
SUMMARY:Pv19: Lecture
END:VEVENT
BEGIN:VEVENT
UID:36353364-3636-4665-b432-393032616363
DTSTAMP:20260421T101904Z
DESCRIPTION:
DTSTART:20190606T121500Z
DTEND:20190606T140000Z
LOCATION:E9 1\, Room 0.05
SUMMARY:Pv19: Lecture
END:VEVENT
BEGIN:VEVENT
UID:63346366-3537-4639-a333-663735613237
DTSTAMP:20260421T101904Z
DESCRIPTION:
DTSTART:20190613T121500Z
DTEND:20190613T140000Z
LOCATION:E9 1\, Room 0.05
SUMMARY:Pv19: Lecture
END:VEVENT
BEGIN:VEVENT
UID:36663439-6532-4935-a538-326135663535
DTSTAMP:20260421T101904Z
DESCRIPTION:
DTSTART:20190627T121500Z
DTEND:20190627T140000Z
LOCATION:E9 1\, Room 0.05
SUMMARY:Pv19: Lecture
END:VEVENT
BEGIN:VEVENT
UID:32396538-3664-4434-b539-616636636662
DTSTAMP:20260421T101904Z
DESCRIPTION:
DTSTART:20190704T121500Z
DTEND:20190704T140000Z
LOCATION:E9 1\, Room 0.05
SUMMARY:Pv19: Lecture
END:VEVENT
BEGIN:VEVENT
UID:64313430-3665-4264-b437-373831303935
DTSTAMP:20260421T101904Z
DESCRIPTION:
DTSTART:20190711T121500Z
DTEND:20190711T140000Z
LOCATION:E9 1\, Room 0.05
SUMMARY:Pv19: Lecture
END:VEVENT
BEGIN:VEVENT
UID:33373231-3363-4666-a666-643938323562
DTSTAMP:20260421T101904Z
DESCRIPTION:
DTSTART:20190718T121500Z
DTEND:20190718T140000Z
LOCATION:E9 1\, Room 0.05
SUMMARY:Pv19: Lecture
END:VEVENT
END:VCALENDAR
