BEGIN:VCALENDAR
VERSION:2.0
PRODID:-//127.0.1.1//NONSGML kigkonsult.se iCalcreator 2.41.92//
CALSCALE:GREGORIAN
METHOD:PUBLISH
UID:31313839-3133-4661-b233-306363383737
X-WR-CALNAME:From Program Verification to Synthesis Calendar
X-WR-CALDESC:Events of the lecture From Program Verification to Synthesis
X-WR-TIMEZONE:Europe/Berlin
BEGIN:VEVENT
UID:31643435-6339-4161-a661-323762373534
DTSTAMP:20260421T085458Z
DESCRIPTION:
DTSTART:20220427T081500Z
DTEND:20220427T094500Z
LOCATION:Room 1.06 in E1 1 and online
SUMMARY:Kick-Off
END:VEVENT
END:VCALENDAR
