BEGIN:VCALENDAR
VERSION:2.0
PRODID:-//127.0.1.1//NONSGML kigkonsult.se iCalcreator 2.41.92//
CALSCALE:GREGORIAN
METHOD:PUBLISH
UID:33643265-3035-4236-a163-616637323532
X-WR-CALNAME:From Program Verification to Synthesis Calendar
X-WR-CALDESC:Events of the lecture From Program Verification to Synthesis
X-WR-TIMEZONE:Europe/Berlin
BEGIN:VEVENT
UID:33313635-6636-4332-a139-646633373335
DTSTAMP:20260421T085407Z
DESCRIPTION:
DTSTART:20220601T081500Z
DTEND:20220601T094500Z
LOCATION:Room 1.06 in E1 1 and online
SUMMARY:Practcice Talks 1 + 2
END:VEVENT
BEGIN:VEVENT
UID:65663963-3965-4130-b864-363233353135
DTSTAMP:20260421T085407Z
DESCRIPTION:
DTSTART:20220608T081500Z
DTEND:20220608T094500Z
LOCATION:Room 1.06 in E1 1 and online
SUMMARY:Practcice Talks 3 + 4
END:VEVENT
END:VCALENDAR
