BEGIN:VCALENDAR
VERSION:2.0
PRODID:-//127.0.1.1//NONSGML kigkonsult.se iCalcreator 2.41.92//
CALSCALE:GREGORIAN
METHOD:PUBLISH
UID:39383933-6430-4564-a462-376466643437
X-WR-CALNAME:From Program Verification to Synthesis Calendar
X-WR-CALDESC:Events of the lecture From Program Verification to Synthesis
X-WR-TIMEZONE:Europe/Berlin
BEGIN:VEVENT
UID:30303332-3335-4339-a464-623831363066
DTSTAMP:20260421T085836Z
DESCRIPTION:
DTSTART;VALUE=DATE:20220722
DTEND;VALUE=DATE:20220723
SUMMARY:Pvs: Summary Soft Deadline
END:VEVENT
BEGIN:VEVENT
UID:38623732-3463-4037-b536-333830653034
DTSTAMP:20260421T085836Z
DESCRIPTION:
DTSTART;VALUE=DATE:20220729
DTEND;VALUE=DATE:20220730
SUMMARY:Pvs: Summary Deadline
END:VEVENT
END:VCALENDAR
