BEGIN:VCALENDAR
VERSION:2.0
PRODID:-//127.0.1.1//NONSGML kigkonsult.se iCalcreator 2.41.92//
CALSCALE:GREGORIAN
METHOD:PUBLISH
UID:33373533-6534-4637-b266-353530666262
X-WR-CALNAME:From Program Verification to Synthesis Calendar
X-WR-CALDESC:Events of the lecture From Program Verification to Synthesis
X-WR-TIMEZONE:Europe/Berlin
BEGIN:VEVENT
UID:36666265-3661-4563-b532-376466653130
DTSTAMP:20260421T085407Z
DESCRIPTION:
DTSTART:20220427T081500Z
DTEND:20220427T094500Z
LOCATION:Room 1.06 in E1 1 and online
SUMMARY:Pvs: Kick-Off
END:VEVENT
BEGIN:VEVENT
UID:35353565-6265-4031-b736-386137373561
DTSTAMP:20260421T085407Z
DESCRIPTION:
DTSTART:20220504T081500Z
DTEND:20220504T084500Z
LOCATION:Room 1.06 in E1 1 and online
SUMMARY:Pvs: Background - Automata and LTL
END:VEVENT
BEGIN:VEVENT
UID:61623332-3232-4734-a633-373938343236
DTSTAMP:20260421T085407Z
DESCRIPTION:
DTSTART:20220511T081500Z
DTEND:20220511T094500Z
LOCATION:Room 1.06 in E1 1 and online
SUMMARY:Pvs: Background - Infinite Games
END:VEVENT
BEGIN:VEVENT
UID:66616663-3733-4965-b866-396362316565
DTSTAMP:20260421T085407Z
DESCRIPTION:
DTSTART:20220525T081500Z
DTEND:20220525T094500Z
LOCATION:Room 1.06 in E1 1 and online
SUMMARY:Pvs: How To Give a Great Talk
END:VEVENT
BEGIN:VEVENT
UID:61363539-3533-4035-a661-646139383138
DTSTAMP:20260421T085407Z
DESCRIPTION:
DTSTART:20220601T081500Z
DTEND:20220601T094500Z
LOCATION:Room 1.06 in E1 1 and online
SUMMARY:Pvs: Practcice Talks 1 + 2
END:VEVENT
BEGIN:VEVENT
UID:63373563-3738-4862-b763-336565393632
DTSTAMP:20260421T085407Z
DESCRIPTION:
DTSTART:20220608T081500Z
DTEND:20220608T094500Z
LOCATION:Room 1.06 in E1 1 and online
SUMMARY:Pvs: Practcice Talks 3 + 4
END:VEVENT
BEGIN:VEVENT
UID:61326164-6131-4764-b566-386133376563
DTSTAMP:20260421T085407Z
DESCRIPTION:
DTSTART:20220629T081500Z
DTEND:20220629T081500Z
LOCATION:Room 1.06 in E1 1 and online
SUMMARY:Pvs: Talks 1 + 2
END:VEVENT
BEGIN:VEVENT
UID:64393735-6430-4564-b632-343139356438
DTSTAMP:20260421T085407Z
DESCRIPTION:
DTSTART:20220706T081500Z
DTEND:20220706T081500Z
LOCATION:Room 1.06 in E1 1 and online
SUMMARY:Pvs: Talk 3
END:VEVENT
BEGIN:VEVENT
UID:33356435-6162-4039-b931-663233376535
DTSTAMP:20260421T085407Z
DESCRIPTION:
DTSTART;VALUE=DATE:20220722
DTEND;VALUE=DATE:20220723
SUMMARY:Pvs: Summary Soft Deadline
END:VEVENT
BEGIN:VEVENT
UID:37626464-6232-4366-a538-633139653035
DTSTAMP:20260421T085407Z
DESCRIPTION:
DTSTART;VALUE=DATE:20220729
DTEND;VALUE=DATE:20220730
SUMMARY:Pvs: Summary Deadline
END:VEVENT
END:VCALENDAR
